BEGIN:VCALENDAR
VERSION:2.0
PRODID:-//Downtown Littleton - ECPv6.15.18//NONSGML v1.0//EN
CALSCALE:GREGORIAN
METHOD:PUBLISH
X-WR-CALNAME:Downtown Littleton
X-ORIGINAL-URL:https://littletondda.org
X-WR-CALDESC:Events for Downtown Littleton
REFRESH-INTERVAL;VALUE=DURATION:PT1H
X-Robots-Tag:noindex
X-PUBLISHED-TTL:PT1H
BEGIN:VTIMEZONE
TZID:America/Denver
BEGIN:DAYLIGHT
TZOFFSETFROM:-0700
TZOFFSETTO:-0600
TZNAME:MDT
DTSTART:20230312T090000
END:DAYLIGHT
BEGIN:STANDARD
TZOFFSETFROM:-0600
TZOFFSETTO:-0700
TZNAME:MST
DTSTART:20231105T080000
END:STANDARD
BEGIN:DAYLIGHT
TZOFFSETFROM:-0700
TZOFFSETTO:-0600
TZNAME:MDT
DTSTART:20240310T090000
END:DAYLIGHT
BEGIN:STANDARD
TZOFFSETFROM:-0600
TZOFFSETTO:-0700
TZNAME:MST
DTSTART:20241103T080000
END:STANDARD
BEGIN:DAYLIGHT
TZOFFSETFROM:-0700
TZOFFSETTO:-0600
TZNAME:MDT
DTSTART:20250309T090000
END:DAYLIGHT
BEGIN:STANDARD
TZOFFSETFROM:-0600
TZOFFSETTO:-0700
TZNAME:MST
DTSTART:20251102T080000
END:STANDARD
END:VTIMEZONE
BEGIN:VEVENT
DTSTART;VALUE=DATE:20240913
DTEND;VALUE=DATE:20240915
DTSTAMP:20260424T211521
CREATED:20240723T171840Z
LAST-MODIFIED:20240723T171840Z
UID:8769-1726185600-1726358399@littletondda.org
SUMMARY:Littleton Community Retreat: Living Sustainably
DESCRIPTION:Protecting our Water While Enjoying our Open Spaces \nThe mission of the Littleton Community Retreat is to educate citizens about issues of importance to the Littleton Community. The Retreat is a community-supported nonprofit run by community volunteers. \nFriday\, September 13th and Saturday\, September 14th. The topic this year is Sustainability\, specifically\, Water Use and Open Space and Recreation. Friday’s session will be at the Buck Center in Littleton in the afternoon. It will be a classroom setting with expert speakers! On Saturday\, we’ll take the information we learned into the field with a morning tour of Denver Botanic Gardens at Chatfield\, a Community Lunch at noon\, and a bike tour along a portion of the South Platte River\, from South Platte Park to South Platte Renew. Look for more details on the ‘Coming Events’ tab.
URL:https://littletondda.org/event/littleton-community-retreat-living-sustainably/
LOCATION:Douglas H. Buck Community Recreation Center\, 2004 W Powers Ave\, Littleton\, CO\, 80120\, United States
CATEGORIES:Charity
ATTACH;FMTTYPE=application/pdf:https://littletondda.org/wp-content/uploads/2024/07/Final-LCR_Postcard.pdf
END:VEVENT
END:VCALENDAR