BEGIN:VCALENDAR
VERSION:2.0
PRODID:-//Downtown Littleton - ECPv6.15.18//NONSGML v1.0//EN
CALSCALE:GREGORIAN
METHOD:PUBLISH
X-WR-CALNAME:Downtown Littleton
X-ORIGINAL-URL:https://littletondda.org
X-WR-CALDESC:Events for Downtown Littleton
REFRESH-INTERVAL;VALUE=DURATION:PT1H
X-Robots-Tag:noindex
X-PUBLISHED-TTL:PT1H
BEGIN:VTIMEZONE
TZID:America/Denver
BEGIN:DAYLIGHT
TZOFFSETFROM:-0700
TZOFFSETTO:-0600
TZNAME:MDT
DTSTART:20230312T090000
END:DAYLIGHT
BEGIN:STANDARD
TZOFFSETFROM:-0600
TZOFFSETTO:-0700
TZNAME:MST
DTSTART:20231105T080000
END:STANDARD
BEGIN:DAYLIGHT
TZOFFSETFROM:-0700
TZOFFSETTO:-0600
TZNAME:MDT
DTSTART:20240310T090000
END:DAYLIGHT
BEGIN:STANDARD
TZOFFSETFROM:-0600
TZOFFSETTO:-0700
TZNAME:MST
DTSTART:20241103T080000
END:STANDARD
BEGIN:DAYLIGHT
TZOFFSETFROM:-0700
TZOFFSETTO:-0600
TZNAME:MDT
DTSTART:20250309T090000
END:DAYLIGHT
BEGIN:STANDARD
TZOFFSETFROM:-0600
TZOFFSETTO:-0700
TZNAME:MST
DTSTART:20251102T080000
END:STANDARD
END:VTIMEZONE
BEGIN:VEVENT
DTSTART;TZID=America/Denver:20240926T183000
DTEND;TZID=America/Denver:20240926T210000
DTSTAMP:20260424T211521
CREATED:20240911T194206Z
LAST-MODIFIED:20240911T194206Z
UID:8792-1727375400-1727384400@littletondda.org
SUMMARY:Art\, Wine & Design
DESCRIPTION:On Thursday\, September 26\, 2024\, from 6:30 to 9:00pm\, the ACC Art & Design Center and ACC Foundation will host Art\, Wine & Design\, a soiree of creativity and exploration! Faculty from the Art & Design Center will offer 30-minute hands-on projects in various mediums including photography\, silk-screening\, ceramics\, jewelry and more. Come share creative experiences and build community connections! \nArt exhibitions featuring ACC’s talented students will create fun and off-the cuff icebreakers\, as will our silent auction.
URL:https://littletondda.org/event/art-wine-design/
LOCATION:Arapahoe Community College\, 5900 S. Santa Fe Drive\, Littleton\, CO\, 80120\, United States
CATEGORIES:Charity,Visual & Performing Arts
ATTACH;FMTTYPE=image/jpeg:https://littletondda.org/wp-content/uploads/2024/09/art-win-design-2024-web.jpg
END:VEVENT
END:VCALENDAR