BEGIN:VCALENDAR
VERSION:2.0
PRODID:-//Downtown Littleton - ECPv6.15.18//NONSGML v1.0//EN
CALSCALE:GREGORIAN
METHOD:PUBLISH
X-WR-CALNAME:Downtown Littleton
X-ORIGINAL-URL:https://littletondda.org
X-WR-CALDESC:Events for Downtown Littleton
REFRESH-INTERVAL;VALUE=DURATION:PT1H
X-Robots-Tag:noindex
X-PUBLISHED-TTL:PT1H
BEGIN:VTIMEZONE
TZID:America/Denver
BEGIN:DAYLIGHT
TZOFFSETFROM:-0700
TZOFFSETTO:-0600
TZNAME:MDT
DTSTART:20230312T090000
END:DAYLIGHT
BEGIN:STANDARD
TZOFFSETFROM:-0600
TZOFFSETTO:-0700
TZNAME:MST
DTSTART:20231105T080000
END:STANDARD
BEGIN:DAYLIGHT
TZOFFSETFROM:-0700
TZOFFSETTO:-0600
TZNAME:MDT
DTSTART:20240310T090000
END:DAYLIGHT
BEGIN:STANDARD
TZOFFSETFROM:-0600
TZOFFSETTO:-0700
TZNAME:MST
DTSTART:20241103T080000
END:STANDARD
BEGIN:DAYLIGHT
TZOFFSETFROM:-0700
TZOFFSETTO:-0600
TZNAME:MDT
DTSTART:20250309T090000
END:DAYLIGHT
BEGIN:STANDARD
TZOFFSETFROM:-0600
TZOFFSETTO:-0700
TZNAME:MST
DTSTART:20251102T080000
END:STANDARD
END:VTIMEZONE
BEGIN:VEVENT
DTSTART;TZID=America/Denver:20241025T190000
DTEND;TZID=America/Denver:20241025T203000
DTSTAMP:20260424T193301
CREATED:20241025T185238Z
LAST-MODIFIED:20241025T185238Z
UID:9192-1729882800-1729888200@littletondda.org
SUMMARY:Haunts of Littleton
DESCRIPTION:Please join us this year for the Haunts of Littleton on October 18th\, 19th\, 25th or 26th. Rich with storied history and actual eyewitness encounters\, the “Haunts” walking tour takes you on a spirited journey through downtown Littleton and reveals many of its centuries-long tales and epicenters of paranormal activity. Tours run every 10 minutes from 7:00 to 8:30 and last about 1 hour each. Guides lead participants from site to site\, where ghoulish storytellers await dressed in period attire from Colorado’s past. Fun for young and old alike\, the tour is a fine mix of facts\, frights\, and tongue-in-cheek muses. New routes and stories are added annually & many patrons return year after year.
URL:https://littletondda.org/event/haunts-of-littleton-4/
LOCATION:Downtown Littleton\, 2516 Main St\, Littleton\, CO\, 80120\, United States
CATEGORIES:Charity,Holidays,Tour
ATTACH;FMTTYPE=image/webp:https://littletondda.org/wp-content/uploads/2024/10/Hauntsw-Logo.webp
END:VEVENT
END:VCALENDAR