BEGIN:VCALENDAR
VERSION:2.0
PRODID:-//Downtown Littleton - ECPv6.15.18//NONSGML v1.0//EN
CALSCALE:GREGORIAN
METHOD:PUBLISH
X-WR-CALNAME:Downtown Littleton
X-ORIGINAL-URL:https://littletondda.org
X-WR-CALDESC:Events for Downtown Littleton
REFRESH-INTERVAL;VALUE=DURATION:PT1H
X-Robots-Tag:noindex
X-PUBLISHED-TTL:PT1H
BEGIN:VTIMEZONE
TZID:America/Denver
BEGIN:DAYLIGHT
TZOFFSETFROM:-0700
TZOFFSETTO:-0600
TZNAME:MDT
DTSTART:20230312T090000
END:DAYLIGHT
BEGIN:STANDARD
TZOFFSETFROM:-0600
TZOFFSETTO:-0700
TZNAME:MST
DTSTART:20231105T080000
END:STANDARD
BEGIN:DAYLIGHT
TZOFFSETFROM:-0700
TZOFFSETTO:-0600
TZNAME:MDT
DTSTART:20240310T090000
END:DAYLIGHT
BEGIN:STANDARD
TZOFFSETFROM:-0600
TZOFFSETTO:-0700
TZNAME:MST
DTSTART:20241103T080000
END:STANDARD
BEGIN:DAYLIGHT
TZOFFSETFROM:-0700
TZOFFSETTO:-0600
TZNAME:MDT
DTSTART:20250309T090000
END:DAYLIGHT
BEGIN:STANDARD
TZOFFSETFROM:-0600
TZOFFSETTO:-0700
TZNAME:MST
DTSTART:20251102T080000
END:STANDARD
END:VTIMEZONE
BEGIN:VEVENT
DTSTART;VALUE=DATE:20241129
DTEND;VALUE=DATE:20241222
DTSTAMP:20260424T164259
CREATED:20241122T184605Z
LAST-MODIFIED:20241122T184605Z
UID:9770-1732838400-1734825599@littletondda.org
SUMMARY:Black+Haus Tavern's Toy Drive
DESCRIPTION:Share the joy\, bring happiness.  Donate new\, unwrapped toys and help make the holiday special for children in need.  Each toy donation earns you one raffle entry for a chance to win a Black+Haus Tavern gift card.
URL:https://littletondda.org/event/blackhaus-taverns-toy-drive/
LOCATION:Black+Haus Tavern Littleton\, 2439 Main Street\, Littleton\, CO\, 80120\, United States
CATEGORIES:Charity,Families,Shopping
ATTACH;FMTTYPE=image/jpeg:https://littletondda.org/wp-content/uploads/2024/11/Toy-Drive-2024.jpg
END:VEVENT
BEGIN:VEVENT
DTSTART;VALUE=DATE:20241210
DTEND;VALUE=DATE:20241211
DTSTAMP:20260424T164259
CREATED:20241118T162455Z
LAST-MODIFIED:20241118T162455Z
UID:9675-1733788800-1733875199@littletondda.org
SUMMARY:Colorado Gives Day
DESCRIPTION:Colorado Gives Day is on December 10\, and early giving opens on November 1.  Support local nonprofits and make an impact  It’s easily the best day to give. \nHere are some nonprofits in Downtown Littleton that participate in Colorado Gives Day: \nDIRT Coffee \nGraceFull Cafe \nTown Hall Arts Center \nACC Foundation \n 
URL:https://littletondda.org/event/colorado-gives-day/
LOCATION:CO
CATEGORIES:Charity
ATTACH;FMTTYPE=image/png:https://littletondda.org/wp-content/uploads/2024/11/download.png
END:VEVENT
END:VCALENDAR