BEGIN:VCALENDAR
VERSION:2.0
PRODID:-//Downtown Littleton - ECPv6.15.18//NONSGML v1.0//EN
CALSCALE:GREGORIAN
METHOD:PUBLISH
X-WR-CALNAME:Downtown Littleton
X-ORIGINAL-URL:https://littletondda.org
X-WR-CALDESC:Events for Downtown Littleton
REFRESH-INTERVAL;VALUE=DURATION:PT1H
X-Robots-Tag:noindex
X-PUBLISHED-TTL:PT1H
BEGIN:VTIMEZONE
TZID:America/Denver
BEGIN:DAYLIGHT
TZOFFSETFROM:-0700
TZOFFSETTO:-0600
TZNAME:MDT
DTSTART:20240310T090000
END:DAYLIGHT
BEGIN:STANDARD
TZOFFSETFROM:-0600
TZOFFSETTO:-0700
TZNAME:MST
DTSTART:20241103T080000
END:STANDARD
BEGIN:DAYLIGHT
TZOFFSETFROM:-0700
TZOFFSETTO:-0600
TZNAME:MDT
DTSTART:20250309T090000
END:DAYLIGHT
BEGIN:STANDARD
TZOFFSETFROM:-0600
TZOFFSETTO:-0700
TZNAME:MST
DTSTART:20251102T080000
END:STANDARD
BEGIN:DAYLIGHT
TZOFFSETFROM:-0700
TZOFFSETTO:-0600
TZNAME:MDT
DTSTART:20260308T090000
END:DAYLIGHT
BEGIN:STANDARD
TZOFFSETFROM:-0600
TZOFFSETTO:-0700
TZNAME:MST
DTSTART:20261101T080000
END:STANDARD
END:VTIMEZONE
BEGIN:VEVENT
DTSTART;TZID=America/Denver:20250719T190000
DTEND;TZID=America/Denver:20250719T230000
DTSTAMP:20260424T061457
CREATED:20250706T050303Z
LAST-MODIFIED:20250706T050303Z
UID:12836-1752951600-1752966000@littletondda.org
SUMMARY:Littleton Q+'s Glitter & Glam Gala
DESCRIPTION:Littleton Q+’s first ever gala! Join us on July 19 for Glitter + Glam\, a night to speakeasy and be seen! This 1920s themed night will feature craft cocktails\, desserts and drag performances from @juiccymisdemeanor! Spaces are quite limited\, so grab your tickets today. \n\n\n\n\nCome for the speakeasy vibes\, stay for the queer joy – and help build safe\, welcoming spaces for all in Littleton.\n\n\n\n\n\n\n\n\nFEATURING:\n>> COCKTAILS \n>> ENTERTAINMENT \n>> DESSERT \n>> COMMUNITY  \n>> AND MORE!
URL:https://littletondda.org/event/littleton-qs-glitter-glam-gala/
LOCATION:Creative Spaces\, 2595 W Alamo Ave\, Littleton\, CO\, 80120\, United States
CATEGORIES:Charity
ATTACH;FMTTYPE=image/png:https://littletondda.org/wp-content/uploads/2025/07/Screenshot-2025-07-05-225924.png
END:VEVENT
END:VCALENDAR