BEGIN:VCALENDAR
VERSION:2.0
PRODID:-//Downtown Littleton - ECPv6.15.18//NONSGML v1.0//EN
CALSCALE:GREGORIAN
METHOD:PUBLISH
X-WR-CALNAME:Downtown Littleton
X-ORIGINAL-URL:https://littletondda.org
X-WR-CALDESC:Events for Downtown Littleton
REFRESH-INTERVAL;VALUE=DURATION:PT1H
X-Robots-Tag:noindex
X-PUBLISHED-TTL:PT1H
BEGIN:VTIMEZONE
TZID:America/Denver
BEGIN:DAYLIGHT
TZOFFSETFROM:-0700
TZOFFSETTO:-0600
TZNAME:MDT
DTSTART:20240310T090000
END:DAYLIGHT
BEGIN:STANDARD
TZOFFSETFROM:-0600
TZOFFSETTO:-0700
TZNAME:MST
DTSTART:20241103T080000
END:STANDARD
BEGIN:DAYLIGHT
TZOFFSETFROM:-0700
TZOFFSETTO:-0600
TZNAME:MDT
DTSTART:20250309T090000
END:DAYLIGHT
BEGIN:STANDARD
TZOFFSETFROM:-0600
TZOFFSETTO:-0700
TZNAME:MST
DTSTART:20251102T080000
END:STANDARD
BEGIN:DAYLIGHT
TZOFFSETFROM:-0700
TZOFFSETTO:-0600
TZNAME:MDT
DTSTART:20260308T090000
END:DAYLIGHT
BEGIN:STANDARD
TZOFFSETFROM:-0600
TZOFFSETTO:-0700
TZNAME:MST
DTSTART:20261101T080000
END:STANDARD
END:VTIMEZONE
BEGIN:VEVENT
DTSTART;TZID=America/Denver:20250823T173000
DTEND;TZID=America/Denver:20250823T213000
DTSTAMP:20260424T051223
CREATED:20250507T195315Z
LAST-MODIFIED:20250507T195315Z
UID:12219-1755970200-1755984600@littletondda.org
SUMMARY:Town Hall Art Center's Ovation Gala
DESCRIPTION:An Ovation\, it’s the highest possible way of praising a performance. And we as a community are taking time to applaud not only what’s happened in the past\, but cheer for what’s possible in the future of this truly iconic landmark. Join us in celebrating 43 years of live performances at Town Hall Arts Center. \nJoin us Saturday\, August 23rd\, 2025\n5:30 – 9:30 PM\nWe’re closing down Main Street between Prince and Nevada to celebrate this community icon. | Rain or shine
URL:https://littletondda.org/event/town-hall-art-centers-ovation-gala/
LOCATION:Town Hall Arts Center\, 2450 Main St\, Littleton\, 80120\, United States
CATEGORIES:Charity,Visual & Performing Arts
ATTACH;FMTTYPE=image/png:https://littletondda.org/wp-content/uploads/2024/06/unnamed-5.png
END:VEVENT
END:VCALENDAR