BEGIN:VCALENDAR
VERSION:2.0
PRODID:-//Downtown Littleton - ECPv6.15.18//NONSGML v1.0//EN
CALSCALE:GREGORIAN
METHOD:PUBLISH
X-ORIGINAL-URL:https://littletondda.org
X-WR-CALDESC:Events for Downtown Littleton
REFRESH-INTERVAL;VALUE=DURATION:PT1H
X-Robots-Tag:noindex
X-PUBLISHED-TTL:PT1H
BEGIN:VTIMEZONE
TZID:America/Denver
BEGIN:DAYLIGHT
TZOFFSETFROM:-0700
TZOFFSETTO:-0600
TZNAME:MDT
DTSTART:20240310T090000
END:DAYLIGHT
BEGIN:STANDARD
TZOFFSETFROM:-0600
TZOFFSETTO:-0700
TZNAME:MST
DTSTART:20241103T080000
END:STANDARD
BEGIN:DAYLIGHT
TZOFFSETFROM:-0700
TZOFFSETTO:-0600
TZNAME:MDT
DTSTART:20250309T090000
END:DAYLIGHT
BEGIN:STANDARD
TZOFFSETFROM:-0600
TZOFFSETTO:-0700
TZNAME:MST
DTSTART:20251102T080000
END:STANDARD
BEGIN:DAYLIGHT
TZOFFSETFROM:-0700
TZOFFSETTO:-0600
TZNAME:MDT
DTSTART:20260308T090000
END:DAYLIGHT
BEGIN:STANDARD
TZOFFSETFROM:-0600
TZOFFSETTO:-0700
TZNAME:MST
DTSTART:20261101T080000
END:STANDARD
BEGIN:DAYLIGHT
TZOFFSETFROM:-0700
TZOFFSETTO:-0600
TZNAME:MDT
DTSTART:20270314T090000
END:DAYLIGHT
BEGIN:STANDARD
TZOFFSETFROM:-0600
TZOFFSETTO:-0700
TZNAME:MST
DTSTART:20271107T080000
END:STANDARD
END:VTIMEZONE
BEGIN:VEVENT
DTSTART;TZID=America/Denver:20251024T190000
DTEND;TZID=America/Denver:20251024T213000
DTSTAMP:20260425T042313
CREATED:20250908T180230Z
LAST-MODIFIED:20250908T180230Z
UID:13947-1761332400-1761341400@littletondda.org
SUMMARY:Haunts of Littleton
DESCRIPTION:Welcome to the 23nd Annual Walking Tour. \nWe invite you on a night time journey through Littleton’s dark streets and alleys with the Haunts of Littleton. Enjoy a leisurely stroll while we uncover the scary and often times haunted past of this quiet Colorado community. \nRich with storied history and actual eyewitness encounters\, the walking tour takes you on an hour long spirited journey through downtown Littleton and reveals many of its centuries-long tales and epicenters of paranormal activity. Fun for young and old alike\, the tour is a fine mix of facts\, frights and tongue-in-cheek muses. \nMaster storytellers are dressed in period attire from Colorado’s past. New routes and stories are added every year. Many patrons return year after year. \n2025 Standard Prices \nAdults – $20 \nKids Under 12 – $17 \nPlus ticketing fees
URL:https://littletondda.org/event/haunts-of-littleton-7/
LOCATION:Downtown Littleton\, 2516 Main St\, Littleton\, CO\, 80120\, United States
CATEGORIES:Charity,Holidays,Tour
ATTACH;FMTTYPE=image/webp:https://littletondda.org/wp-content/uploads/2024/10/Hauntsw-Logo.webp
END:VEVENT
BEGIN:VEVENT
DTSTART;TZID=America/Denver:20251025T190000
DTEND;TZID=America/Denver:20251025T213000
DTSTAMP:20260425T042313
CREATED:20250908T180311Z
LAST-MODIFIED:20250908T180311Z
UID:13949-1761418800-1761427800@littletondda.org
SUMMARY:Haunts of Littleton
DESCRIPTION:Welcome to the 23nd Annual Walking Tour. \nWe invite you on a night time journey through Littleton’s dark streets and alleys with the Haunts of Littleton. Enjoy a leisurely stroll while we uncover the scary and often times haunted past of this quiet Colorado community. \nRich with storied history and actual eyewitness encounters\, the walking tour takes you on an hour long spirited journey through downtown Littleton and reveals many of its centuries-long tales and epicenters of paranormal activity. Fun for young and old alike\, the tour is a fine mix of facts\, frights and tongue-in-cheek muses. \nMaster storytellers are dressed in period attire from Colorado’s past. New routes and stories are added every year. Many patrons return year after year. \n2025 Standard Prices \nAdults – $20 \nKids Under 12 – $17 \nPlus ticketing fees
URL:https://littletondda.org/event/haunts-of-littleton-8/
LOCATION:Downtown Littleton\, 2516 Main St\, Littleton\, CO\, 80120\, United States
CATEGORIES:Charity,Holidays,Tour
ATTACH;FMTTYPE=image/webp:https://littletondda.org/wp-content/uploads/2024/10/Hauntsw-Logo.webp
END:VEVENT
BEGIN:VEVENT
DTSTART;VALUE=DATE:20251101
DTEND;VALUE=DATE:20251127
DTSTAMP:20260425T042313
CREATED:20251031T115825Z
LAST-MODIFIED:20251031T115825Z
UID:14914-1761955200-1764201599@littletondda.org
SUMMARY:Winter Coat Drive @ H2 Health & Wellness
DESCRIPTION:Coats for Colorado works to provide warm winter coats at no cost to\nColoradoans of all ages. H2 is excited to partner in the collection\neffort for 2025! We are collecting new and gently used warm winter\ncoats for men\, women\, and children. Get them to us and we will take care of the rest!
URL:https://littletondda.org/event/winter-coat-drive-h2-health-wellness/
LOCATION:H2 Health & Wellness\, 2329 W Main St. #102\, Littleton\, 80120
CATEGORIES:Charity
ATTACH;FMTTYPE=image/png:https://littletondda.org/wp-content/uploads/2025/10/Screenshot-2025-10-31-at-5.52.42-AM.png
END:VEVENT
BEGIN:VEVENT
DTSTART;TZID=America/Denver:20251112T110000
DTEND;TZID=America/Denver:20251112T130000
DTSTAMP:20260425T042313
CREATED:20251121T215048Z
LAST-MODIFIED:20251121T215048Z
UID:15001-1762945200-1762952400@littletondda.org
SUMMARY:Community Food Drive
DESCRIPTION:Join The Rylie Center for Hope and Healing and The Motherhood Validated Foundation for a community food drive for our neighbors and friends effected by the SNAP and WIC cutoffs. Drop off non-perishable food and baby supplies at our offices located at 5603 S. Prince St\, Littleton\, CO 80120 starting Oct. 31 through November 11th. \nIf you are a neighbor\, client\, or friend that needs help with groceries or baby supplies due to the WIC and SNAP cutoffs\, please join us on Wednesday\, November 12th from 11am-1pm at our offices 5603 S. Prince St\, Littleton\, CO 80120 to gather the groceries and baby items that will help me through this difficult time.
URL:https://littletondda.org/event/community-food-drive/
LOCATION:5603 S. Prince St\, Littleton\, CO 80120\, 5603 s Prince st\, Littleton\, C\, 80120\, United States
CATEGORIES:Charity
ATTACH;FMTTYPE=image/jpeg:https://littletondda.org/wp-content/uploads/2025/11/IMG_8385.jpeg
END:VEVENT
BEGIN:VEVENT
DTSTART;VALUE=DATE:20251121
DTEND;VALUE=DATE:20251122
DTSTAMP:20260425T042313
CREATED:20251031T131503Z
LAST-MODIFIED:20251031T131503Z
UID:14950-1763683200-1763769599@littletondda.org
SUMMARY:Live Music & Food Drive @ Records on Main
DESCRIPTION:
URL:https://littletondda.org/event/live-music-food-drive-records-on-main/
LOCATION:CO
CATEGORIES:Charity,Families,Live Music,Shopping
ATTACH;FMTTYPE=image/png:https://littletondda.org/wp-content/uploads/2025/10/Screenshot-2025-10-31-at-7.11.51-AM.png
END:VEVENT
BEGIN:VEVENT
DTSTART;TZID=America/Denver:20260129T160000
DTEND;TZID=America/Denver:20260129T200000
DTSTAMP:20260425T042313
CREATED:20260119T173012Z
LAST-MODIFIED:20260119T173228Z
UID:16013-1769702400-1769716800@littletondda.org
SUMMARY:Books\, Booze and Tattoos @ Rocker Spirits
DESCRIPTION:Swap a book. \nSavor a sip. \nSupport a good cause. \nSport new ink. \nJoin us at Rocker Spirits for a unique evening of community and connection! \nBring a book (or a few) to swap with fellow readers. Bring warm clothing items or personal hygiene items to donate to a local shelter. Enjoy a fabulous ROCKER cocktail. Get some new ink from @lexcreotattoos. \nRocker Spirits\n5587 S Hill St.  Littleton\, CO 80120
URL:https://littletondda.org/event/books-booze-and-tattoos-rocker-spirits/
LOCATION:Rocker Spirits\, 5587 S Hill Street\, Littleton\, CO\, 80120\, United States
CATEGORIES:Charity,Food & Drink
ATTACH;FMTTYPE=image/png:https://littletondda.org/wp-content/uploads/2026/01/Screenshot-2026-01-19-at-10.21.21-AM.png
END:VEVENT
BEGIN:VEVENT
DTSTART;VALUE=DATE:20260201
DTEND;VALUE=DATE:20260202
DTSTAMP:20260425T042313
CREATED:20260130T130353Z
LAST-MODIFIED:20260130T130353Z
UID:16290-1769904000-1769990399@littletondda.org
SUMMARY:Sunday Fund-Aid @ Spell Books
DESCRIPTION:10% of sales goes to Immigrant Freedom Fund
URL:https://littletondda.org/event/sunday-fund-aid-spell-books/
LOCATION:Spell Books\, 2376 W Main Street\, Littleton\, CO\, 80120\, United States
CATEGORIES:Charity,Shopping
ATTACH;FMTTYPE=image/png:https://littletondda.org/wp-content/uploads/2026/01/Screenshot-2026-01-30-at-6.02.37-AM.png
END:VEVENT
BEGIN:VEVENT
DTSTART;TZID=America/Denver:20260409T180000
DTEND;TZID=America/Denver:20260409T200000
DTSTAMP:20260425T042313
CREATED:20260320T181916Z
LAST-MODIFIED:20260320T181916Z
UID:17076-1775757600-1775764800@littletondda.org
SUMMARY:Cheers Queers! Wine Tasting
DESCRIPTION:Join Littleton Q+ and Kate’s Wine Bar for a guided tasting. Over the course of an hour our local educator will walk you through 4 different wines paired with cheese\, meat and other accompaniments. After the education is over\, Kate’s will have exclusive bottle specials for anyone who wants to stick around and drink more or take them to go.
URL:https://littletondda.org/event/cheers-queers-wine-tasting/
LOCATION:Kate’s Wine Bar\, 5671 S Nevada St\, Littleton\, CO\, 80120
CATEGORIES:Charity,Food & Drink
ATTACH;FMTTYPE=image/png:https://littletondda.org/wp-content/uploads/2026/03/Screenshot-2026-02-26-at-12.49.13-PM.png
END:VEVENT
END:VCALENDAR