BEGIN:VCALENDAR
VERSION:2.0
PRODID:-//Downtown Littleton - ECPv6.15.18//NONSGML v1.0//EN
CALSCALE:GREGORIAN
METHOD:PUBLISH
X-WR-CALNAME:Downtown Littleton
X-ORIGINAL-URL:https://littletondda.org
X-WR-CALDESC:Events for Downtown Littleton
REFRESH-INTERVAL;VALUE=DURATION:PT1H
X-Robots-Tag:noindex
X-PUBLISHED-TTL:PT1H
BEGIN:VTIMEZONE
TZID:America/Denver
BEGIN:DAYLIGHT
TZOFFSETFROM:-0700
TZOFFSETTO:-0600
TZNAME:MDT
DTSTART:20230312T090000
END:DAYLIGHT
BEGIN:STANDARD
TZOFFSETFROM:-0600
TZOFFSETTO:-0700
TZNAME:MST
DTSTART:20231105T080000
END:STANDARD
BEGIN:DAYLIGHT
TZOFFSETFROM:-0700
TZOFFSETTO:-0600
TZNAME:MDT
DTSTART:20240310T090000
END:DAYLIGHT
BEGIN:STANDARD
TZOFFSETFROM:-0600
TZOFFSETTO:-0700
TZNAME:MST
DTSTART:20241103T080000
END:STANDARD
BEGIN:DAYLIGHT
TZOFFSETFROM:-0700
TZOFFSETTO:-0600
TZNAME:MDT
DTSTART:20250309T090000
END:DAYLIGHT
BEGIN:STANDARD
TZOFFSETFROM:-0600
TZOFFSETTO:-0700
TZNAME:MST
DTSTART:20251102T080000
END:STANDARD
END:VTIMEZONE
BEGIN:VEVENT
DTSTART;VALUE=DATE:20240911
DTEND;VALUE=DATE:20240912
DTSTAMP:20260423T202850
CREATED:20240831T202818Z
LAST-MODIFIED:20240831T202818Z
UID:8785-1726012800-1726099199@littletondda.org
SUMMARY:3rd Annual Two Dog Night Fundraiser
DESCRIPTION:Two Free Dog Beers with attached tickets \n\n‘Buzzed Bandit’ and ‘Rudder Strikes Gold’ or soft drinks \nMeet our Special Guests and DJ Sean \nAttractions:  Spin the Wheel\, Silent Auction\,  \nHeads or Tails\, New K9 T-Shirts \nOther Beverages and Food at your expense \nAdmission Ticket $30.00/Person
URL:https://littletondda.org/event/3rd-annual-two-dog-night-fundraiser/
LOCATION:Denver Beer Company\, Littleton\, 2409 Main Street\, Littleton\, CO\, 80120
CATEGORIES:Charity
ATTACH;FMTTYPE=image/jpeg:https://littletondda.org/wp-content/uploads/2024/08/unnamed-12.jpg
END:VEVENT
BEGIN:VEVENT
DTSTART;TZID=America/Denver:20240824T173000
DTEND;TZID=America/Denver:20240824T213000
DTSTAMP:20260423T202850
CREATED:20240630T211843Z
LAST-MODIFIED:20240630T211843Z
UID:8753-1724520600-1724535000@littletondda.org
SUMMARY:Town Hall Art Center's Annual Fundraising Gala
DESCRIPTION:Ovation Gala \nSaturday\, August 24\, 2024 from 5:30pm – 9:30pm \nTown Hall Arts Center \n2450 Main Street\, Littleton\, CO \nAttire: Summer Cocktail \nAn Ovation\, it’s the highest possible way of praising a performance. Join THAC’s amazing patrons and members of the Littleton community for Town Hall’s largest fundraising event of the year as we recognize not only all this Littleton institution has contributed to the region and theatrical community in the past\, but all that is possible in the future. \nWe’re closing down Main Street between Prince and Nevada! Join us rain or shine for specialty cocktails\, a decadent dinner\, top-notch entertainment and both a live and silent auction benefitting the regions “most intimate professional theater”.
URL:https://littletondda.org/event/town-hall-art-centers-annual-fundraising-gala/
LOCATION:Town Hall Arts Center\, 2450 Main St\, Littleton\, 80120\, United States
CATEGORIES:Charity,Visual & Performing Arts
ATTACH;FMTTYPE=image/png:https://littletondda.org/wp-content/uploads/2024/06/unnamed-5.png
END:VEVENT
BEGIN:VEVENT
DTSTART;TZID=America/Denver:20240609T090000
DTEND;TZID=America/Denver:20240609T150000
DTSTAMP:20260423T202850
CREATED:20240515T171353Z
LAST-MODIFIED:20240515T171353Z
UID:8730-1717923600-1717945200@littletondda.org
SUMMARY:41st Annual Colorado Concours d'Elegance & Exotic Sports Car Show
DESCRIPTION:Welcome to the **41st Annual Colorado Concours d’Elegance & Exotic Sports Car Show**! Get ready for a day filled with automotive excellence. Join us on **Sunday Jun 9\, 2024** at **Arapahoe Community College in Littleton\, CO** for a showcase of over 300 of the most prestigious & prized vehicles in the world. Whether you’re a car enthusiast or just looking for a fun day out\, this event is perfect for everyone. Enjoy live music\, food\, and a variety of vendors. Don’t miss out on the chance to see these exquisite cars up close and meet fellow car lovers. See you there! Get discount tickets online at www.ColoradoConcours.org
URL:https://littletondda.org/event/41st-annual-colorado-concours-delegance-exotic-sports-car-show/
LOCATION:Arapahoe Community College\, 5900 S. Santa Fe Drive\, Littleton\, CO\, 80120\, United States
CATEGORIES:Charity
ATTACH;FMTTYPE=image/png:https://littletondda.org/wp-content/uploads/2024/05/CDEBanner.png
END:VEVENT
BEGIN:VEVENT
DTSTART;TZID=America/Denver:20240425T173000
DTEND;TZID=America/Denver:20240425T193000
DTSTAMP:20260423T202850
CREATED:20240327T024504Z
LAST-MODIFIED:20240327T024504Z
UID:8700-1714066200-1714073400@littletondda.org
SUMMARY:GraceFull's Annual Gather-Eat-Give Fundraiser
DESCRIPTION:Gather Eat Give is Thursday\, April 25 from 5:30-7:30pm and will be at the new EPIC Campus of Littleton Public Schools. Tickets are $40 for an evening of inspiring stories and great food. You can purchase tickets below as well as make an additional donation toward our fundraising goal. If you are a current monthly donor\, you only need to purchase tickets. You can increase your monthly giving through your Kindful or PayPal account if you feel called. \nWe hope you can join us to celebrate the work you make possible. \nThank you for what you already generously share with us in this work. If you’re unable to join us at Gather Eat Give but would still like to become a new monthly recurring donor or contribute a one-time gift to help us reach our $90\,000 goal\, you can do so by clicking the GIVE button below. Please feel free to share this message with friends you would like to invite to join us in our fundraising goal. \nYou are helping to change lives one meal at a time.
URL:https://littletondda.org/event/gracefulls-annual-gather-eat-give-fundraiser/
LOCATION:EPIC Campus\, 190 E Littleton Blvd\, Littleton\, CO\, 80121\, United States
CATEGORIES:Charity,Food & Drink
ATTACH;FMTTYPE=image/png:https://littletondda.org/wp-content/uploads/2024/03/annual-fundraiser.png
END:VEVENT
BEGIN:VEVENT
DTSTART;TZID=America/Denver:20240402T170000
DTEND;TZID=America/Denver:20240402T203000
DTSTAMP:20260423T202850
CREATED:20240327T025745Z
LAST-MODIFIED:20240327T025745Z
UID:8703-1712077200-1712089800@littletondda.org
SUMMARY:DIRT Coffee: Fans & Friends Trivia Night
DESCRIPTION:We warmly invite you to join us in celebrating Autism Acceptance Month at our annual Fans and Friends Trivia Night! Embark on a night of friendly competition and accessible bar trivia as we raise awareness and funds for DIRT’s programming. \nCompete for the top prize\, the best team name\, and the coveted “most shouted answers” (if you know\, you know) all while enjoying top-notch burgers and cold draft beers. Start building your team here!!
URL:https://littletondda.org/event/dirt-coffee-fans-friends-trivia-night/
LOCATION:Cherry Cricket Littleton\, 819 W Littleton Blvd\, Littleton\, CO\, 80120\, United States
CATEGORIES:Charity,Food & Drink
ATTACH;FMTTYPE=image/jpeg:https://littletondda.org/wp-content/uploads/2024/03/Joinusforanightoffunandfundraisingon5Dat5D.29.jpg
END:VEVENT
BEGIN:VEVENT
DTSTART;TZID=America/Denver:20240323T120000
DTEND;TZID=America/Denver:20240323T180000
DTSTAMP:20260423T202850
CREATED:20240312T174611Z
LAST-MODIFIED:20240312T174611Z
UID:8693-1711195200-1711216800@littletondda.org
SUMMARY:St. Baldrick's at Ned Kelly's Irish Pub
DESCRIPTION:Our biggest charity event of the year. Shave your head for children’s cancer research. Since 2012 we’ve raised over $550k with over 60 participants in 2023. \nDetails: We will again shut down Sycamore St for a huge tent. The tent will have our shaving event\, bagpipe & drums by The Mile Highlanders & Irish stepdancing by Reed School of Irish dance & face painting. Bar inside the tent with the Guinness beer trailer. Irish food provided by Grande Station.
URL:https://littletondda.org/event/st-baldricks-at-ned-kellys-irish-pub/
LOCATION:Ned Kelly’s Irish Pub\, 5686 S Sycamore St\, Littleton\, CO\, 80120\, United States
CATEGORIES:Charity,Food & Drink
END:VEVENT
END:VCALENDAR