BEGIN:VCALENDAR
VERSION:2.0
PRODID:-//Downtown Littleton - ECPv6.15.18//NONSGML v1.0//EN
CALSCALE:GREGORIAN
METHOD:PUBLISH
X-WR-CALNAME:Downtown Littleton
X-ORIGINAL-URL:https://littletondda.org
X-WR-CALDESC:Events for Downtown Littleton
REFRESH-INTERVAL;VALUE=DURATION:PT1H
X-Robots-Tag:noindex
X-PUBLISHED-TTL:PT1H
BEGIN:VTIMEZONE
TZID:America/Denver
BEGIN:DAYLIGHT
TZOFFSETFROM:-0700
TZOFFSETTO:-0600
TZNAME:MDT
DTSTART:20240310T090000
END:DAYLIGHT
BEGIN:STANDARD
TZOFFSETFROM:-0600
TZOFFSETTO:-0700
TZNAME:MST
DTSTART:20241103T080000
END:STANDARD
BEGIN:DAYLIGHT
TZOFFSETFROM:-0700
TZOFFSETTO:-0600
TZNAME:MDT
DTSTART:20250309T090000
END:DAYLIGHT
BEGIN:STANDARD
TZOFFSETFROM:-0600
TZOFFSETTO:-0700
TZNAME:MST
DTSTART:20251102T080000
END:STANDARD
BEGIN:DAYLIGHT
TZOFFSETFROM:-0700
TZOFFSETTO:-0600
TZNAME:MDT
DTSTART:20260308T090000
END:DAYLIGHT
BEGIN:STANDARD
TZOFFSETFROM:-0600
TZOFFSETTO:-0700
TZNAME:MST
DTSTART:20261101T080000
END:STANDARD
BEGIN:DAYLIGHT
TZOFFSETFROM:-0700
TZOFFSETTO:-0600
TZNAME:MDT
DTSTART:20270314T090000
END:DAYLIGHT
BEGIN:STANDARD
TZOFFSETFROM:-0600
TZOFFSETTO:-0700
TZNAME:MST
DTSTART:20271107T080000
END:STANDARD
END:VTIMEZONE
BEGIN:VEVENT
DTSTART;VALUE=DATE:20250904
DTEND;VALUE=DATE:20260109
DTSTAMP:20260423T202731
CREATED:20250908T182344Z
LAST-MODIFIED:20250908T182344Z
UID:13954-1756944000-1767916799@littletondda.org
SUMMARY:Bridget's Botanicals Botanical Beverages Tea Circle (first Thursday of every month)
DESCRIPTION:Fee: $179.00\nDates: 9/4/2025 – 1/8/2026\nTimes: 4:00 PM – 5:00 PM\nDays: Th\nSessions: 5\nJoin us for a relaxed and enriching monthly gathering where we explore a single herb in depth—one plant\, one cup at a time along with the season. Each session of this ongoing series focuses on an herb of the month\, offering a chance to connect more intimately with the world of herbal medicine. \nTogether\, we will sip a freshly brewed tea made from the featured herb\, learn about its traditional uses\, energetics\, safety\, and modern applications\, explore folklore\, recipes and personal reflections. Whether you’re just beginning your herbal journey or deepening an existing practice\, this course offers a simple\, grounding way to grow your herbal knowledge—one plant at a time.
URL:https://littletondda.org/event/bridgets-botanicals-botanical-beverages-tea-circle-first-thursday-of-every-month/
LOCATION:Bridget’s Botanicals\, 5733 S Prince St\, Littleton\, CO\, 80120\, United States
CATEGORIES:Classes,Food & Drink,Wellness & Exercise
ATTACH;FMTTYPE=image/avif:https://littletondda.org/wp-content/uploads/2025/09/TEA-CIRCLE.avif
END:VEVENT
BEGIN:VEVENT
DTSTART;VALUE=DATE:20251030
DTEND;VALUE=DATE:20260515
DTSTAMP:20260423T202731
CREATED:20250908T183144Z
LAST-MODIFIED:20250908T183144Z
UID:13967-1761782400-1778803199@littletondda.org
SUMMARY:Bridget's Botanicals: Global Herbal Foundations Course (Every other Thursday October 30 - May 14th)
DESCRIPTION:Fee: $1\,400\nDate: Every other Thursday October 30 – May 14th\nTimes: 9:00 – 11:00 a.m.\nDoes making your own herbal remedies and learning about healing traditions and rituals call to you? How about exploring botanicals from around the world? Join Bridget Molloy for an in depth study of herbalism and herbal medicine in person this Fall 2026 starting at the end of October in historic downtown Littleton\, Colorado at the Bridget’s Botanicals apothecary.\n\nYou’ll walk away understanding the foundations of herbalism\, herbal remedies to stock your home apothecary\, how to use 100 herbs to enhance your health and wellbeing\, and recipes for classic herbal remedies to support yourself\, family\, and friends. \nExplore foundations of herbalism in the Global Herbal Foundations course as we delve into different areas of the world to learn about healing traditions and ethnobotany focused on medicinal plants. Learn the foundations of herbalism alongside global materia medica (herbal plants and their uses)\, healing rituals\, and herbal recipes of Italy\, Ireland\, Belize\, and the Peruvian Amazon Rainforest to gain a perspective of herbs used around the world.
URL:https://littletondda.org/event/bridgets-botanicals-global-herbal-foundations-course-every-other-thursday-october-30-may-14th/
LOCATION:Bridget’s Botanicals\, 5733 S Prince St\, Littleton\, CO\, 80120\, United States
CATEGORIES:Classes,Food & Drink,Wellness & Exercise
ATTACH;FMTTYPE=image/avif:https://littletondda.org/wp-content/uploads/2025/09/global.avif
END:VEVENT
BEGIN:VEVENT
DTSTART;TZID=America/Denver:20251104T183000
DTEND;TZID=America/Denver:20251104T203000
DTSTAMP:20260423T202731
CREATED:20251031T120352Z
LAST-MODIFIED:20251031T120352Z
UID:14919-1762281000-1762288200@littletondda.org
SUMMARY:Hook & Book @ Spell Books\, 6:30 pm
DESCRIPTION:Hook & Book with Spell Books \n1 hour 30 minutes @ $15.00 \n\n\n\n\nThis is a different kind of book club! You don’t have to read anything in advance. Instead\, come to the store with the craft of your choice (knit! crochet! sketch!)\, and we’ll listen to the first part of an audiobook together\, with snacks\, drinks and breaks to chat about what we think. \nNovember: The Bewitching by Silvia Moreno-Garcia
URL:https://littletondda.org/event/hook-book-spell-books-630-pm/
LOCATION:Spell Books\, 2376 W Main Street\, Littleton\, CO\, 80120\, United States
CATEGORIES:Classes,Shopping
ATTACH;FMTTYPE=image/png:https://littletondda.org/wp-content/uploads/2025/10/Screenshot-2025-10-31-at-6.03.26-AM.png
END:VEVENT
BEGIN:VEVENT
DTSTART;TZID=America/Denver:20251108T093000
DTEND;TZID=America/Denver:20251108T110000
DTSTAMP:20260423T202731
CREATED:20250908T185754Z
LAST-MODIFIED:20250908T190606Z
UID:13970-1762594200-1762599600@littletondda.org
SUMMARY:Bridget's Botanicals: Herbs for Sleep
DESCRIPTION:Fee: $69.00\nDate: Saturday 11/8/2025\nTimes: 9:30 AM – 11:00 AM\nStruggling with sleep? In this class\, we’ll explore herbs that calm the nervous system\, relax the body\, and gently support deep\, restful sleep. You’ll learn about nervines\, muscle relaxants\, and natural sedatives\, and how to use them safely and effectively. We’ll also make a custom herbal sleep remedy for you to take home and begin your journey to better rest.
URL:https://littletondda.org/event/bridgets-botanicals-herbs-for-sleep/
LOCATION:Bridget’s Botanicals\, 5733 S Prince St\, Littleton\, CO\, 80120\, United States
CATEGORIES:Classes,Food & Drink,Wellness & Exercise
ATTACH;FMTTYPE=image/avif:https://littletondda.org/wp-content/uploads/2025/09/sleep.avif
END:VEVENT
BEGIN:VEVENT
DTSTART;TZID=America/Denver:20251115T093000
DTEND;TZID=America/Denver:20251115T110000
DTSTAMP:20260423T202731
CREATED:20250908T185943Z
LAST-MODIFIED:20250908T190502Z
UID:13975-1763199000-1763204400@littletondda.org
SUMMARY:Bridget's Botanicals: Herbs for Holiday Digestion
DESCRIPTION:Fee: $69.00\nDate: Saturday 11/15/2025\nTimes: 9:30 AM – 11:00 AM\nWith all of the eating happening around the holidays\, it is hard not to think about digestion! This class will explore the world of bitters\, how they can help aid digestion\, influence your gut microbiome\, and help you get through the holidays. Bitters are more than just a delightful addition to your Old Fashioned cocktail. During the class we will have a sampling of bitters and delve into this important class of herbs that benefit digestion.
URL:https://littletondda.org/event/bridgets-botanicals-herbs-for-holiday-digestion/
LOCATION:Bridget’s Botanicals\, 5733 S Prince St\, Littleton\, CO\, 80120\, United States
CATEGORIES:Classes,Food & Drink,Wellness & Exercise
ATTACH;FMTTYPE=image/avif:https://littletondda.org/wp-content/uploads/2025/09/digestion.avif
END:VEVENT
BEGIN:VEVENT
DTSTART;TZID=America/Denver:20251115T140000
DTEND;TZID=America/Denver:20251115T160000
DTSTAMP:20260423T202731
CREATED:20251031T130856Z
LAST-MODIFIED:20251031T130919Z
UID:14946-1763215200-1763222400@littletondda.org
SUMMARY:Makers Meet Up @ Antiqueria
DESCRIPTION:Makers unite! Creativity\, Collaboration and Camaraderie. These three C’s are at the heart of the Antiquaria Makers Meetup Group. We believe creative energy is elevated when you’re engaged with and surrounded by other creative minds! \nThis group offers a space for Makers of all ages and mediums to gather\, share ideas and spend time working on personal projects\, while making new friends. We’ll have free meetups at our Downtown Littleton location\, which will serve as a studio time for any creative project you may be working on! In addition\, we will offer paid creative workshops\, covering a variety of subjects such as: Calligraphy\, Stamp Making\, Embroidery\, Journaling and more. Learn more about our current workshops \nSo whether you’re into knitting\, calligraphy\, journaling\, painting\, scrapbooking\, drawing\, embroidery or any other arts and crafts medium – join us\, work on your craft and come be inspired by your local creative community.
URL:https://littletondda.org/event/makers-meet-up-antiqueria/
LOCATION:antiqueria\, 5654 S Prince St A\,\, Littleton\, CO\, 80120
CATEGORIES:Classes,Shopping,Workshop
ATTACH;FMTTYPE=image/png:https://littletondda.org/wp-content/uploads/2025/10/Screenshot-2025-10-31-at-7.08.42-AM.png
END:VEVENT
END:VCALENDAR