BEGIN:VCALENDAR
VERSION:2.0
PRODID:-//Downtown Littleton - ECPv6.15.18//NONSGML v1.0//EN
CALSCALE:GREGORIAN
METHOD:PUBLISH
X-ORIGINAL-URL:https://littletondda.org
X-WR-CALDESC:Events for Downtown Littleton
REFRESH-INTERVAL;VALUE=DURATION:PT1H
X-Robots-Tag:noindex
X-PUBLISHED-TTL:PT1H
BEGIN:VTIMEZONE
TZID:America/Denver
BEGIN:DAYLIGHT
TZOFFSETFROM:-0700
TZOFFSETTO:-0600
TZNAME:MDT
DTSTART:20230312T090000
END:DAYLIGHT
BEGIN:STANDARD
TZOFFSETFROM:-0600
TZOFFSETTO:-0700
TZNAME:MST
DTSTART:20231105T080000
END:STANDARD
BEGIN:DAYLIGHT
TZOFFSETFROM:-0700
TZOFFSETTO:-0600
TZNAME:MDT
DTSTART:20240310T090000
END:DAYLIGHT
BEGIN:STANDARD
TZOFFSETFROM:-0600
TZOFFSETTO:-0700
TZNAME:MST
DTSTART:20241103T080000
END:STANDARD
BEGIN:DAYLIGHT
TZOFFSETFROM:-0700
TZOFFSETTO:-0600
TZNAME:MDT
DTSTART:20250309T090000
END:DAYLIGHT
BEGIN:STANDARD
TZOFFSETFROM:-0600
TZOFFSETTO:-0700
TZNAME:MST
DTSTART:20251102T080000
END:STANDARD
END:VTIMEZONE
BEGIN:VEVENT
DTSTART;TZID=America/Denver:20241117T150000
DTEND;TZID=America/Denver:20241117T163000
DTSTAMP:20260424T135749
CREATED:20241011T221956Z
LAST-MODIFIED:20241011T221956Z
UID:9101-1731855600-1731861000@littletondda.org
SUMMARY:Apéritifs for Holiday Digestion
DESCRIPTION:With all of the eating happening around the holidays\, it is hard not to think about digestion! Explore apéritifs and the world of bitter botanicals\, how they can help aid digestion\, influence your gut microbiome\, and how they can help you get through the holidays in comfort. Come ready to sample a variety of botanical apéritifs and bitters!
URL:https://littletondda.org/event/aperitifs-for-holiday-digestion/
LOCATION:Bridget’s Botanicals\, 5733 S Prince St\, Littleton\, CO\, 80120\, United States
CATEGORIES:Classes,Food & Drink,Holidays,Wellness & Exercise
ATTACH;FMTTYPE=image/jpeg:https://littletondda.org/wp-content/uploads/2024/10/16941415344303-Apertiefs-for-Holiday-Digestion.jpg
END:VEVENT
END:VCALENDAR