BEGIN:VCALENDAR
VERSION:2.0
PRODID:-//Downtown Littleton - ECPv6.15.18//NONSGML v1.0//EN
CALSCALE:GREGORIAN
METHOD:PUBLISH
X-ORIGINAL-URL:https://littletondda.org
X-WR-CALDESC:Events for Downtown Littleton
REFRESH-INTERVAL;VALUE=DURATION:PT1H
X-Robots-Tag:noindex
X-PUBLISHED-TTL:PT1H
BEGIN:VTIMEZONE
TZID:America/Denver
BEGIN:DAYLIGHT
TZOFFSETFROM:-0700
TZOFFSETTO:-0600
TZNAME:MDT
DTSTART:20240310T090000
END:DAYLIGHT
BEGIN:STANDARD
TZOFFSETFROM:-0600
TZOFFSETTO:-0700
TZNAME:MST
DTSTART:20241103T080000
END:STANDARD
BEGIN:DAYLIGHT
TZOFFSETFROM:-0700
TZOFFSETTO:-0600
TZNAME:MDT
DTSTART:20250309T090000
END:DAYLIGHT
BEGIN:STANDARD
TZOFFSETFROM:-0600
TZOFFSETTO:-0700
TZNAME:MST
DTSTART:20251102T080000
END:STANDARD
BEGIN:DAYLIGHT
TZOFFSETFROM:-0700
TZOFFSETTO:-0600
TZNAME:MDT
DTSTART:20260308T090000
END:DAYLIGHT
BEGIN:STANDARD
TZOFFSETFROM:-0600
TZOFFSETTO:-0700
TZNAME:MST
DTSTART:20261101T080000
END:STANDARD
END:VTIMEZONE
BEGIN:VEVENT
DTSTART;TZID=America/Denver:20250820T180000
DTEND;TZID=America/Denver:20250820T200000
DTSTAMP:20260424T015206
CREATED:20250220T201145Z
LAST-MODIFIED:20250220T201145Z
UID:10831-1755712800-1755720000@littletondda.org
SUMMARY:Printmaking Basics
DESCRIPTION:Discover the art of printmaking in this engaging and hands-on workshop designed for beginners and enthusiasts alike! Learn about different types of printmaking such as relief\, monoprint\, and etching. Explore the foundational techniques and tools used in creating beautiful prints\, while learning the essentials of this time-honored craft. \nACC On-Campus Course: Art & Design Center \nAll materials provided.
URL:https://littletondda.org/event/printmaking-basics/
LOCATION:ACC Art & Design Center\, 2400 W. Alamo Ave.\, Littleton\, 80120
CATEGORIES:Classes
ATTACH;FMTTYPE=image/png:https://littletondda.org/wp-content/uploads/2025/02/AnD-Free-Workshops-12-Printmaking-Basics-Saturday.png
END:VEVENT
END:VCALENDAR