BEGIN:VCALENDAR
VERSION:2.0
PRODID:-//Downtown Littleton - ECPv6.15.18//NONSGML v1.0//EN
CALSCALE:GREGORIAN
METHOD:PUBLISH
X-ORIGINAL-URL:https://littletondda.org
X-WR-CALDESC:Events for Downtown Littleton
REFRESH-INTERVAL;VALUE=DURATION:PT1H
X-Robots-Tag:noindex
X-PUBLISHED-TTL:PT1H
BEGIN:VTIMEZONE
TZID:America/Denver
BEGIN:DAYLIGHT
TZOFFSETFROM:-0700
TZOFFSETTO:-0600
TZNAME:MDT
DTSTART:20240310T090000
END:DAYLIGHT
BEGIN:STANDARD
TZOFFSETFROM:-0600
TZOFFSETTO:-0700
TZNAME:MST
DTSTART:20241103T080000
END:STANDARD
BEGIN:DAYLIGHT
TZOFFSETFROM:-0700
TZOFFSETTO:-0600
TZNAME:MDT
DTSTART:20250309T090000
END:DAYLIGHT
BEGIN:STANDARD
TZOFFSETFROM:-0600
TZOFFSETTO:-0700
TZNAME:MST
DTSTART:20251102T080000
END:STANDARD
BEGIN:DAYLIGHT
TZOFFSETFROM:-0700
TZOFFSETTO:-0600
TZNAME:MDT
DTSTART:20260308T090000
END:DAYLIGHT
BEGIN:STANDARD
TZOFFSETFROM:-0600
TZOFFSETTO:-0700
TZNAME:MST
DTSTART:20261101T080000
END:STANDARD
BEGIN:DAYLIGHT
TZOFFSETFROM:-0700
TZOFFSETTO:-0600
TZNAME:MDT
DTSTART:20270314T090000
END:DAYLIGHT
BEGIN:STANDARD
TZOFFSETFROM:-0600
TZOFFSETTO:-0700
TZNAME:MST
DTSTART:20271107T080000
END:STANDARD
END:VTIMEZONE
BEGIN:VEVENT
DTSTART;VALUE=DATE:20251030
DTEND;VALUE=DATE:20260515
DTSTAMP:20260423T190409
CREATED:20250908T183144Z
LAST-MODIFIED:20250908T183144Z
UID:13967-1761782400-1778803199@littletondda.org
SUMMARY:Bridget's Botanicals: Global Herbal Foundations Course (Every other Thursday October 30 - May 14th)
DESCRIPTION:Fee: $1\,400\nDate: Every other Thursday October 30 – May 14th\nTimes: 9:00 – 11:00 a.m.\nDoes making your own herbal remedies and learning about healing traditions and rituals call to you? How about exploring botanicals from around the world? Join Bridget Molloy for an in depth study of herbalism and herbal medicine in person this Fall 2026 starting at the end of October in historic downtown Littleton\, Colorado at the Bridget’s Botanicals apothecary.\n\nYou’ll walk away understanding the foundations of herbalism\, herbal remedies to stock your home apothecary\, how to use 100 herbs to enhance your health and wellbeing\, and recipes for classic herbal remedies to support yourself\, family\, and friends. \nExplore foundations of herbalism in the Global Herbal Foundations course as we delve into different areas of the world to learn about healing traditions and ethnobotany focused on medicinal plants. Learn the foundations of herbalism alongside global materia medica (herbal plants and their uses)\, healing rituals\, and herbal recipes of Italy\, Ireland\, Belize\, and the Peruvian Amazon Rainforest to gain a perspective of herbs used around the world.
URL:https://littletondda.org/event/bridgets-botanicals-global-herbal-foundations-course-every-other-thursday-october-30-may-14th/
LOCATION:Bridget’s Botanicals\, 5733 S Prince St\, Littleton\, CO\, 80120\, United States
CATEGORIES:Classes,Food & Drink,Wellness & Exercise
ATTACH;FMTTYPE=image/avif:https://littletondda.org/wp-content/uploads/2025/09/global.avif
END:VEVENT
BEGIN:VEVENT
DTSTART;TZID=America/Denver:20260110T150000
DTEND;TZID=America/Denver:20260110T170000
DTSTAMP:20260423T190409
CREATED:20251230T040940Z
LAST-MODIFIED:20251230T040940Z
UID:15783-1768057200-1768064400@littletondda.org
SUMMARY:Adult Intro To Machine Knitting 2 @ Elsewear Collective
DESCRIPTION:This course allows you to build on the skills and techniques you learned in Intro To Machine Knitting 1. \nYou will learn the more advanced capabilities the standard gauge machine has to offer including fair-isle\, tuck & slip stitch\, lace patterns\, fashioning\, & shaping. You will also take home a beautiful scarf or hat to wear that you knit yourself. \nThis class is great for those who have taken Machine Knitting 1 or similar and would like to brush up on their machine knitting skills. It is held in our own sewing and knitting studio in Downtown Littleton and lasts approx 3 hours. Each participant gets their own designated machine to use! Space is limited to 3 people per class. ​All tools and yarn will be provided. \nIf you have special requests or would like to provide your own yarn\, please contact us prior to class and we would be happy to recommend what is appropriate to use. Bring a friend and learn something new together! \n* Deposit is non-refundable but can be transferred to another session
URL:https://littletondda.org/event/adult-intro-to-machine-knitting-2-elsewear-collective/
LOCATION:Elsewear Collective\, 5654 S Prince St #C\, Littleton\, 80120\, United States
CATEGORIES:Classes
ATTACH;FMTTYPE=image/png:https://littletondda.org/wp-content/uploads/2025/12/Screenshot-2025-12-29-at-9.06.33-PM.png
END:VEVENT
BEGIN:VEVENT
DTSTART;TZID=America/Denver:20260110T170000
DTEND;TZID=America/Denver:20260110T200000
DTSTAMP:20260423T190409
CREATED:20251230T043142Z
LAST-MODIFIED:20251230T043304Z
UID:15796-1768064400-1768075200@littletondda.org
SUMMARY:Dungeons & Dragons for New Players @ PlayForge
DESCRIPTION:PlayForge offers an introduction to the world of Dungeons & Dragons\, a tabletop role-playing game where you create a story with friends using imagination\, dice\, and hours of fun. At our new players night\, we’ll teach you how to play the game and how to start your own adventure\, touching on everything from character creation to combat in this beginner-friendly program. \nThis game is designed for people who’ve never played\, people who’ve only played a few times\, and people who haven’t played for a long time (20 or 30 or 40 years). Feel free to join more than one of our new players’ events\, until you feel ready to jump into a campaign. \nPlayforge Game Room \n2420 W Main Street \nSuite 100 \nLittleton\, CO 80120
URL:https://littletondda.org/event/dungeons-dragons-for-new-players-playforge/
LOCATION:PlayForge\, 2420 Main St\, Ste 100\, Littleton\, CO\, 80120\, United States
CATEGORIES:Classes
ATTACH;FMTTYPE=image/png:https://littletondda.org/wp-content/uploads/2025/12/Screenshot-2025-12-29-at-9.30.08-PM.png
END:VEVENT
END:VCALENDAR