BEGIN:VCALENDAR
VERSION:2.0
PRODID:-//Downtown Littleton - ECPv6.15.18//NONSGML v1.0//EN
CALSCALE:GREGORIAN
METHOD:PUBLISH
X-ORIGINAL-URL:https://littletondda.org
X-WR-CALDESC:Events for Downtown Littleton
REFRESH-INTERVAL;VALUE=DURATION:PT1H
X-Robots-Tag:noindex
X-PUBLISHED-TTL:PT1H
BEGIN:VTIMEZONE
TZID:America/Denver
BEGIN:DAYLIGHT
TZOFFSETFROM:-0700
TZOFFSETTO:-0600
TZNAME:MDT
DTSTART:20240310T090000
END:DAYLIGHT
BEGIN:STANDARD
TZOFFSETFROM:-0600
TZOFFSETTO:-0700
TZNAME:MST
DTSTART:20241103T080000
END:STANDARD
BEGIN:DAYLIGHT
TZOFFSETFROM:-0700
TZOFFSETTO:-0600
TZNAME:MDT
DTSTART:20250309T090000
END:DAYLIGHT
BEGIN:STANDARD
TZOFFSETFROM:-0600
TZOFFSETTO:-0700
TZNAME:MST
DTSTART:20251102T080000
END:STANDARD
BEGIN:DAYLIGHT
TZOFFSETFROM:-0700
TZOFFSETTO:-0600
TZNAME:MDT
DTSTART:20260308T090000
END:DAYLIGHT
BEGIN:STANDARD
TZOFFSETFROM:-0600
TZOFFSETTO:-0700
TZNAME:MST
DTSTART:20261101T080000
END:STANDARD
BEGIN:DAYLIGHT
TZOFFSETFROM:-0700
TZOFFSETTO:-0600
TZNAME:MDT
DTSTART:20270314T090000
END:DAYLIGHT
BEGIN:STANDARD
TZOFFSETFROM:-0600
TZOFFSETTO:-0700
TZNAME:MST
DTSTART:20271107T080000
END:STANDARD
END:VTIMEZONE
BEGIN:VEVENT
DTSTART;VALUE=DATE:20251030
DTEND;VALUE=DATE:20260515
DTSTAMP:20260423T162903
CREATED:20250908T183144Z
LAST-MODIFIED:20250908T183144Z
UID:13967-1761782400-1778803199@littletondda.org
SUMMARY:Bridget's Botanicals: Global Herbal Foundations Course (Every other Thursday October 30 - May 14th)
DESCRIPTION:Fee: $1\,400\nDate: Every other Thursday October 30 – May 14th\nTimes: 9:00 – 11:00 a.m.\nDoes making your own herbal remedies and learning about healing traditions and rituals call to you? How about exploring botanicals from around the world? Join Bridget Molloy for an in depth study of herbalism and herbal medicine in person this Fall 2026 starting at the end of October in historic downtown Littleton\, Colorado at the Bridget’s Botanicals apothecary.\n\nYou’ll walk away understanding the foundations of herbalism\, herbal remedies to stock your home apothecary\, how to use 100 herbs to enhance your health and wellbeing\, and recipes for classic herbal remedies to support yourself\, family\, and friends. \nExplore foundations of herbalism in the Global Herbal Foundations course as we delve into different areas of the world to learn about healing traditions and ethnobotany focused on medicinal plants. Learn the foundations of herbalism alongside global materia medica (herbal plants and their uses)\, healing rituals\, and herbal recipes of Italy\, Ireland\, Belize\, and the Peruvian Amazon Rainforest to gain a perspective of herbs used around the world.
URL:https://littletondda.org/event/bridgets-botanicals-global-herbal-foundations-course-every-other-thursday-october-30-may-14th/
LOCATION:Bridget’s Botanicals\, 5733 S Prince St\, Littleton\, CO\, 80120\, United States
CATEGORIES:Classes,Food & Drink,Wellness & Exercise
ATTACH;FMTTYPE=image/avif:https://littletondda.org/wp-content/uploads/2025/09/global.avif
END:VEVENT
BEGIN:VEVENT
DTSTART;TZID=America/Denver:20260227T180000
DTEND;TZID=America/Denver:20260227T193000
DTSTAMP:20260423T162903
CREATED:20251230T044037Z
LAST-MODIFIED:20251230T044037Z
UID:15802-1772215200-1772220600@littletondda.org
SUMMARY:Craft a Botanical Love Elixir @ Bridget's Botanicals
DESCRIPTION:Craft a botanical love elixir or herbal tea blend with herbal aphrodisiacs.\nDuration\n1.5 hours \nAbout\nAphrodisiacs\, known for their ability to enhance relationships\, sexual vitality\, and connection\, have captivated people for centuries. Come join us at Bridget’s Botanicals for a Date Night blending up your own unique botanical love elixir or herbal tea featuring aphrodisiac favorites! We’ll dive into how these delicious herbs can add a spark to your relationship while also enhancing your overall health and well-being. \nThe perfect date night for couples\, double dates\, and beyond! \nMore Info\n\nIncludes a botanical beverage and craft chocolate.\nIncludes a take home choice of an herbal elixir or herbal tea blend per couple.\nYou may bring your own additional beverages (like a bottle of your favorite wine!) and we can provide glasses.\nBring your friend\, a date\, your partner…whomever you’d like to share this fun experience with! Your experience will be catered to who your date is for the night. Multiple couples or people welcome!\nParking is available on the street\, or at the RTD parking lot 1 block away.
URL:https://littletondda.org/event/craft-a-botanical-love-elixir-bridgets-botanicals/
LOCATION:Bridget’s Botanicals\, 5733 S Prince St\, Littleton\, CO\, 80120\, United States
CATEGORIES:Classes
ATTACH;FMTTYPE=image/png:https://littletondda.org/wp-content/uploads/2025/12/Screenshot-2025-12-29-at-9.37.40-PM.png
END:VEVENT
BEGIN:VEVENT
DTSTART;TZID=America/Denver:20260227T180000
DTEND;TZID=America/Denver:20260227T200000
DTSTAMP:20260423T162903
CREATED:20260201T162534Z
LAST-MODIFIED:20260201T162534Z
UID:16137-1772215200-1772222400@littletondda.org
SUMMARY:Cozy Candlelight Meditation + Journaling
DESCRIPTION:Cozy Candlelight Meditation + Journaling\nA gentle nervous system reset for women craving quiet\, clarity\, and softness. \n📍 Release Bodywork + Healing Wellness Center | Downtown Littleton\n🕕 6:00–8:00 PM \n💫 Investment\n$55 Non-Members\nFREE for Embodied Alchemy Collective (EAC) Members (registration required) \nFeeling mentally full\, emotionally tender\, or overstimulated?\nThis candlelit evening is an invitation to slow everything down — your thoughts\, your breath\, your body — and reconnect with yourself in a way that feels safe\, unrushed\, and deeply nourishing. \nThis experience blends a calming guided meditation with reflective journaling to support nervous system regulation\, emotional clarity\, and inner presence. There’s nothing to perform\, share\, or figure out — just space to soften and be held. \nWhat you’ll experience\n✨ A soothing\, candlelight-guided meditation to calm the nervous system\n✨ Thoughtful journaling prompts for clarity\, reflection\, and self-connection\n✨ A warm\, quiet atmosphere that supports rest and emotional spaciousness\n✨ Time to release the noise of the day and come back to yourself\n✨ A cozy\, supportive container held with care \nThis gathering is for you if:\n✔ You’ve been feeling overstimulated or emotionally full\n✔ You’re craving quiet without isolation\n✔ You want rest with intention\, not distraction\n✔ You value gentle\, grounded practices that meet you where you are \nAbout your facilitator\nThis gathering is facilitated by ReAnna Romero-Alirez\, founder of the Embodied Alchemy Collective and owner of Release Bodywork + Healing. ReAnna creates calm\, nurturing spaces where women can regulate their nervous systems\, reconnect with themselves\, and experience gentle\, embodied healing. \nAbout the Embodied Alchemy Collective (EAC)\nThe Embodied Alchemy Collective is a women-centered wellness community offering intentional gatherings and embodied practices that support emotional wellbeing\, self-trust\, and sustainable balance. \n✨ EAC members attend this experience at no additional cost as part of their monthly membership. \nWhat to bring\nYoga mat or cushion for comfort\nJournal + pen\nA cozy layer\nLimited space\nTo honor the intimacy of this candlelit container\, space is limited to 8 women. \n👉 Reserve your spot early and give yourself permission to slow down. \nA gentle reminder\nRest is not a reward — it’s a necessity. \nJoin us for this cozy evening of reflection and renewal\, and leave feeling calmer\, clearer\, and more grounded in yourself. 🕯️✨
URL:https://littletondda.org/event/cozy-candlelight-meditation-journaling/
LOCATION:Release Bodywork + Healing\, 5808 South Rapp Street\, Littleton\, C\, 80120\, United States
CATEGORIES:Classes,Workshop
ATTACH;FMTTYPE=image/jpeg:https://littletondda.org/wp-content/uploads/2026/01/pexels-shvetsa-6663974-scaled.jpg
END:VEVENT
END:VCALENDAR