BEGIN:VCALENDAR
VERSION:2.0
PRODID:-//Downtown Littleton - ECPv6.15.18//NONSGML v1.0//EN
CALSCALE:GREGORIAN
METHOD:PUBLISH
X-ORIGINAL-URL:https://littletondda.org
X-WR-CALDESC:Events for Downtown Littleton
REFRESH-INTERVAL;VALUE=DURATION:PT1H
X-Robots-Tag:noindex
X-PUBLISHED-TTL:PT1H
BEGIN:VTIMEZONE
TZID:America/Denver
BEGIN:DAYLIGHT
TZOFFSETFROM:-0700
TZOFFSETTO:-0600
TZNAME:MDT
DTSTART:20240310T090000
END:DAYLIGHT
BEGIN:STANDARD
TZOFFSETFROM:-0600
TZOFFSETTO:-0700
TZNAME:MST
DTSTART:20241103T080000
END:STANDARD
BEGIN:DAYLIGHT
TZOFFSETFROM:-0700
TZOFFSETTO:-0600
TZNAME:MDT
DTSTART:20250309T090000
END:DAYLIGHT
BEGIN:STANDARD
TZOFFSETFROM:-0600
TZOFFSETTO:-0700
TZNAME:MST
DTSTART:20251102T080000
END:STANDARD
BEGIN:DAYLIGHT
TZOFFSETFROM:-0700
TZOFFSETTO:-0600
TZNAME:MDT
DTSTART:20260308T090000
END:DAYLIGHT
BEGIN:STANDARD
TZOFFSETFROM:-0600
TZOFFSETTO:-0700
TZNAME:MST
DTSTART:20261101T080000
END:STANDARD
BEGIN:DAYLIGHT
TZOFFSETFROM:-0700
TZOFFSETTO:-0600
TZNAME:MDT
DTSTART:20270314T090000
END:DAYLIGHT
BEGIN:STANDARD
TZOFFSETFROM:-0600
TZOFFSETTO:-0700
TZNAME:MST
DTSTART:20271107T080000
END:STANDARD
END:VTIMEZONE
BEGIN:VEVENT
DTSTART;VALUE=DATE:20251030
DTEND;VALUE=DATE:20260515
DTSTAMP:20260423T162902
CREATED:20250908T183144Z
LAST-MODIFIED:20250908T183144Z
UID:13967-1761782400-1778803199@littletondda.org
SUMMARY:Bridget's Botanicals: Global Herbal Foundations Course (Every other Thursday October 30 - May 14th)
DESCRIPTION:Fee: $1\,400\nDate: Every other Thursday October 30 – May 14th\nTimes: 9:00 – 11:00 a.m.\nDoes making your own herbal remedies and learning about healing traditions and rituals call to you? How about exploring botanicals from around the world? Join Bridget Molloy for an in depth study of herbalism and herbal medicine in person this Fall 2026 starting at the end of October in historic downtown Littleton\, Colorado at the Bridget’s Botanicals apothecary.\n\nYou’ll walk away understanding the foundations of herbalism\, herbal remedies to stock your home apothecary\, how to use 100 herbs to enhance your health and wellbeing\, and recipes for classic herbal remedies to support yourself\, family\, and friends. \nExplore foundations of herbalism in the Global Herbal Foundations course as we delve into different areas of the world to learn about healing traditions and ethnobotany focused on medicinal plants. Learn the foundations of herbalism alongside global materia medica (herbal plants and their uses)\, healing rituals\, and herbal recipes of Italy\, Ireland\, Belize\, and the Peruvian Amazon Rainforest to gain a perspective of herbs used around the world.
URL:https://littletondda.org/event/bridgets-botanicals-global-herbal-foundations-course-every-other-thursday-october-30-may-14th/
LOCATION:Bridget’s Botanicals\, 5733 S Prince St\, Littleton\, CO\, 80120\, United States
CATEGORIES:Classes,Food & Drink,Wellness & Exercise
ATTACH;FMTTYPE=image/avif:https://littletondda.org/wp-content/uploads/2025/09/global.avif
END:VEVENT
BEGIN:VEVENT
DTSTART;TZID=America/Denver:20260315T130000
DTEND;TZID=America/Denver:20260315T150000
DTSTAMP:20260423T162902
CREATED:20260224T175341Z
LAST-MODIFIED:20260224T175341Z
UID:16531-1773579600-1773586800@littletondda.org
SUMMARY:Calligraphy Script 102 @ Antiqueria
DESCRIPTION:Ready to take your calligraphy to the next level?\nCalligraphy Script 102 is the natural continuation of Script 101—designed for students who have a basic understanding of pointed-pen calligraphy and are excited to grow their skills with more intentional practice\, refined techniques\, and guided feedback. \nIn this class\, professional calligrapher and Antiquaria partner Bailey Rivera will help you deepen your foundational skills and expand your confidence. We will be focusing on the uppercase alphabet\, understanding the core shapes that form beautiful script.
URL:https://littletondda.org/event/calligraphy-script-102-antiqueria/
LOCATION:Antiquaria\, 5654 S Prince St A\, Littleton\, CO\, 80120\, United States
CATEGORIES:Classes
ATTACH;FMTTYPE=image/jpeg:https://littletondda.org/wp-content/uploads/2026/02/Antiquaria-42-scaled.jpg
END:VEVENT
BEGIN:VEVENT
DTSTART;TZID=America/Denver:20260315T170000
DTEND;TZID=America/Denver:20260315T180000
DTSTAMP:20260423T162902
CREATED:20260307T233449Z
LAST-MODIFIED:20260307T233449Z
UID:16912-1773594000-1773597600@littletondda.org
SUMMARY:First Album Stories: The Making of Our Debut @ Records on Main
DESCRIPTION:First Album Stories: The Making of Our Debut\n\n3/15\, 5:00 PM  6:00 PM\n\n\nRSVP HERE \nFeaturing \nAndy Zebeya\, MX @andyzebeya \nCarey Seward\, AK @careysewardmusic \nSophie West\, CO @sophiewestmusic \nRobin Cisek\, Canada\, @robin.cisek
URL:https://littletondda.org/event/first-album-stories-the-making-of-our-debut-records-on-main/
LOCATION:Records on Main\, 2430 Main St\, Littleton\, CO\, 80120\, United States
CATEGORIES:Classes
ATTACH;FMTTYPE=image/png:https://littletondda.org/wp-content/uploads/2026/03/Screenshot-2026-03-07-at-4.32.40-PM.png
END:VEVENT
END:VCALENDAR