BEGIN:VCALENDAR
VERSION:2.0
PRODID:-//Downtown Littleton - ECPv6.15.18//NONSGML v1.0//EN
CALSCALE:GREGORIAN
METHOD:PUBLISH
X-ORIGINAL-URL:https://littletondda.org
X-WR-CALDESC:Events for Downtown Littleton
REFRESH-INTERVAL;VALUE=DURATION:PT1H
X-Robots-Tag:noindex
X-PUBLISHED-TTL:PT1H
BEGIN:VTIMEZONE
TZID:America/Denver
BEGIN:DAYLIGHT
TZOFFSETFROM:-0700
TZOFFSETTO:-0600
TZNAME:MDT
DTSTART:20250309T090000
END:DAYLIGHT
BEGIN:STANDARD
TZOFFSETFROM:-0600
TZOFFSETTO:-0700
TZNAME:MST
DTSTART:20251102T080000
END:STANDARD
BEGIN:DAYLIGHT
TZOFFSETFROM:-0700
TZOFFSETTO:-0600
TZNAME:MDT
DTSTART:20260308T090000
END:DAYLIGHT
BEGIN:STANDARD
TZOFFSETFROM:-0600
TZOFFSETTO:-0700
TZNAME:MST
DTSTART:20261101T080000
END:STANDARD
BEGIN:DAYLIGHT
TZOFFSETFROM:-0700
TZOFFSETTO:-0600
TZNAME:MDT
DTSTART:20270314T090000
END:DAYLIGHT
BEGIN:STANDARD
TZOFFSETFROM:-0600
TZOFFSETTO:-0700
TZNAME:MST
DTSTART:20271107T080000
END:STANDARD
END:VTIMEZONE
BEGIN:VEVENT
DTSTART;TZID=America/Denver:20260426T140000
DTEND;TZID=America/Denver:20260426T153000
DTSTAMP:20260423T174437
CREATED:20260307T235601Z
LAST-MODIFIED:20260308T151953Z
UID:16938-1777212000-1777217400@littletondda.org
SUMMARY:Matcha Class @ iN-TEA
DESCRIPTION:$30 Per Person \nMatcha\n\nDate: Sunday\, April 26th\, 2026\nTime: 2:00pm-3:30pm\nLocation: 2440 Main St\, Littleton\, CO 80120 \nExplore green tea’s history\, flavors\, and benefits with an expert while tasting five premium selections. Perfect for tea lovers of all levels! \nReserve Your Spot Today!\nCall us at 720-981-2512 or visit us in-store at 2440 Main St\, Littleton\, CO 80120 to prepay for your place in one of our public tea classes. \n\nBook Class
URL:https://littletondda.org/event/match-class-in-tea/
LOCATION:iN-TEA\, 2440 Main Street\, Littleton\, CO\, 80120\, United States
CATEGORIES:Classes,Food & Drink
ATTACH;FMTTYPE=image/png:https://littletondda.org/wp-content/uploads/2026/03/Screenshot-2026-03-07-at-4.55.12-PM.png
END:VEVENT
BEGIN:VEVENT
DTSTART;TZID=America/Denver:20260502T090000
DTEND;TZID=America/Denver:20260502T110000
DTSTAMP:20260423T174437
CREATED:20260320T181829Z
LAST-MODIFIED:20260320T181829Z
UID:17036-1777712400-1777719600@littletondda.org
SUMMARY:Candle Making 101
DESCRIPTION:Learn how to pour candles like a pro. You’ll learn about the different types of wax\, how to choose a wick for that clean burn\, and how to scent your candles for a perfect sensory experience. You will have the opportunity to pour your own candle with a custom scent to take home.
URL:https://littletondda.org/event/candle-making-101/
LOCATION:Arapahoe Community College\, 5900 S. Santa Fe Drive\, Littleton\, CO\, 80120\, United States
CATEGORIES:Classes,Wellness & Exercise,Workshop
ATTACH;FMTTYPE=image/jpeg:https://littletondda.org/wp-content/uploads/2026/03/Candle-Making-101.jpg
END:VEVENT
BEGIN:VEVENT
DTSTART;TZID=America/Denver:20260516T140000
DTEND;TZID=America/Denver:20260516T153000
DTSTAMP:20260423T174437
CREATED:20260402T231132Z
LAST-MODIFIED:20260402T231132Z
UID:17392-1778940000-1778945400@littletondda.org
SUMMARY:150th Birthday - Denver & Rio Grande Railroad Depot
DESCRIPTION:Celebrate 150th Birthday of Littleton’s Denver & Rio Grande Railroad Depot \nHistoric Littleton\, Inc. and the City of Littleton will celebrate the 150th birthday of the Denver and Rio Grande (D & RG ) Railroad depot located at 5790 S. Prince St. on Saturday May 16 at 2:00 p.m. \nThe D & RG Railroad was the first railroad to provide rail service to Littleton arriving in 1871. Fours years later\, in 1875\, the depot was built using rhyolite stone quarried from Castle Rock. The depot was designated as a Littleton landmark over 50 years ago.\nHistoric Littleton will give a presentation on Littleton’s early days and how the railroad helped Littleton grow. Historic Littleton Inc. will also serve birthday cake and give out free coloring books featuring many of Littleton’s historic buildings.\nFor more information about the event or about Historic Littleton\, Inc. visit hlinc.org \n  \nDate: 05/16/2026 \nTime: 2:00 pm – 3:30 pm \nLocation:\nRTD Light Rail Station Downtown Littleton- Corner of Alamo Ave. and Prince St.\nLittleton\, Colorado 80120 \nContact: Historiclittleton@gmail.com
URL:https://littletondda.org/event/150th-birthday-denver-rio-grande-railroad-depot/
LOCATION:RTD Littleton / Downtown Station\, 5777 S Prince St.\, Littleton\, CO
CATEGORIES:Classes,Families
ATTACH;FMTTYPE=image/png:https://littletondda.org/wp-content/uploads/2026/04/Screenshot-2026-04-02-at-5.09.39-PM.png
END:VEVENT
BEGIN:VEVENT
DTSTART;TZID=America/Denver:20260517T140000
DTEND;TZID=America/Denver:20260517T153000
DTSTAMP:20260423T174437
CREATED:20260307T235746Z
LAST-MODIFIED:20260307T235746Z
UID:16942-1779026400-1779031800@littletondda.org
SUMMARY:Black Tea Class @ iN-TEA
DESCRIPTION:$30 Per Person \nBlack Tea\n\nDate: Sunday\, May 17th\, 2026\nTime: 2:00pm-3:30pm\nLocation: 2440 Main St\, Littleton\, CO 80120 \nLearn the rich history of black tea while tasting five premium blends with an expert guide. Perfect for tea enthusiasts of all levels! \nReserve Your Spot Today!\nCall us at 720-981-2512 or visit us in-store at 2440 Main St\, Littleton\, CO 80120 to prepay for your place in one of our public tea classes. \n\nBook Class
URL:https://littletondda.org/event/black-tea-class-in-tea/
LOCATION:iN-TEA\, 2440 Main Street\, Littleton\, CO\, 80120\, United States
CATEGORIES:Classes,Food & Drink
ATTACH;FMTTYPE=image/png:https://littletondda.org/wp-content/uploads/2026/03/Screenshot-2026-03-07-at-4.56.57-PM.png
END:VEVENT
BEGIN:VEVENT
DTSTART;TZID=America/Denver:20260628T140000
DTEND;TZID=America/Denver:20260628T153000
DTSTAMP:20260423T174437
CREATED:20260307T235951Z
LAST-MODIFIED:20260307T235951Z
UID:16945-1782655200-1782660600@littletondda.org
SUMMARY:Tea Cocktails Class @ iN-TEA
DESCRIPTION:$45 per person \nTea Cocktails\n\nDate: Sunday\, June 28th\, 2026\nTime: 2:00pm-3:30pm\nLocation: 2440 Main St\, Littleton\, CO 80120 \nRelax while getting all your antioxidants\, indulge in tea cocktails! We’ll teach you how to mix tea and spirits to create unique drink experiences. \nReserve Your Spot Today!\nCall us at 720-981-2512 or visit us in-store at 2440 Main St\, Littleton\, CO 80120 to prepay for your place in one of our public tea classes. \n\nBook Class
URL:https://littletondda.org/event/tea-cocktails-class-in-tea/
LOCATION:iN-TEA\, 2440 Main Street\, Littleton\, CO\, 80120\, United States
CATEGORIES:Classes,Food & Drink
ATTACH;FMTTYPE=image/png:https://littletondda.org/wp-content/uploads/2026/03/Screenshot-2026-03-07-at-4.58.27-PM.png
END:VEVENT
BEGIN:VEVENT
DTSTART;TZID=America/Denver:20260719T140000
DTEND;TZID=America/Denver:20260719T153000
DTSTAMP:20260423T174437
CREATED:20260308T000159Z
LAST-MODIFIED:20260308T000159Z
UID:16948-1784469600-1784475000@littletondda.org
SUMMARY:Iced Tea Class @ iN-TEA
DESCRIPTION:$30 per person \nIced Tea\n\nDate: Sunday\, July 19th\, 2026\nTime: 2:00pm-3:30pm\nLocation: 2440 Main St\, Littleton\, CO 80120 \nRefresh with iced tea! Learn about its history and how to brew the perfect iced teas while sampling five blends. An expert guide will lead you through this cool and flavorful experience! \nReserve Your Spot Today!\nCall us at 720-981-2512 or visit us in-store at 2440 Main St\, Littleton\, CO 80120 to prepay for your place in one of our public tea classes. \n\nBook Class
URL:https://littletondda.org/event/iced-tea-class-in-tea/
LOCATION:iN-TEA\, 2440 Main Street\, Littleton\, CO\, 80120\, United States
CATEGORIES:Classes,Food & Drink
ATTACH;FMTTYPE=image/png:https://littletondda.org/wp-content/uploads/2026/03/Screenshot-2026-03-07-at-5.01.35-PM.png
END:VEVENT
BEGIN:VEVENT
DTSTART;TZID=America/Denver:20260809T140000
DTEND;TZID=America/Denver:20260809T153000
DTSTAMP:20260423T174437
CREATED:20260308T000347Z
LAST-MODIFIED:20260308T150430Z
UID:16951-1786284000-1786289400@littletondda.org
SUMMARY:Tea 101 Class @ iN-TEA
DESCRIPTION:$30 per person \nTea 101\n\nDate: Sunday\, August 9th\, 2026\nTime: 2:00pm-3:30pm\nLocation: 2440 Main St\, Littleton\, CO 80120 \nOur most popular class! Learn the basics and history of tea with an overview of the tea world. \nReserve Your Spot Today!\nCall us at 720-981-2512 or visit us in-store at 2440 Main St\, Littleton\, CO 80120 to prepay for your place in one of our public tea classes. \n\nBook Class
URL:https://littletondda.org/event/tea-101-class-in-tea/
LOCATION:iN-TEA\, 2440 Main Street\, Littleton\, CO\, 80120\, United States
CATEGORIES:Classes,Food & Drink
ATTACH;FMTTYPE=image/png:https://littletondda.org/wp-content/uploads/2026/03/Screenshot-2026-03-07-at-5.02.15-PM.png
END:VEVENT
BEGIN:VEVENT
DTSTART;TZID=America/Denver:20260913T140000
DTEND;TZID=America/Denver:20260913T153000
DTSTAMP:20260423T174437
CREATED:20260308T150847Z
LAST-MODIFIED:20260308T150847Z
UID:16959-1789308000-1789313400@littletondda.org
SUMMARY:Pu'erh Tea Class @ iN-TEA
DESCRIPTION:$30 per person \nPu’erh Tea\n\nDate: Sunday\, September 13th\, 2026\nTime: 2:00pm-3:30pm\nLocation: 2440 Main St\, Littleton\, CO 80120 \nDiscover the unique flavors and history of Pu’erh tea! Taste five distinct varieties while learning about its aging process and brewing techniques from an expert. Perfect for both newcomers and Pu’erh aficionados! \nReserve Your Spot Today!\nCall us at 720-981-2512 or visit us in-store at 2440 Main St\, Littleton\, CO 80120 to prepay for your place in one of our public tea classes. \n\nBook Class
URL:https://littletondda.org/event/puerh-tea-class-in-tea/
LOCATION:iN-TEA\, 2440 Main Street\, Littleton\, CO\, 80120\, United States
CATEGORIES:Classes,Food & Drink
ATTACH;FMTTYPE=image/png:https://littletondda.org/wp-content/uploads/2026/03/Screenshot-2026-03-08-at-9.05.43-AM.png
END:VEVENT
BEGIN:VEVENT
DTSTART;TZID=America/Denver:20260920T140000
DTEND;TZID=America/Denver:20260920T153000
DTSTAMP:20260423T174437
CREATED:20260308T151154Z
LAST-MODIFIED:20260308T151154Z
UID:16962-1789912800-1789918200@littletondda.org
SUMMARY:Make Your Own Chai Class @ iN-TEA
DESCRIPTION:$45 Per Person \nMake Your Own Chai\n\nDate: Sunday\, September 20th\, 2026\nTime: 2:00pm-3:30pm\nLocation: 2440 Main St\, Littleton\, CO 80120 \nTaste 5 different teas that can be used as a base\, then choose and mix your spices for your own personalized chai! \nReserve Your Spot Today!\nCall us at 720-981-2512 or visit us in-store at 2440 Main St\, Littleton\, CO 80120 to prepay for your place in one of our public tea classes. \n\nBook Class
URL:https://littletondda.org/event/make-your-own-chai-class-in-tea/
LOCATION:iN-TEA\, 2440 Main Street\, Littleton\, CO\, 80120\, United States
CATEGORIES:Classes,Food & Drink
ATTACH;FMTTYPE=image/png:https://littletondda.org/wp-content/uploads/2026/03/Screenshot-2026-03-08-at-9.10.37-AM.png
END:VEVENT
BEGIN:VEVENT
DTSTART;TZID=America/Denver:20261004T140000
DTEND;TZID=America/Denver:20261004T163000
DTSTAMP:20260423T174437
CREATED:20260308T151420Z
LAST-MODIFIED:20260308T151500Z
UID:16965-1791122400-1791131400@littletondda.org
SUMMARY:Black Tea Class @ iN-TEA
DESCRIPTION:$45 Per Person \nBlack Tea\n\nDate: Sunday\, October 4th\, 2026\nTime: 2:00pm-3:30pm\nLocation: 2440 Main St\, Littleton\, CO 80120 \nLearn the rich history of black tea while tasting five premium blends with an expert guide. Perfect for tea enthusiasts of all levels! \nReserve Your Spot Today!\nCall us at 720-981-2512 or visit us in-store at 2440 Main St\, Littleton\, CO 80120 to prepay for your place in one of our public tea classes. \n\nBook Class
URL:https://littletondda.org/event/black-tea-class-in-tea-2/
LOCATION:iN-TEA\, 2440 Main Street\, Littleton\, CO\, 80120\, United States
CATEGORIES:Classes,Food & Drink
ATTACH;FMTTYPE=image/png:https://littletondda.org/wp-content/uploads/2026/03/Screenshot-2026-03-08-at-9.12.47-AM.png
END:VEVENT
BEGIN:VEVENT
DTSTART;TZID=America/Denver:20261108T140000
DTEND;TZID=America/Denver:20261108T153000
DTSTAMP:20260423T174437
CREATED:20260308T151824Z
LAST-MODIFIED:20260308T151824Z
UID:16971-1794146400-1794151800@littletondda.org
SUMMARY:Personali-Tea Class @ iN-TEA
DESCRIPTION:$40 per person \nPersonali-Tea\n\nDate: Sunday\, November 8th\, 2026\nTime: 2:00pm-3:30pm\nLocation: 2440 Main St\, Littleton\, CO 80120 \nIf you were a tea\, which one would you be? Take a 20 question multiple choice survey and find out! \nReserve Your Spot Today!\nCall us at 720-981-2512 or visit us in-store at 2440 Main St\, Littleton\, CO 80120 to prepay for your place in one of our public tea classes. \n\nBook Class
URL:https://littletondda.org/event/personali-tea-class-in-tea-3/
LOCATION:iN-TEA\, 2440 Main Street\, Littleton\, CO\, 80120\, United States
CATEGORIES:Classes,Food & Drink
END:VEVENT
END:VCALENDAR