BEGIN:VCALENDAR
VERSION:2.0
PRODID:-//Downtown Littleton - ECPv6.15.18//NONSGML v1.0//EN
CALSCALE:GREGORIAN
METHOD:PUBLISH
X-WR-CALNAME:Downtown Littleton
X-ORIGINAL-URL:https://littletondda.org
X-WR-CALDESC:Events for Downtown Littleton
REFRESH-INTERVAL;VALUE=DURATION:PT1H
X-Robots-Tag:noindex
X-PUBLISHED-TTL:PT1H
BEGIN:VTIMEZONE
TZID:America/Denver
BEGIN:DAYLIGHT
TZOFFSETFROM:-0700
TZOFFSETTO:-0600
TZNAME:MDT
DTSTART:20240310T090000
END:DAYLIGHT
BEGIN:STANDARD
TZOFFSETFROM:-0600
TZOFFSETTO:-0700
TZNAME:MST
DTSTART:20241103T080000
END:STANDARD
BEGIN:DAYLIGHT
TZOFFSETFROM:-0700
TZOFFSETTO:-0600
TZNAME:MDT
DTSTART:20250309T090000
END:DAYLIGHT
BEGIN:STANDARD
TZOFFSETFROM:-0600
TZOFFSETTO:-0700
TZNAME:MST
DTSTART:20251102T080000
END:STANDARD
BEGIN:DAYLIGHT
TZOFFSETFROM:-0700
TZOFFSETTO:-0600
TZNAME:MDT
DTSTART:20260308T090000
END:DAYLIGHT
BEGIN:STANDARD
TZOFFSETFROM:-0600
TZOFFSETTO:-0700
TZNAME:MST
DTSTART:20261101T080000
END:STANDARD
END:VTIMEZONE
BEGIN:VEVENT
DTSTART;TZID=America/Denver:20250228T100000
DTEND;TZID=America/Denver:20250228T200000
DTSTAMP:20260424T091950
CREATED:20250103T190439Z
LAST-MODIFIED:20250103T190439Z
UID:10261-1740736800-1740772800@littletondda.org
SUMMARY:Final Fridays in Downtown Littleton
DESCRIPTION:Who: Downtown Littleton Merchants\n\nWhat: An event that adds vitality and engages the Littleton community through extended shopping hours and an enhanced downtown experience.\n\nWhen: Occurs on the last Friday of every month throughout 2025.\n\nWhere: Downtown Littleton\n\nFollow us on Instagram for more details: @Final_Fridays_Littleton
URL:https://littletondda.org/event/final-fridays-in-downtown-littleton-12/
LOCATION:Downtown Littleton\, 2516 Main St\, Littleton\, CO\, 80120\, United States
CATEGORIES:Downtown Littleton Signature Event,Shopping
ATTACH;FMTTYPE=application/pdf:https://littletondda.org/wp-content/uploads/2024/07/FinalFridaysPoster_10.16.24-2.pdf
END:VEVENT
END:VCALENDAR