BEGIN:VCALENDAR
VERSION:2.0
PRODID:-//Downtown Littleton - ECPv6.15.18//NONSGML v1.0//EN
CALSCALE:GREGORIAN
METHOD:PUBLISH
X-ORIGINAL-URL:https://littletondda.org
X-WR-CALDESC:Events for Downtown Littleton
REFRESH-INTERVAL;VALUE=DURATION:PT1H
X-Robots-Tag:noindex
X-PUBLISHED-TTL:PT1H
BEGIN:VTIMEZONE
TZID:America/Denver
BEGIN:DAYLIGHT
TZOFFSETFROM:-0700
TZOFFSETTO:-0600
TZNAME:MDT
DTSTART:20230312T090000
END:DAYLIGHT
BEGIN:STANDARD
TZOFFSETFROM:-0600
TZOFFSETTO:-0700
TZNAME:MST
DTSTART:20231105T080000
END:STANDARD
BEGIN:DAYLIGHT
TZOFFSETFROM:-0700
TZOFFSETTO:-0600
TZNAME:MDT
DTSTART:20240310T090000
END:DAYLIGHT
BEGIN:STANDARD
TZOFFSETFROM:-0600
TZOFFSETTO:-0700
TZNAME:MST
DTSTART:20241103T080000
END:STANDARD
BEGIN:DAYLIGHT
TZOFFSETFROM:-0700
TZOFFSETTO:-0600
TZNAME:MDT
DTSTART:20250309T090000
END:DAYLIGHT
BEGIN:STANDARD
TZOFFSETFROM:-0600
TZOFFSETTO:-0700
TZNAME:MST
DTSTART:20251102T080000
END:STANDARD
BEGIN:DAYLIGHT
TZOFFSETFROM:-0700
TZOFFSETTO:-0600
TZNAME:MDT
DTSTART:20260308T090000
END:DAYLIGHT
BEGIN:STANDARD
TZOFFSETFROM:-0600
TZOFFSETTO:-0700
TZNAME:MST
DTSTART:20261101T080000
END:STANDARD
END:VTIMEZONE
BEGIN:VEVENT
DTSTART;TZID=America/Denver:20250926T100000
DTEND;TZID=America/Denver:20250926T200000
DTSTAMP:20260423T154329
CREATED:20250103T192248Z
LAST-MODIFIED:20250103T192248Z
UID:10273-1758880800-1758916800@littletondda.org
SUMMARY:Final Fridays in Downtown Littleton
DESCRIPTION:Who: Downtown Littleton Merchants\n\nWhat: An event that adds vitality and engages the Littleton community through extended shopping hours and an enhanced downtown experience.\n\nWhen: Occurs on the last Friday of every month throughout 2025.\n\nWhere: Downtown Littleton\n\nFollow us on Instagram for more details: @Final_Fridays_Littleton
URL:https://littletondda.org/event/final-fridays-in-downtown-littleton-18/
LOCATION:Downtown Littleton\, 2516 Main St\, Littleton\, CO\, 80120\, United States
CATEGORIES:Downtown Littleton Signature Event,Shopping
ATTACH;FMTTYPE=application/pdf:https://littletondda.org/wp-content/uploads/2024/07/FinalFridaysPoster_10.16.24-2.pdf
END:VEVENT
BEGIN:VEVENT
DTSTART;TZID=America/Denver:20250829T100000
DTEND;TZID=America/Denver:20250829T200000
DTSTAMP:20260423T154329
CREATED:20250103T191041Z
LAST-MODIFIED:20250103T191041Z
UID:10271-1756461600-1756497600@littletondda.org
SUMMARY:Final Fridays in Downtown Littleton
DESCRIPTION:Who: Downtown Littleton Merchants\n\nWhat: An event that adds vitality and engages the Littleton community through extended shopping hours and an enhanced downtown experience.\n\nWhen: Occurs on the last Friday of every month throughout 2025.\n\nWhere: Downtown Littleton\n\nFollow us on Instagram for more details: @Final_Fridays_Littleton
URL:https://littletondda.org/event/final-fridays-in-downtown-littleton-17/
LOCATION:Downtown Littleton\, 2516 Main St\, Littleton\, CO\, 80120\, United States
CATEGORIES:Downtown Littleton Signature Event,Shopping
ATTACH;FMTTYPE=application/pdf:https://littletondda.org/wp-content/uploads/2024/07/FinalFridaysPoster_10.16.24-2.pdf
END:VEVENT
BEGIN:VEVENT
DTSTART;TZID=America/Denver:20250816T100000
DTEND;TZID=America/Denver:20250816T233000
DTSTAMP:20260423T154329
CREATED:20250415T190539Z
LAST-MODIFIED:20250415T190539Z
UID:11611-1755338400-1755387000@littletondda.org
SUMMARY:96th Western Welcome Week Grand Parade
DESCRIPTION:96th Grand Parade – The Spirit of Generosity\nSaturday\, August 16\, 2025\nStart time 10am – parade typically lasts about 90 minutes\nParade Application available\nPublic Parking \nFree parking is available at Arapahoe Community College\, 5900 S. Santa Fe Drive for parade attendees. \nParade Route The Grand Parade begins at Littleton Boulevard and Gallup Street\, heads west on the north side of Littleton Boulevard\, continues through downtown Littleton on Main Street\, turns south at the end of Main Street onto Rapp Street\, and ends at Arapahoe Community College at Rapp and Church Streets. \nWWW Grand Parade Weather Policy\nIt could be a warm day; be sure to bring water or other hydrating fluids\, sunscreen\, and protective eye wear for everyone in your unit. Be advised that Western Welcome Week has specific dates for events which are not canceled due to inclement weather\, and no refunds are made because of weather. However\, if weather creates a safety issue\, Western Welcome Week reserves the right to postpone or end the event. \n  \n 
URL:https://littletondda.org/event/96th-western-welcome-week-grand-parade/
LOCATION:Downtown Littleton\, 2516 Main St\, Littleton\, CO\, 80120\, United States
CATEGORIES:Downtown Littleton Signature Event,Families,Food & Drink,Live Music,Visual & Performing Arts
ATTACH;FMTTYPE=image/jpeg:https://littletondda.org/wp-content/uploads/2024/07/WWW-Parade-Banner-520x261-1.jpg
END:VEVENT
BEGIN:VEVENT
DTSTART;TZID=America/Denver:20250810T080000
DTEND;TZID=America/Denver:20250810T110000
DTSTAMP:20260423T154329
CREATED:20250502T143920Z
LAST-MODIFIED:20250507T172838Z
UID:12053-1754812800-1754823600@littletondda.org
SUMMARY:47th Western Welcome Week Family Pancake Breakfast
DESCRIPTION:Western Welcome Week is excited to have DIRT Coffee Bar as the official coffee supplier of the Pancake Breakfast again this year! Located in Historic Downtown Littleton\, DIRT is a local nonprofit social enterprise with the mission to bring you specialty craft Huckleberry coffee\, food\, and drink while training\, employing & empowering neurodivergent individuals through workforce development programming. \nPolidori sausage returns as a sponsor of the Pancake Breakfast! Looking forward to delicious sausage patties from Polidori! Their Heritage gives them flavor! The exact same way since 1925. Creating genuine Italian sausage using an age-old\, cherished family recipe passed down through four generations. \nKids – join the FREE Kids Games of Old and enter the Bruce Wolf Stick Horse Stampede held in the north end of the Geneva Lodge lawn. A Big WWW thank you to Boy Scout Troop 989 for helping with the events and having FUN! \nTickets are $6 per person for ages 5 and older. Purchase tickets online or “at the door” until 11am on the day of the event (cash or credit). Breakfast ends at 11am. Children age 4 years and under eat for free. \nA fundraiser for Western Welcome Week\, Inc.\, a 501(c)3 public charity. \nThe City of Littleton is a valued Community Partner of Western Welcome Week for this event.
URL:https://littletondda.org/event/47th-western-welcome-week-family-pancake-breakfast/
LOCATION:Littleton Center\, 2255 W. Berry Avenue\, Littleton\, CO\, 80120\, United States
CATEGORIES:Downtown Littleton Signature Event,Families,Food & Drink
ATTACH;FMTTYPE=image/jpeg:https://littletondda.org/wp-content/uploads/2025/05/flipping-pancakes-WEB-IMG_1371-520x693-1.jpg
END:VEVENT
BEGIN:VEVENT
DTSTART;VALUE=DATE:20250808
DTEND;VALUE=DATE:20250818
DTSTAMP:20260423T154329
CREATED:20250415T155229Z
LAST-MODIFIED:20250415T155229Z
UID:11610-1754611200-1755475199@littletondda.org
SUMMARY:Western Welcome Week 2025
DESCRIPTION:We are excited to announce the 2025 theme — The Spirit of Generosity! A little twist on volunteerism\, philanthropy\, and humanitarianism; the desire to promote the welfare of others — benevolence\, generosity\, public spiritedness\, social concern\, charity\, brotherly love.
URL:https://littletondda.org/event/western-welcome-week-2025/
LOCATION:Downtown Littleton\, 2516 Main St\, Littleton\, CO\, 80120\, United States
CATEGORIES:Downtown Littleton Signature Event,Families
ATTACH;FMTTYPE=image/jpeg:https://littletondda.org/wp-content/uploads/2024/05/WWW-Parade-Banner-320x161-1.jpg
END:VEVENT
BEGIN:VEVENT
DTSTART;VALUE=DATE:20250802
DTEND;VALUE=DATE:20250803
DTSTAMP:20260423T154329
CREATED:20250415T192229Z
LAST-MODIFIED:20250415T192229Z
UID:11674-1754092800-1754179199@littletondda.org
SUMMARY:Littleton Twilight Criterium 2025
DESCRIPTION:Now in its 12th year\, the Audi Denver Littleton Twilight Criterium and Arts Festival in historic Downtown Littleton is a celebration of cycling and community! Along with thrilling races on the fast-paced 0.8 mile course\, there are bike waves for all levels\, an accessible ride\, a family cruiser ride\, and an Arts Festival featuring local vendors\, crafts\, live music\, craft beer\, and more.
URL:https://littletondda.org/event/littleton-twilight-criterium-2025/
LOCATION:Downtown Littleton\, 2516 Main St\, Littleton\, CO\, 80120\, United States
CATEGORIES:Downtown Littleton Signature Event,Race
ATTACH;FMTTYPE=image/jpeg:https://littletondda.org/wp-content/uploads/2024/03/criterium-featured-image.jpg
END:VEVENT
BEGIN:VEVENT
DTSTART;TZID=America/Denver:20250725T100000
DTEND;TZID=America/Denver:20250725T200000
DTSTAMP:20260423T154329
CREATED:20250103T190757Z
LAST-MODIFIED:20250103T190757Z
UID:10269-1753437600-1753473600@littletondda.org
SUMMARY:Final Fridays in Downtown Littleton
DESCRIPTION:Who: Downtown Littleton Merchants\n\nWhat: An event that adds vitality and engages the Littleton community through extended shopping hours and an enhanced downtown experience.\n\nWhen: Occurs on the last Friday of every month throughout 2025.\n\nWhere: Downtown Littleton\n\nFollow us on Instagram for more details: @Final_Fridays_Littleton
URL:https://littletondda.org/event/final-fridays-in-downtown-littleton-16/
LOCATION:Downtown Littleton\, 2516 Main St\, Littleton\, CO\, 80120\, United States
CATEGORIES:Downtown Littleton Signature Event,Shopping
ATTACH;FMTTYPE=application/pdf:https://littletondda.org/wp-content/uploads/2024/07/FinalFridaysPoster_10.16.24-2.pdf
END:VEVENT
BEGIN:VEVENT
DTSTART;TZID=America/Denver:20250627T100000
DTEND;TZID=America/Denver:20250627T200000
DTSTAMP:20260423T154329
CREATED:20250103T190655Z
LAST-MODIFIED:20250103T190655Z
UID:10267-1751018400-1751054400@littletondda.org
SUMMARY:Final Fridays in Downtown Littleton
DESCRIPTION:Who: Downtown Littleton Merchants\n\nWhat: An event that adds vitality and engages the Littleton community through extended shopping hours and an enhanced downtown experience.\n\nWhen: Occurs on the last Friday of every month throughout 2025.\n\nWhere: Downtown Littleton\n\nFollow us on Instagram for more details: @Final_Fridays_Littleton
URL:https://littletondda.org/event/final-fridays-in-downtown-littleton-15/
LOCATION:Downtown Littleton\, 2516 Main St\, Littleton\, CO\, 80120\, United States
CATEGORIES:Downtown Littleton Signature Event,Shopping
ATTACH;FMTTYPE=application/pdf:https://littletondda.org/wp-content/uploads/2024/07/FinalFridaysPoster_10.16.24-2.pdf
END:VEVENT
BEGIN:VEVENT
DTSTART;TZID=America/Denver:20250614T173000
DTEND;TZID=America/Denver:20250614T223000
DTSTAMP:20260423T154329
CREATED:20250430T225220Z
LAST-MODIFIED:20250501T163826Z
UID:11961-1749922200-1749940200@littletondda.org
SUMMARY:Downtown Littleton Block Party
DESCRIPTION:Back after a short break\, the Downtown Littleton Block Party is a not-to-be missed community favorite. Presented by the Littleton Downtown Development Authority and the Littleton Merchants Association\, with support from the City of Littleton and Visit Littleton\, this event kicks off the summer season in Downtown Littleton.
URL:https://littletondda.org/event/downtown-littleton-block-party/
LOCATION:Downtown Littleton\, 2516 Main St\, Littleton\, CO\, 80120\, United States
CATEGORIES:Downtown Littleton Signature Event,Families,Food & Drink,Live Music,Shopping
ATTACH;FMTTYPE=application/pdf:https://littletondda.org/wp-content/uploads/2025/04/Littleton-Report-Print-Ad-Revised-4.30.25.pdf
END:VEVENT
BEGIN:VEVENT
DTSTART;TZID=America/Denver:20250530T100000
DTEND;TZID=America/Denver:20250530T200000
DTSTAMP:20260423T154329
CREATED:20250103T190627Z
LAST-MODIFIED:20250103T190627Z
UID:10265-1748599200-1748635200@littletondda.org
SUMMARY:Final Fridays in Downtown Littleton
DESCRIPTION:Who: Downtown Littleton Merchants\n\nWhat: An event that adds vitality and engages the Littleton community through extended shopping hours and an enhanced downtown experience.\n\nWhen: Occurs on the last Friday of every month throughout 2025.\n\nWhere: Downtown Littleton\n\nFollow us on Instagram for more details: @Final_Fridays_Littleton
URL:https://littletondda.org/event/final-fridays-in-downtown-littleton-14/
LOCATION:Downtown Littleton\, 2516 Main St\, Littleton\, CO\, 80120\, United States
CATEGORIES:Downtown Littleton Signature Event,Shopping
ATTACH;FMTTYPE=application/pdf:https://littletondda.org/wp-content/uploads/2024/07/FinalFridaysPoster_10.16.24-2.pdf
END:VEVENT
BEGIN:VEVENT
DTSTART;TZID=America/Denver:20250328T100000
DTEND;TZID=America/Denver:20250328T200000
DTSTAMP:20260423T154329
CREATED:20250103T190506Z
LAST-MODIFIED:20250103T190506Z
UID:10263-1743156000-1743192000@littletondda.org
SUMMARY:Final Fridays in Downtown Littleton
DESCRIPTION:Who: Downtown Littleton Merchants\n\nWhat: An event that adds vitality and engages the Littleton community through extended shopping hours and an enhanced downtown experience.\n\nWhen: Occurs on the last Friday of every month throughout 2025.\n\nWhere: Downtown Littleton\n\nFollow us on Instagram for more details: @Final_Fridays_Littleton
URL:https://littletondda.org/event/final-fridays-in-downtown-littleton-13/
LOCATION:Downtown Littleton\, 2516 Main St\, Littleton\, CO\, 80120\, United States
CATEGORIES:Downtown Littleton Signature Event,Shopping
ATTACH;FMTTYPE=application/pdf:https://littletondda.org/wp-content/uploads/2024/07/FinalFridaysPoster_10.16.24-2.pdf
END:VEVENT
BEGIN:VEVENT
DTSTART;TZID=America/Denver:20250228T100000
DTEND;TZID=America/Denver:20250228T200000
DTSTAMP:20260423T154329
CREATED:20250103T190439Z
LAST-MODIFIED:20250103T190439Z
UID:10261-1740736800-1740772800@littletondda.org
SUMMARY:Final Fridays in Downtown Littleton
DESCRIPTION:Who: Downtown Littleton Merchants\n\nWhat: An event that adds vitality and engages the Littleton community through extended shopping hours and an enhanced downtown experience.\n\nWhen: Occurs on the last Friday of every month throughout 2025.\n\nWhere: Downtown Littleton\n\nFollow us on Instagram for more details: @Final_Fridays_Littleton
URL:https://littletondda.org/event/final-fridays-in-downtown-littleton-12/
LOCATION:Downtown Littleton\, 2516 Main St\, Littleton\, CO\, 80120\, United States
CATEGORIES:Downtown Littleton Signature Event,Shopping
ATTACH;FMTTYPE=application/pdf:https://littletondda.org/wp-content/uploads/2024/07/FinalFridaysPoster_10.16.24-2.pdf
END:VEVENT
BEGIN:VEVENT
DTSTART;TZID=America/Denver:20250131T100000
DTEND;TZID=America/Denver:20250131T200000
DTSTAMP:20260423T154329
CREATED:20240715T212841Z
LAST-MODIFIED:20250103T190358Z
UID:8763-1738317600-1738353600@littletondda.org
SUMMARY:Final Fridays in Downtown Littleton
DESCRIPTION:Who: Downtown Littleton Merchants\n\nWhat: An event that adds vitality and engages the Littleton community through extended shopping hours and an enhanced downtown experience.\n\nWhen: Occurs on the last Friday of every month throughout 2025.\n\nWhere: Downtown Littleton\n\nFollow us on Instagram for more details: @Final_Fridays_Littleton
URL:https://littletondda.org/event/final-fridays-in-downtown-littleton-11/
LOCATION:Downtown Littleton\, 2516 Main St\, Littleton\, CO\, 80120\, United States
CATEGORIES:Downtown Littleton Signature Event,Shopping
ATTACH;FMTTYPE=application/pdf:https://littletondda.org/wp-content/uploads/2024/07/FinalFridaysPoster_10.16.24-2.pdf
END:VEVENT
BEGIN:VEVENT
DTSTART;TZID=America/Denver:20241129T100000
DTEND;TZID=America/Denver:20241129T200000
DTSTAMP:20260423T154329
CREATED:20240715T212520Z
LAST-MODIFIED:20240715T212520Z
UID:8762-1732874400-1732910400@littletondda.org
SUMMARY:Final Fridays in Downtown Littleton
DESCRIPTION:Who: Downtown Littleton Merchants\n\nWhat: An event that adds vitality and engages the Littleton community through extended shopping hours and an enhanced downtown experience.\n\nWhen: Occurs on the last Friday of every month throughout 2024.\n3/29\, 4/26\, 5/31\, 6/28\, 7/26\, 8/30\, 9/27\, 10/25\, 11/29\, 12/27\n\nWhere: Downtown Littleton\n\nFollow us on Instagram for more details: @Final_Fridays_Littleton
URL:https://littletondda.org/event/final-fridays-in-downtown-littleton-10/
LOCATION:Downtown Littleton\, 2516 Main St\, Littleton\, CO\, 80120\, United States
CATEGORIES:Downtown Littleton Signature Event,Shopping
ATTACH;FMTTYPE=application/pdf:https://littletondda.org/wp-content/uploads/2024/02/FINAL-FRIDAYS-PDF.pdf
END:VEVENT
BEGIN:VEVENT
DTSTART;TZID=America/Denver:20241025T100000
DTEND;TZID=America/Denver:20241025T200000
DTSTAMP:20260423T154329
CREATED:20240715T211732Z
LAST-MODIFIED:20240715T211732Z
UID:8761-1729850400-1729886400@littletondda.org
SUMMARY:Final Fridays in Downtown Littleton
DESCRIPTION:Who: Downtown Littleton Merchants\n\nWhat: An event that adds vitality and engages the Littleton community through extended shopping hours and an enhanced downtown experience.\n\nWhen: Occurs on the last Friday of every month throughout 2024.\n3/29\, 4/26\, 5/31\, 6/28\, 7/26\, 8/30\, 9/27\, 10/25\, 11/29\, 12/27\n\nWhere: Downtown Littleton\n\nFollow us on Instagram for more details: @Final_Fridays_Littleton
URL:https://littletondda.org/event/final-fridays-in-downtown-littleton-9/
LOCATION:Downtown Littleton\, 2516 Main St\, Littleton\, CO\, 80120\, United States
CATEGORIES:Downtown Littleton Signature Event,Shopping
ATTACH;FMTTYPE=application/pdf:https://littletondda.org/wp-content/uploads/2024/02/FINAL-FRIDAYS-PDF.pdf
END:VEVENT
BEGIN:VEVENT
DTSTART;TZID=America/Denver:20240927T100000
DTEND;TZID=America/Denver:20240927T200000
DTSTAMP:20260423T154329
CREATED:20240715T211617Z
LAST-MODIFIED:20240715T211617Z
UID:8760-1727431200-1727467200@littletondda.org
SUMMARY:Final Fridays in Downtown Littleton
DESCRIPTION:Who: Downtown Littleton Merchants\n\nWhat: An event that adds vitality and engages the Littleton community through extended shopping hours and an enhanced downtown experience.\n\nWhen: Occurs on the last Friday of every month throughout 2024.\n3/29\, 4/26\, 5/31\, 6/28\, 7/26\, 8/30\, 9/27\, 10/25\, 11/29\, 12/27\n\nWhere: Downtown Littleton\n\nFollow us on Instagram for more details: @Final_Fridays_Littleton
URL:https://littletondda.org/event/final-fridays-in-downtown-littleton-8/
LOCATION:Downtown Littleton\, 2516 Main St\, Littleton\, CO\, 80120\, United States
CATEGORIES:Downtown Littleton Signature Event,Shopping
ATTACH;FMTTYPE=application/pdf:https://littletondda.org/wp-content/uploads/2024/02/FINAL-FRIDAYS-PDF.pdf
END:VEVENT
BEGIN:VEVENT
DTSTART;TZID=America/Denver:20240830T100000
DTEND;TZID=America/Denver:20240830T200000
DTSTAMP:20260423T154329
CREATED:20240603T172614Z
LAST-MODIFIED:20240603T172614Z
UID:8738-1725012000-1725048000@littletondda.org
SUMMARY:Final Fridays in Downtown Littleton
DESCRIPTION:Who: Downtown Littleton Merchants\n\nWhat: An event that adds vitality and engages the Littleton community through extended shopping hours and an enhanced downtown experience.\n\nWhen: Occurs on the last Friday of every month throughout 2024.\n3/29\, 4/26\, 5/31\, 6/28\, 7/26\, 8/30\, 9/27\, 10/25\, 11/29\, 12/27\n\nWhere: Downtown Littleton\n\nFollow us on Instagram for more details: @Final_Fridays_Littleton
URL:https://littletondda.org/event/final-fridays-in-downtown-littleton-7/
LOCATION:Downtown Littleton\, 2516 Main St\, Littleton\, CO\, 80120\, United States
CATEGORIES:Downtown Littleton Signature Event,Shopping
ATTACH;FMTTYPE=application/pdf:https://littletondda.org/wp-content/uploads/2024/02/FINAL-FRIDAYS-PDF.pdf
END:VEVENT
BEGIN:VEVENT
DTSTART;TZID=America/Denver:20240817T100000
DTEND;TZID=America/Denver:20240817T233000
DTSTAMP:20260423T154329
CREATED:20240718T194825Z
LAST-MODIFIED:20240718T194825Z
UID:8764-1723888800-1723937400@littletondda.org
SUMMARY:95th Western Welcome Week Grand Parade
DESCRIPTION:One of the biggest parades in the southwest metro area! Featuring equestrians\, high school marching bands from across the state\, tractors\, floats\, and FUN! National Anthem to be sung from the announcing stage TBD. \nFREE parking is available at Arapahoe Community College\, 5900 S. Santa Fe Drive\, Depot Art Gallery 2069 W. Powers Avenue\, Littleton Center\, 2255 W. Berry Avenue \nA school bus shuttle is available to take parade entry participants from Arapahoe Community College to the parade staging area at Gallup and Littleton Boulevard. \nParade Route\, Parking\, Staging and Equestrian Route Map \nThe Western Welcome Week Parade — 95 years of Celebrating Community! Sadly\, the parade was not held in 2020 due to the pandemic. The parade was the only event that had been held every year until 2020. \nDon’t forget the Craft Fair and concessions in downtown Littleton before and after the parade from 8am to 4pm! Entertainment after the parade at approximately noon. \nWe wish to thank those who give of their time and talents to ensure the WWW Grand Parade is a success: Parade Stagers — Littleton Rotary\, GraceFull Cafe volunteers\, and Platte Canyon Sertoma; Scouting America Troop 989 — Super Dooper Pooper Scoopers; Scouting America Troop 114 — Banner carriers; and of course our wonderful Parade Chairs!
URL:https://littletondda.org/event/95th-western-welcome-week-grand-parade/
LOCATION:Downtown Littleton\, 2516 Main St\, Littleton\, CO\, 80120\, United States
CATEGORIES:Downtown Littleton Signature Event,Families,Food & Drink,Live Music,Visual & Performing Arts
ATTACH;FMTTYPE=image/jpeg:https://littletondda.org/wp-content/uploads/2024/07/WWW-Parade-Banner-520x261-1.jpg
END:VEVENT
BEGIN:VEVENT
DTSTART;VALUE=DATE:20240809
DTEND;VALUE=DATE:20240819
DTSTAMP:20260423T154329
CREATED:20240501T194841Z
LAST-MODIFIED:20240501T194841Z
UID:8726-1723161600-1724025599@littletondda.org
SUMMARY:Western Welcome Week
DESCRIPTION:The 96th annual celebration will begin on Friday\, August 9 and continues for 9 more days through Sunday\, August 18\, 2024. Festival Day\, which includes the Firefighter’s Children’s Parade\, the Grand Parade\, the annual Craft & Home Improvement Fair\, free entertainment\, and concessions by local civic groups\, will be Saturday\, August 17.
URL:https://littletondda.org/event/western-welcome-week/
LOCATION:Downtown Littleton\, 2516 Main St\, Littleton\, CO\, 80120\, United States
CATEGORIES:Downtown Littleton Signature Event,Families
ATTACH;FMTTYPE=image/jpeg:https://littletondda.org/wp-content/uploads/2024/05/WWW-Parade-Banner-320x161-1.jpg
END:VEVENT
BEGIN:VEVENT
DTSTART;TZID=America/Denver:20240803T141500
DTEND;TZID=America/Denver:20240803T220000
DTSTAMP:20260423T154329
CREATED:20240329T035203Z
LAST-MODIFIED:20240329T035203Z
UID:8709-1722694500-1722722400@littletondda.org
SUMMARY:Littleton Twilight Criterium
DESCRIPTION:The annual Audi Denver Littleton Twilight Criterium bike race\, held the first Saturday in August\, brings family fun to a block party environment in Downtown Littleton. As professional men’s and women’s bike teams speed by\, enjoy the live bands\, beer garden\, kids activities\, cool bars\, and hot restaurants. In 2023\, the race was honored with the Best Event award from the 2023 Governor’s Awards for Downtown Excellence\, presented in April by Downtown Colorado\, Inc. The awards recognize outstanding projects and people in Colorado who demonstrate creativity in the face of challenges\, unlikely and enduring partnerships\, and dedication to the community to further downtown initiatives. \nThe day includes 11 races ranging from a junior’s division in the afternoon to the men’s and women’s pro divisions under the lights in the evening. In total\, more than 500 racers will compete on the NASCAR-style circuit through the streets of Downtown Littleton\, making it the largest road cycling race in Colorado. \nThere will be live music by Journey tribute band Those Crazy Nights\, food trucks\, a beer garden\, a “cruiser” ride through the course open to everyone\, and a dedicated family area. The races run from to 10 p.m.\, and the entire event is free to attend.
URL:https://littletondda.org/event/littleton-twilight-criterium/
LOCATION:Downtown Littleton\, 2516 Main St\, Littleton\, CO\, 80120\, United States
CATEGORIES:Downtown Littleton Signature Event,Race
ATTACH;FMTTYPE=image/jpeg:https://littletondda.org/wp-content/uploads/2024/03/criterium-featured-image.jpg
END:VEVENT
BEGIN:VEVENT
DTSTART;TZID=America/Denver:20240726T100000
DTEND;TZID=America/Denver:20240726T200000
DTSTAMP:20260423T154329
CREATED:20240603T172551Z
LAST-MODIFIED:20240603T172551Z
UID:8737-1721988000-1722024000@littletondda.org
SUMMARY:Final Fridays in Downtown Littleton
DESCRIPTION:Who: Downtown Littleton Merchants\n\nWhat: An event that adds vitality and engages the Littleton community through extended shopping hours and an enhanced downtown experience.\n\nWhen: Occurs on the last Friday of every month throughout 2024.\n3/29\, 4/26\, 5/31\, 6/28\, 7/26\, 8/30\, 9/27\, 10/25\, 11/29\, 12/27\n\nWhere: Downtown Littleton\n\nFollow us on Instagram for more details: @Final_Fridays_Littleton
URL:https://littletondda.org/event/final-fridays-in-downtown-littleton-6/
LOCATION:Downtown Littleton\, 2516 Main St\, Littleton\, CO\, 80120\, United States
CATEGORIES:Downtown Littleton Signature Event,Shopping
ATTACH;FMTTYPE=application/pdf:https://littletondda.org/wp-content/uploads/2024/02/FINAL-FRIDAYS-PDF.pdf
END:VEVENT
BEGIN:VEVENT
DTSTART;TZID=America/Denver:20240628T100000
DTEND;TZID=America/Denver:20240628T200000
DTSTAMP:20260423T154329
CREATED:20240501T200156Z
LAST-MODIFIED:20240501T200156Z
UID:8728-1719568800-1719604800@littletondda.org
SUMMARY:Final Fridays in Downtown Littleton
DESCRIPTION:Who: Downtown Littleton Merchants\n\nWhat: An event that adds vitality and engages the Littleton community through extended shopping hours and an enhanced downtown experience.\n\nWhen: Occurs on the last Friday of every month throughout 2024.\n3/29\, 4/26\, 5/31\, 6/28\, 7/26\, 8/30\, 9/27\, 10/25\, 11/29\, 12/27\n\nWhere: Downtown Littleton\n\nFollow us on Instagram for more details: @Final_Fridays_Littleton
URL:https://littletondda.org/event/final-fridays-in-downtown-littleton-5/
LOCATION:Downtown Littleton\, 2516 Main St\, Littleton\, CO\, 80120\, United States
CATEGORIES:Downtown Littleton Signature Event,Shopping
ATTACH;FMTTYPE=application/pdf:https://littletondda.org/wp-content/uploads/2024/02/FINAL-FRIDAYS-PDF.pdf
END:VEVENT
BEGIN:VEVENT
DTSTART;TZID=America/Denver:20240531T100000
DTEND;TZID=America/Denver:20240531T200000
DTSTAMP:20260423T154329
CREATED:20240501T195711Z
LAST-MODIFIED:20240501T195711Z
UID:8727-1717149600-1717185600@littletondda.org
SUMMARY:Final Fridays in Downtown Littleton
DESCRIPTION:Who: Downtown Littleton Merchants\n\n\nWhat: An event that adds vitality and engages the Littleton community through extended shopping hours and an enhanced downtown experience.\n\n\nWhen: Occurs on the last Friday of every month throughout 2024.\n3/29\, 4/26\, 5/31\, 6/28\, 7/26\, 8/30\, 9/27\, 10/25\, 11/29\, 12/27\n\n\nWhere: Downtown Littleton\n\n\n2024 Participants: J Claire Women’s Fashion\, Lollygag Antiques & Boutique\, Juniperseed Mercantile\, In-Tea\, PlayForge\, General Store 45\, Reinke Brothers\, Elsewear Collective\, Willow and Tulaire\, Colorado Frame Co\, SweetFire Boutique\, Spell Books\, Giggleblossom Boutique\, Grande Station\, Black+Haus Tavern\, Playa Bowl
URL:https://littletondda.org/event/final-fridays-in-downtown-littleton-4/
LOCATION:Downtown Littleton\, 2516 Main St\, Littleton\, CO\, 80120\, United States
CATEGORIES:Downtown Littleton Signature Event,Shopping
ATTACH;FMTTYPE=application/pdf:https://littletondda.org/wp-content/uploads/2024/02/FINAL-FRIDAYS-PDF.pdf
END:VEVENT
END:VCALENDAR