BEGIN:VCALENDAR
VERSION:2.0
PRODID:-//Downtown Littleton - ECPv6.15.18//NONSGML v1.0//EN
CALSCALE:GREGORIAN
METHOD:PUBLISH
X-WR-CALNAME:Downtown Littleton
X-ORIGINAL-URL:https://littletondda.org
X-WR-CALDESC:Events for Downtown Littleton
REFRESH-INTERVAL;VALUE=DURATION:PT1H
X-Robots-Tag:noindex
X-PUBLISHED-TTL:PT1H
BEGIN:VTIMEZONE
TZID:America/Denver
BEGIN:DAYLIGHT
TZOFFSETFROM:-0700
TZOFFSETTO:-0600
TZNAME:MDT
DTSTART:20230312T090000
END:DAYLIGHT
BEGIN:STANDARD
TZOFFSETFROM:-0600
TZOFFSETTO:-0700
TZNAME:MST
DTSTART:20231105T080000
END:STANDARD
BEGIN:DAYLIGHT
TZOFFSETFROM:-0700
TZOFFSETTO:-0600
TZNAME:MDT
DTSTART:20240310T090000
END:DAYLIGHT
BEGIN:STANDARD
TZOFFSETFROM:-0600
TZOFFSETTO:-0700
TZNAME:MST
DTSTART:20241103T080000
END:STANDARD
BEGIN:DAYLIGHT
TZOFFSETFROM:-0700
TZOFFSETTO:-0600
TZNAME:MDT
DTSTART:20250309T090000
END:DAYLIGHT
BEGIN:STANDARD
TZOFFSETFROM:-0600
TZOFFSETTO:-0700
TZNAME:MST
DTSTART:20251102T080000
END:STANDARD
END:VTIMEZONE
BEGIN:VEVENT
DTSTART;TZID=America/Denver:20240505T120000
DTEND;TZID=America/Denver:20240505T180000
DTSTAMP:20260424T181115
CREATED:20240501T191232Z
LAST-MODIFIED:20240501T191232Z
UID:8725-1714910400-1714932000@littletondda.org
SUMMARY:Cinco de Mayo at Cencalli Taqueria
DESCRIPTION:It’s going to be a day filled with music\, dance\, and the best of Mexican cuisine. Plus\, there will be face painting for the kids! We can’t wait to see you there for a memorable celebration! \nCENCALLI TAQUERIA’S PATIO \n12:00-3:00 PM GRUPO SON TRES: SALSA\, MERENGUE\, AND CUMBIA SONGS \n3:00-4:00 PM DJ CONDE \n4:00-6:00 PM MARIACHI AZTECA
URL:https://littletondda.org/event/cinco-de-mayo-at-cencalli-taqueria/
LOCATION:Cencalli Taqueria\, 2389 Main Street\, Littleton\, CO\, 80120
CATEGORIES:Families,Food & Drink,Live Music
ATTACH;FMTTYPE=application/pdf:https://littletondda.org/wp-content/uploads/2024/05/Ct-Cinco-de-Mayo-Celebration-1.pdf
END:VEVENT
END:VCALENDAR