BEGIN:VCALENDAR
VERSION:2.0
PRODID:-//Downtown Littleton - ECPv6.15.18//NONSGML v1.0//EN
CALSCALE:GREGORIAN
METHOD:PUBLISH
X-ORIGINAL-URL:https://littletondda.org
X-WR-CALDESC:Events for Downtown Littleton
REFRESH-INTERVAL;VALUE=DURATION:PT1H
X-Robots-Tag:noindex
X-PUBLISHED-TTL:PT1H
BEGIN:VTIMEZONE
TZID:America/Denver
BEGIN:DAYLIGHT
TZOFFSETFROM:-0700
TZOFFSETTO:-0600
TZNAME:MDT
DTSTART:20230312T090000
END:DAYLIGHT
BEGIN:STANDARD
TZOFFSETFROM:-0600
TZOFFSETTO:-0700
TZNAME:MST
DTSTART:20231105T080000
END:STANDARD
BEGIN:DAYLIGHT
TZOFFSETFROM:-0700
TZOFFSETTO:-0600
TZNAME:MDT
DTSTART:20240310T090000
END:DAYLIGHT
BEGIN:STANDARD
TZOFFSETFROM:-0600
TZOFFSETTO:-0700
TZNAME:MST
DTSTART:20241103T080000
END:STANDARD
BEGIN:DAYLIGHT
TZOFFSETFROM:-0700
TZOFFSETTO:-0600
TZNAME:MDT
DTSTART:20250309T090000
END:DAYLIGHT
BEGIN:STANDARD
TZOFFSETFROM:-0600
TZOFFSETTO:-0700
TZNAME:MST
DTSTART:20251102T080000
END:STANDARD
END:VTIMEZONE
BEGIN:VEVENT
DTSTART;VALUE=DATE:20240927
DTEND;VALUE=DATE:20241104
DTSTAMP:20260424T094029
CREATED:20240911T193308Z
LAST-MODIFIED:20240911T193308Z
UID:8791-1727395200-1730678399@littletondda.org
SUMMARY:Reinke Brothers Haunted Mansion
DESCRIPTION:Welcome to the Ultimate Halloween Experience!\n\nGet Ready for the Spookiest Season Yet!\nStep into the twisted realm of Reinke Brothers’ Haunted Mansion as we awaken the slumbering monsters that lurk within! Get ready for a spine-chilling adventure like no other! The Haunted Mansion\, a beloved family tradition with over 50 years of frightful fun\, is back for another haunting season.Join us from September 27 to November 3\, 2024\, as we open our doors to terrify and delight visitors of all ages. So\, thrill-seekers and Halloween enthusiasts alike\, if you are ready to embrace the pulse-pounding excitement that only the spirit of Halloween can offer\, purchase your tickets now and prepare yourself for the ultimate Halloween experience – an adventure you will never forget! \n\nDON’T FORGET – We also offer a “lights on” tours for people of all ages that are not ready for the full effects of the Haunted Mansion.\nThis is a “Universal Studios” type guided tour through the Haunted Mansion with the lights on and most of the special effects off. We also send all the “monsters” away to get lunch. This is a perfect venue for getting young ones and first timers used to a haunted attraction without scaring them for life. \nTours are every Saturday & Sunday\, 10:00 am – 1:00 pm – September 28 to November 3\, 2024. \nCost for special “lights on tour”- $12.00 per person (child or adult). Coupons and discounts do not apply. \nTickets can be purchased online or at the box office.
URL:https://littletondda.org/event/reinke-brothers-haunted-mansion/
LOCATION:Reinke Bros Inc.\, 5663 South Prince Street\, Littleton\, CO\, 80120\, United States
CATEGORIES:Families,Holidays
ATTACH;FMTTYPE=image/png:https://littletondda.org/wp-content/uploads/2024/09/reinke-HauntedHouse-Logo-2.png
END:VEVENT
BEGIN:VEVENT
DTSTART;VALUE=DATE:20241011
DTEND;VALUE=DATE:20241102
DTSTAMP:20260424T094029
CREATED:20240911T195258Z
LAST-MODIFIED:20240911T195258Z
UID:8793-1728604800-1730505599@littletondda.org
SUMMARY:Pumpkin Poles
DESCRIPTION:Halloween begins with the creation of Pumpkin Poles by the downtown merchants. They will be on display in early October through Halloween (depending on the condition of the pumpkins). Located throughout downtown on Main\, Alamo and Prince Streets\, visit early in the month. You don’t want to miss these one-of-a-kind creations.
URL:https://littletondda.org/event/pumpkin-poles-2/
LOCATION:Downtown Littleton\, 2516 Main St\, Littleton\, CO\, 80120\, United States
CATEGORIES:Families,Holidays
ATTACH;FMTTYPE=image/png:https://littletondda.org/wp-content/uploads/2024/09/Capture.png
END:VEVENT
BEGIN:VEVENT
DTSTART;TZID=America/Denver:20241101T170000
DTEND;TZID=America/Denver:20241101T200000
DTSTAMP:20260424T094029
CREATED:20241016T025032Z
LAST-MODIFIED:20241016T025032Z
UID:9128-1730480400-1730491200@littletondda.org
SUMMARY:Dia De Los Muertos Expo
DESCRIPTION:A celebration of culture\, remembrance\, and community cohosted by Cencalli Taqueria and East Community Center.
URL:https://littletondda.org/event/dia-de-los-muertos-expo/
LOCATION:East Community Center\, 5933 S Fairfield St\, Littleton\, CO\, 80120\, United States
CATEGORIES:Charity,Families,Food & Drink,Holidays,Live Music,Visual & Performing Arts
ATTACH;FMTTYPE=image/png:https://littletondda.org/wp-content/uploads/2024/10/unnamed.png
END:VEVENT
BEGIN:VEVENT
DTSTART;TZID=America/Denver:20241116T090000
DTEND;TZID=America/Denver:20241116T100000
DTSTAMP:20260424T094029
CREATED:20241104T182112Z
LAST-MODIFIED:20241104T182112Z
UID:9308-1731747600-1731751200@littletondda.org
SUMMARY:Early Bird Shopping Hours at Spell Books
DESCRIPTION:On select Saturday mornings\, stop by at 9am for free coffee and a holiday-themed story time to entertain the kids.
URL:https://littletondda.org/event/early-bird-shopping-hours-at-spell-books/
LOCATION:Spell Books\, 2376 W Main Street\, Littleton\, CO\, 80120\, United States
CATEGORIES:Families,Holidays,Shopping
ATTACH;FMTTYPE=image/png:https://littletondda.org/wp-content/uploads/2024/11/Early-Bird-Shopping-Hours.png
END:VEVENT
BEGIN:VEVENT
DTSTART;VALUE=DATE:20241122
DTEND;VALUE=DATE:20241230
DTSTAMP:20260424T094029
CREATED:20241104T175239Z
LAST-MODIFIED:20241104T175239Z
UID:9292-1732233600-1735516799@littletondda.org
SUMMARY:Meredith Willson’s Miracle on 34th Street: The Musical
DESCRIPTION:Presented through a generous community partnership with Grande Station. \nIs he or isn’t he? That’s the question this enchanting musical based on the Academy Award-winning film of the same name sets out to answer. Doris Walker is a single mom raising her 6-year-old daughter\, Susan\, in New York City. When Doris’ charming neighbor\, Fred\, volunteers to take Susan to meet Kris Kringle at Macy’s Department Store\, holiday magic is let loose all throughout the Big (Candy) Apple! Filled with delightful music and a spirit of hope\, Meredith Willson’s Miracle on 34th Street puts cynicism on trial and invites audience members of all ages to believe in Santa Claus again! \n\nThank you to Grande Station for feeding our casts and crews on their double performance days! \nPatrons of Town Hall Arts Center receive exclusive discounts at Grande Station on performance days with their proof of ticket — so please stop by\, and support this local Littleton business!
URL:https://littletondda.org/event/meredith-willsons-miracle-on-34th-street-the-musical/
LOCATION:Town Hall Arts Center\, 2450 Main St\, Littleton\, 80120\, United States
CATEGORIES:Families,Holidays,Visual & Performing Arts
ATTACH;FMTTYPE=image/jpeg:https://littletondda.org/wp-content/uploads/2024/11/Miracle-Square-v2.jpg
END:VEVENT
BEGIN:VEVENT
DTSTART;VALUE=DATE:20241129
DTEND;VALUE=DATE:20241222
DTSTAMP:20260424T094029
CREATED:20241122T184605Z
LAST-MODIFIED:20241122T184605Z
UID:9770-1732838400-1734825599@littletondda.org
SUMMARY:Black+Haus Tavern's Toy Drive
DESCRIPTION:Share the joy\, bring happiness.  Donate new\, unwrapped toys and help make the holiday special for children in need.  Each toy donation earns you one raffle entry for a chance to win a Black+Haus Tavern gift card.
URL:https://littletondda.org/event/blackhaus-taverns-toy-drive/
LOCATION:Black+Haus Tavern Littleton\, 2439 Main Street\, Littleton\, CO\, 80120\, United States
CATEGORIES:Charity,Families,Shopping
ATTACH;FMTTYPE=image/jpeg:https://littletondda.org/wp-content/uploads/2024/11/Toy-Drive-2024.jpg
END:VEVENT
BEGIN:VEVENT
DTSTART;TZID=America/Denver:20241129T170000
DTEND;TZID=America/Denver:20241129T200000
DTSTAMP:20260424T094029
CREATED:20241118T161239Z
LAST-MODIFIED:20241118T161239Z
UID:9658-1732899600-1732910400@littletondda.org
SUMMARY:Warm\, Merry & Bright: Littleton Parade Pop-Up Shop
DESCRIPTION:Celebrate the Magic of Littleton’s 36th Annual Christmas Parade! 🎄\nJoin us at Creative Spaces Co. on Friday\, November 29\, from 5:00 PM to 8:00 PM at 2595 West Alamo Avenue\, Littleton\, CO.\, as we transform our shop and event space into a cozy winter wonderland\, perfect for warming up before and after the parade. Step inside to discover a beautifully curated collection of holiday decor\, art\, and furnishings. \nBring the whole family! Mrs. Claus will be on-site\, handing out small\, free toys to children\, while The Polar Express plays in the background to spread festive cheer. It’s the ideal evening to find seasonal treasures for your home and enjoy the parade night festivities with the WHOLE FAMILY! \nDon’t Miss Our Raffle!\nEach time you attend one of our six pop-ups this season\, you can enter to win amazing prizes\, including a grand prize of a special event hosted in our stunning space valued at $3\,000! Plus\, two beautifully designed holiday decor centerpieces will be given away. You don’t need to be present to win\, so come by and increase your chances! \nLet’s come together to celebrate the change of season and create lasting connections! ✨ \nIf you can’t attend this event\, join us at one of our upcoming pop-ups. The more you visit\, the more opportunities you have to win! \n✨Shop Local: Small Business Saturday Pop-Up Saturday\, November 30 – 10 am- 7 pm \n✨Holiday Haven Pop-Up: Gifts & Decor Saturday\, December 7 – 10 am-5 pm \n✨Holiday Haven Pop-Up: Gifts & Decor Saturday\, December 14 – 10 am-5 pm \n✨Winter’s Glow: Solstice Pop-Up & Raffle Finale Saturday\, December 21 – 10 am- 3 pm
URL:https://littletondda.org/event/warm-merry-bright-littleton-parade-pop-up-shop/
LOCATION:Creative Spaces\, 2595 W Alamo Ave\, Littleton\, CO\, 80120\, United States
CATEGORIES:Families,Holidays,Shopping
ATTACH;FMTTYPE=image/jpeg:https://littletondda.org/wp-content/uploads/2024/11/https___cdn.evbuc_.com_images_889354973_953038876853_1_original.jpg
END:VEVENT
BEGIN:VEVENT
DTSTART;TZID=America/Denver:20241129T173000
DTEND;TZID=America/Denver:20241129T180000
DTSTAMP:20260424T094029
CREATED:20241104T175958Z
LAST-MODIFIED:20241104T175958Z
UID:9298-1732901400-1732903200@littletondda.org
SUMMARY:Pajama Story Time at Spell Books
DESCRIPTION:Join us for a special cozy story time for children before the Littleton Candlelight Walk.  Local author Cathy Urdahl will read some holiday favorites\, and participants are encouraged to attend in their comfiest pajamas!
URL:https://littletondda.org/event/pajama-story-time-at-spell-books/
LOCATION:Spell Books\, 2376 W Main Street\, Littleton\, CO\, 80120\, United States
CATEGORIES:Families,Holidays
ATTACH;FMTTYPE=image/png:https://littletondda.org/wp-content/uploads/2024/11/PAJAMA.png
END:VEVENT
BEGIN:VEVENT
DTSTART;TZID=America/Denver:20241129T173000
DTEND;TZID=America/Denver:20241129T200000
DTSTAMP:20260424T094029
CREATED:20241031T201209Z
LAST-MODIFIED:20241031T201209Z
UID:9244-1732901400-1732910400@littletondda.org
SUMMARY:2024 Candlelight Walk
DESCRIPTION:Celebrate the magic of the holiday season at the annual Candlelight Walk and holiday parade in the heart of Downtown Littleton! Experience the charm of Main Street as it transforms into a winter wonderland with festive carolers\, dancing Christmas trees\, hot cider\, and Santa’s jolly reindeer. \nDon’t miss the spectacular parade and drone show with the special guest of the evening — Santa! The parade begins at 6:30 p.m.\, and the drone show will fly over the Melting Pot at the west end of Main Street after Santa lights the big tree in Bowles Plaza. It’s an evening filled with joy\, community\, and holiday cheer. \nKnow Before You Go\nBest place to see the drone show: on Main Street anywhere west of Prince Street. Watch for the special holiday drone show to fly above the Melting Pot restaurant after Santa and his friends light the tree in Bowles Plaza. \nShop\, Dine\, and Save\nDownload the Open Rewards app before heading to the Candlelight Walk and earn 10% back when shopping or dining at participating businesses in Downtown Littleton. \nSmall Business Saturday is November 30!\nEarn 10% through the Open Rewards app when supporting participating Littleton businesses on November 30: \n\nShopping\nFood and Drink\n\nParade Route\nMap to come \nParking\nStreet parking is available throughout Downtown Littleton\, as well as at the Littleton Center\, 2255 W. Berry Avenue. Paid parking is available in the Reinke Brothers parking lot at 5663 S. Prince Street.\nDowntown Littleton Parking Map 
URL:https://littletondda.org/event/2024-candlelight-walk/
LOCATION:Downtown Littleton\, 2516 Main St\, Littleton\, CO\, 80120\, United States
CATEGORIES:Families,Holidays
ATTACH;FMTTYPE=image/png:https://littletondda.org/wp-content/uploads/2024/10/2024-Candlelight-Walk-web-graphic.png
END:VEVENT
BEGIN:VEVENT
DTSTART;TZID=America/Denver:20241130T110000
DTEND;TZID=America/Denver:20241130T140000
DTSTAMP:20260424T094029
CREATED:20241122T182200Z
LAST-MODIFIED:20241122T182249Z
UID:9750-1732964400-1732975200@littletondda.org
SUMMARY:Santa on Main Street Littleton!
DESCRIPTION:Santa will be cruising in his Jeep and strolling down Main Street most weekends in December and passing out little toys for all the children.  Stop and say hello and grab a photo!
URL:https://littletondda.org/event/santa-on-main-street-littleton/
LOCATION:Downtown Littleton\, 2516 Main St\, Littleton\, CO\, 80120\, United States
CATEGORIES:Families,Holidays
ATTACH;FMTTYPE=image/jpeg:https://littletondda.org/wp-content/uploads/2024/11/Best-Rocker-Santa-scaled.jpg
END:VEVENT
END:VCALENDAR