BEGIN:VCALENDAR
VERSION:2.0
PRODID:-//Downtown Littleton - ECPv6.15.18//NONSGML v1.0//EN
CALSCALE:GREGORIAN
METHOD:PUBLISH
X-ORIGINAL-URL:https://littletondda.org
X-WR-CALDESC:Events for Downtown Littleton
REFRESH-INTERVAL;VALUE=DURATION:PT1H
X-Robots-Tag:noindex
X-PUBLISHED-TTL:PT1H
BEGIN:VTIMEZONE
TZID:America/Denver
BEGIN:DAYLIGHT
TZOFFSETFROM:-0700
TZOFFSETTO:-0600
TZNAME:MDT
DTSTART:20230312T090000
END:DAYLIGHT
BEGIN:STANDARD
TZOFFSETFROM:-0600
TZOFFSETTO:-0700
TZNAME:MST
DTSTART:20231105T080000
END:STANDARD
BEGIN:DAYLIGHT
TZOFFSETFROM:-0700
TZOFFSETTO:-0600
TZNAME:MDT
DTSTART:20240310T090000
END:DAYLIGHT
BEGIN:STANDARD
TZOFFSETFROM:-0600
TZOFFSETTO:-0700
TZNAME:MST
DTSTART:20241103T080000
END:STANDARD
BEGIN:DAYLIGHT
TZOFFSETFROM:-0700
TZOFFSETTO:-0600
TZNAME:MDT
DTSTART:20250309T090000
END:DAYLIGHT
BEGIN:STANDARD
TZOFFSETFROM:-0600
TZOFFSETTO:-0700
TZNAME:MST
DTSTART:20251102T080000
END:STANDARD
END:VTIMEZONE
BEGIN:VEVENT
DTSTART;VALUE=DATE:20241122
DTEND;VALUE=DATE:20241230
DTSTAMP:20260424T080629
CREATED:20241104T175239Z
LAST-MODIFIED:20241104T175239Z
UID:9292-1732233600-1735516799@littletondda.org
SUMMARY:Meredith Willson’s Miracle on 34th Street: The Musical
DESCRIPTION:Presented through a generous community partnership with Grande Station. \nIs he or isn’t he? That’s the question this enchanting musical based on the Academy Award-winning film of the same name sets out to answer. Doris Walker is a single mom raising her 6-year-old daughter\, Susan\, in New York City. When Doris’ charming neighbor\, Fred\, volunteers to take Susan to meet Kris Kringle at Macy’s Department Store\, holiday magic is let loose all throughout the Big (Candy) Apple! Filled with delightful music and a spirit of hope\, Meredith Willson’s Miracle on 34th Street puts cynicism on trial and invites audience members of all ages to believe in Santa Claus again! \n\nThank you to Grande Station for feeding our casts and crews on their double performance days! \nPatrons of Town Hall Arts Center receive exclusive discounts at Grande Station on performance days with their proof of ticket — so please stop by\, and support this local Littleton business!
URL:https://littletondda.org/event/meredith-willsons-miracle-on-34th-street-the-musical/
LOCATION:Town Hall Arts Center\, 2450 Main St\, Littleton\, 80120\, United States
CATEGORIES:Families,Holidays,Visual & Performing Arts
ATTACH;FMTTYPE=image/jpeg:https://littletondda.org/wp-content/uploads/2024/11/Miracle-Square-v2.jpg
END:VEVENT
BEGIN:VEVENT
DTSTART;VALUE=DATE:20241129
DTEND;VALUE=DATE:20241222
DTSTAMP:20260424T080629
CREATED:20241122T184605Z
LAST-MODIFIED:20241122T184605Z
UID:9770-1732838400-1734825599@littletondda.org
SUMMARY:Black+Haus Tavern's Toy Drive
DESCRIPTION:Share the joy\, bring happiness.  Donate new\, unwrapped toys and help make the holiday special for children in need.  Each toy donation earns you one raffle entry for a chance to win a Black+Haus Tavern gift card.
URL:https://littletondda.org/event/blackhaus-taverns-toy-drive/
LOCATION:Black+Haus Tavern Littleton\, 2439 Main Street\, Littleton\, CO\, 80120\, United States
CATEGORIES:Charity,Families,Shopping
ATTACH;FMTTYPE=image/jpeg:https://littletondda.org/wp-content/uploads/2024/11/Toy-Drive-2024.jpg
END:VEVENT
BEGIN:VEVENT
DTSTART;TZID=America/Denver:20241201T110000
DTEND;TZID=America/Denver:20241201T140000
DTSTAMP:20260424T080629
CREATED:20241122T182338Z
LAST-MODIFIED:20241122T182338Z
UID:9755-1733050800-1733061600@littletondda.org
SUMMARY:Santa on Main Street Littleton!
DESCRIPTION:Santa will be cruising in his Jeep and strolling down Main Street most weekends in December and passing out little toys for all the children.  Stop and say hello and grab a photo!
URL:https://littletondda.org/event/santa-on-main-street-littleton-2/
LOCATION:Downtown Littleton\, 2516 Main St\, Littleton\, CO\, 80120\, United States
CATEGORIES:Families,Holidays
ATTACH;FMTTYPE=image/jpeg:https://littletondda.org/wp-content/uploads/2024/11/Best-Rocker-Santa-scaled.jpg
END:VEVENT
BEGIN:VEVENT
DTSTART;TZID=America/Denver:20241207T110000
DTEND;TZID=America/Denver:20241207T140000
DTSTAMP:20260424T080629
CREATED:20241122T182404Z
LAST-MODIFIED:20241122T182404Z
UID:9757-1733569200-1733580000@littletondda.org
SUMMARY:Santa on Main Street Littleton!
DESCRIPTION:Santa will be cruising in his Jeep and strolling down Main Street most weekends in December and passing out little toys for all the children.  Stop and say hello and grab a photo!
URL:https://littletondda.org/event/santa-on-main-street-littleton-3/
LOCATION:Downtown Littleton\, 2516 Main St\, Littleton\, CO\, 80120\, United States
CATEGORIES:Families,Holidays
ATTACH;FMTTYPE=image/jpeg:https://littletondda.org/wp-content/uploads/2024/11/Best-Rocker-Santa-scaled.jpg
END:VEVENT
BEGIN:VEVENT
DTSTART;TZID=America/Denver:20241208T120000
DTEND;TZID=America/Denver:20241208T140000
DTSTAMP:20260424T080629
CREATED:20241119T183718Z
LAST-MODIFIED:20241119T183718Z
UID:9719-1733659200-1733666400@littletondda.org
SUMMARY:Santa Paws & Family Photos
DESCRIPTION:SANTAAAAAA is coming to DBC\nDecember 8th from 12pm-2pm at your Neighborhood Denver Beer Co. Taproom\nGet ready to sleigh those holiday cards at this dog and family friendly event. Join us and our friends at Fi at all 5 of our taprooms for a festive photo sesh with Santa. \nThis one’s for all the good pups and their humans!  Whether you’re bringing the family\, your best four-legged friend\, or your besties\, get ready to snap some holiday magic\, brought to you in partnership with FI Dog Collars. Grab your tickets\, get those ugly sweaters out\, and let’s make memories you can paws and admire all season long! \n\nTickets & Reservations\nEach Ticket ($25) includes:\n\nA professionally shot hi-res digital family photo\nA pint of your favorite Denver Beer Co. brew to sip while you wait
URL:https://littletondda.org/event/santa-paws-family-photos/
LOCATION:Denver Beer Company\, Littleton\, 2409 Main Street\, Littleton\, CO\, 80120
CATEGORIES:Families,Food & Drink,Holidays
ATTACH;FMTTYPE=image/jpeg:https://littletondda.org/wp-content/uploads/2024/11/SANTApaws2-1080x1080-1.jpg
END:VEVENT
BEGIN:VEVENT
DTSTART;VALUE=DATE:20241211
DTEND;VALUE=DATE:20241222
DTSTAMP:20260424T080629
CREATED:20241104T175552Z
LAST-MODIFIED:20241104T175552Z
UID:9295-1733875200-1734825599@littletondda.org
SUMMARY:A Christmas Carol Participation Play
DESCRIPTION:Come join us for our unique interactive take on this Dickens classic. We ask a few of our young audience members to join us onstage to help tell the tale of Bob Cratchitt\, Ebeneezer Scrooge\, and Tiny Tim. This participation play will introduce kids to theatre and this fun classic. The show is about 45 minutes and perfect for all ages and families. Even the audience will play a role. These productions have long been a holiday favorite.
URL:https://littletondda.org/event/a-christmas-carol-participation-play/
LOCATION:Town Hall Arts Center\, 2450 Main St\, Littleton\, 80120\, United States
CATEGORIES:Families,Holidays,Visual & Performing Arts
ATTACH;FMTTYPE=image/webp:https://littletondda.org/wp-content/uploads/2024/11/a-participation-christmas-carol-square.webp
END:VEVENT
BEGIN:VEVENT
DTSTART;TZID=America/Denver:20241214T010000
DTEND;TZID=America/Denver:20241214T134000
DTSTAMP:20260424T080629
CREATED:20241202T213955Z
LAST-MODIFIED:20241202T213955Z
UID:9900-1734138000-1734183600@littletondda.org
SUMMARY:Here Comes Santa Claus Holiday Concert for Kids
DESCRIPTION: (in person tickets only – no livestream available) \nOur annual 40-minute holiday concert for kids\, with an appearance by Santa himself! \nOne performance: \nSaturday\, December 14 at 1:00pm\, Douglas H. Buck Community Recreation Center\, 2004 W. Powers Ave.\, Littleton \nTickets – special pricing: \nAdult & Senior: $10 \nChild & Student: FREE \nPlease order a free Child ticket for each child in your party.
URL:https://littletondda.org/event/here-comes-santa-claus-holiday-concert-for-kids/
LOCATION:Douglas H. Buck Community Recreation Center\, 2004 W Powers Ave\, Littleton\, CO\, 80120\, United States
CATEGORIES:Families,Live Music,Visual & Performing Arts
ATTACH;FMTTYPE=image/jpeg:https://littletondda.org/wp-content/uploads/2024/12/VWTicketing_Santa.jpg
END:VEVENT
BEGIN:VEVENT
DTSTART;TZID=America/Denver:20241214T090000
DTEND;TZID=America/Denver:20241214T100000
DTSTAMP:20260424T080629
CREATED:20241104T182333Z
LAST-MODIFIED:20241104T182333Z
UID:9311-1734166800-1734170400@littletondda.org
SUMMARY:Early Bird Shopping Hours at Spell Books
DESCRIPTION:On select Saturday mornings\, stop by at 9am for free coffee and a holiday-themed story time to entertain the kids.
URL:https://littletondda.org/event/early-bird-shopping-hours-at-spell-books-2/
LOCATION:Spell Books\, 2376 W Main Street\, Littleton\, CO\, 80120\, United States
CATEGORIES:Families,Holidays,Shopping
ATTACH;FMTTYPE=image/png:https://littletondda.org/wp-content/uploads/2024/11/Early-Bird-Shopping-Hours.png
END:VEVENT
BEGIN:VEVENT
DTSTART;TZID=America/Denver:20241214T110000
DTEND;TZID=America/Denver:20241214T140000
DTSTAMP:20260424T080629
CREATED:20241122T182436Z
LAST-MODIFIED:20241122T182436Z
UID:9759-1734174000-1734184800@littletondda.org
SUMMARY:Santa on Main Street Littleton!
DESCRIPTION:Santa will be cruising in his Jeep and strolling down Main Street most weekends in December and passing out little toys for all the children.  Stop and say hello and grab a photo!
URL:https://littletondda.org/event/santa-on-main-street-littleton-4/
LOCATION:Downtown Littleton\, 2516 Main St\, Littleton\, CO\, 80120\, United States
CATEGORIES:Families,Holidays
ATTACH;FMTTYPE=image/jpeg:https://littletondda.org/wp-content/uploads/2024/11/Best-Rocker-Santa-scaled.jpg
END:VEVENT
BEGIN:VEVENT
DTSTART;TZID=America/Denver:20241215T110000
DTEND;TZID=America/Denver:20241215T140000
DTSTAMP:20260424T080629
CREATED:20241122T182503Z
LAST-MODIFIED:20241122T182503Z
UID:9761-1734260400-1734271200@littletondda.org
SUMMARY:Santa on Main Street Littleton!
DESCRIPTION:Santa will be cruising in his Jeep and strolling down Main Street most weekends in December and passing out little toys for all the children.  Stop and say hello and grab a photo!
URL:https://littletondda.org/event/santa-on-main-street-littleton-5/
LOCATION:Downtown Littleton\, 2516 Main St\, Littleton\, CO\, 80120\, United States
CATEGORIES:Families,Holidays
ATTACH;FMTTYPE=image/jpeg:https://littletondda.org/wp-content/uploads/2024/11/Best-Rocker-Santa-scaled.jpg
END:VEVENT
BEGIN:VEVENT
DTSTART;TZID=America/Denver:20241221T090000
DTEND;TZID=America/Denver:20241221T100000
DTSTAMP:20260424T080629
CREATED:20241104T184111Z
LAST-MODIFIED:20241104T184111Z
UID:9314-1734771600-1734775200@littletondda.org
SUMMARY:Early Bird Shopping Hours at Spell Books
DESCRIPTION:On select Saturday mornings\, stop by at 9am for free coffee and holiday-themed story time to entertain the kids.
URL:https://littletondda.org/event/early-bird-shopping-hours-at-spell-books-3/
LOCATION:Spell Books\, 2376 W Main Street\, Littleton\, CO\, 80120\, United States
CATEGORIES:Families,Holidays,Shopping
ATTACH;FMTTYPE=image/png:https://littletondda.org/wp-content/uploads/2024/11/Early-Bird-Shopping-Hours.png
END:VEVENT
BEGIN:VEVENT
DTSTART;TZID=America/Denver:20241221T110000
DTEND;TZID=America/Denver:20241221T140000
DTSTAMP:20260424T080629
CREATED:20241122T182528Z
LAST-MODIFIED:20241122T182528Z
UID:9763-1734778800-1734789600@littletondda.org
SUMMARY:Santa on Main Street Littleton!
DESCRIPTION:Santa will be cruising in his Jeep and strolling down Main Street most weekends in December and passing out little toys for all the children.  Stop and say hello and grab a photo!
URL:https://littletondda.org/event/santa-on-main-street-littleton-6/
LOCATION:Downtown Littleton\, 2516 Main St\, Littleton\, CO\, 80120\, United States
CATEGORIES:Families,Holidays
ATTACH;FMTTYPE=image/jpeg:https://littletondda.org/wp-content/uploads/2024/11/Best-Rocker-Santa-scaled.jpg
END:VEVENT
BEGIN:VEVENT
DTSTART;TZID=America/Denver:20241222T110000
DTEND;TZID=America/Denver:20241222T140000
DTSTAMP:20260424T080629
CREATED:20241122T182601Z
LAST-MODIFIED:20241122T182601Z
UID:9765-1734865200-1734876000@littletondda.org
SUMMARY:Santa on Main Street Littleton!
DESCRIPTION:Santa will be cruising in his Jeep and strolling down Main Street most weekends in December and passing out little toys for all the children.  Stop and say hello and grab a photo!
URL:https://littletondda.org/event/santa-on-main-street-littleton-7/
LOCATION:Downtown Littleton\, 2516 Main St\, Littleton\, CO\, 80120\, United States
CATEGORIES:Families,Holidays
ATTACH;FMTTYPE=image/jpeg:https://littletondda.org/wp-content/uploads/2024/11/Best-Rocker-Santa-scaled.jpg
END:VEVENT
END:VCALENDAR