BEGIN:VCALENDAR
VERSION:2.0
PRODID:-//Downtown Littleton - ECPv6.15.18//NONSGML v1.0//EN
CALSCALE:GREGORIAN
METHOD:PUBLISH
X-WR-CALNAME:Downtown Littleton
X-ORIGINAL-URL:https://littletondda.org
X-WR-CALDESC:Events for Downtown Littleton
REFRESH-INTERVAL;VALUE=DURATION:PT1H
X-Robots-Tag:noindex
X-PUBLISHED-TTL:PT1H
BEGIN:VTIMEZONE
TZID:America/Denver
BEGIN:DAYLIGHT
TZOFFSETFROM:-0700
TZOFFSETTO:-0600
TZNAME:MDT
DTSTART:20240310T090000
END:DAYLIGHT
BEGIN:STANDARD
TZOFFSETFROM:-0600
TZOFFSETTO:-0700
TZNAME:MST
DTSTART:20241103T080000
END:STANDARD
BEGIN:DAYLIGHT
TZOFFSETFROM:-0700
TZOFFSETTO:-0600
TZNAME:MDT
DTSTART:20250309T090000
END:DAYLIGHT
BEGIN:STANDARD
TZOFFSETFROM:-0600
TZOFFSETTO:-0700
TZNAME:MST
DTSTART:20251102T080000
END:STANDARD
BEGIN:DAYLIGHT
TZOFFSETFROM:-0700
TZOFFSETTO:-0600
TZNAME:MDT
DTSTART:20260308T090000
END:DAYLIGHT
BEGIN:STANDARD
TZOFFSETFROM:-0600
TZOFFSETTO:-0700
TZNAME:MST
DTSTART:20261101T080000
END:STANDARD
END:VTIMEZONE
BEGIN:VEVENT
DTSTART;VALUE=DATE:20250926
DTEND;VALUE=DATE:20251103
DTSTAMP:20260423T190445
CREATED:20250908T175831Z
LAST-MODIFIED:20250908T175831Z
UID:13941-1758844800-1762127999@littletondda.org
SUMMARY:Reinke Brothers Haunted Mansion
DESCRIPTION:Welcome to the Ultimate Halloween Experience!\n\nGet Ready for the Spookiest Season Yet!\nStep into the twisted realm of Reinke Brothers’ Haunted Mansion as we awaken the slumbering monsters that lurk within! Get ready for a spine-chilling adventure like no other! The Haunted Mansion\, a beloved family tradition with over 50 years of frightful fun\, is back for another haunting season.Join us from September 26 to November 2\, 2025\, as we open our doors to terrify and delight visitors of all ages. So\, thrill-seekers and Halloween enthusiasts alike\, if you are ready to embrace the pulse-pounding excitement that only the spirit of Halloween can offer\, purchase your tickets now and prepare yourself for the ultimate Halloween experience – an adventure you will never forget! \n\n\n\nDON’T FORGET – We also offer a “lights on” tours for people of all ages that are not ready for the full effects of the Haunted Mansion.\nThis is a “Universal Studios” type guided tour through the Haunted Mansion with the lights on and most of the special effects off. We also send all the “monsters” away to get lunch. This is a perfect venue for getting young ones and first timers used to a haunted attraction without scaring them for life. \nTours are every Saturday & Sunday\, 10:00 am – 1:00 pm – September 27 to November 2\, 2025. \nCost for special “lights on tour”- $12.00 per person (child or adult). Coupons and discounts do not apply. \nTickets can be purchased online or at the box office.
URL:https://littletondda.org/event/reinke-brothers-haunted-mansion-2/
LOCATION:Reinke Bros Inc.\, 5663 South Prince Street\, Littleton\, CO\, 80120\, United States
CATEGORIES:Families,Holidays
ATTACH;FMTTYPE=image/png:https://littletondda.org/wp-content/uploads/2024/09/reinke-HauntedHouse-Logo-2.png
END:VEVENT
BEGIN:VEVENT
DTSTART;VALUE=DATE:20251011
DTEND;VALUE=DATE:20251012
DTSTAMP:20260423T190445
CREATED:20250706T050656Z
LAST-MODIFIED:20250706T050656Z
UID:12840-1760140800-1760227199@littletondda.org
SUMMARY:Big Pride Littleton 2025
DESCRIPTION:The community showed up big for Big Pride Littleton! We saw just under 1\,000 attendees on October 12. Anastasia Krystals kept the energy going and DJ Markie closed us out strong. We can’t wait for the second year.
URL:https://littletondda.org/event/big-pride-littleton-2025/
LOCATION:Bega Park\, 2250 Main St\, Littleton\, CO\, 80120\, United States
CATEGORIES:Families
ATTACH;FMTTYPE=image/jpeg:https://littletondda.org/wp-content/uploads/2024/09/unnamed-16.jpg
END:VEVENT
BEGIN:VEVENT
DTSTART;VALUE=DATE:20251024
DTEND;VALUE=DATE:20251025
DTSTAMP:20260423T190445
CREATED:20250917T204406Z
LAST-MODIFIED:20250917T204406Z
UID:14244-1761264000-1761350399@littletondda.org
SUMMARY:Halloween Storytime at Spellbooks
DESCRIPTION:Save the date\, time to be announced soon!
URL:https://littletondda.org/event/halloween-storytime-at-spellbooks/
LOCATION:Spell Books\, 2376 W Main Street\, Littleton\, CO\, 80120\, United States
CATEGORIES:Families,Holidays
END:VEVENT
BEGIN:VEVENT
DTSTART;TZID=America/Denver:20251026T110000
DTEND;TZID=America/Denver:20251026T130000
DTSTAMP:20260423T190445
CREATED:20251005T001514Z
LAST-MODIFIED:20251005T001514Z
UID:14581-1761476400-1761483600@littletondda.org
SUMMARY:Kids Halloween Party @ Records on Main
DESCRIPTION:
URL:https://littletondda.org/event/kids-halloween-party-records-on-main/
LOCATION:Records on Main\, 2430 Main St\, Littleton\, CO\, 80120\, United States
CATEGORIES:Families,Holidays,Shopping
ATTACH;FMTTYPE=image/png:https://littletondda.org/wp-content/uploads/2025/10/Screenshot-2025-10-04-at-5.55.03-PM.png
END:VEVENT
BEGIN:VEVENT
DTSTART;TZID=America/Denver:20251026T120000
DTEND;TZID=America/Denver:20251026T160000
DTSTAMP:20260423T190445
CREATED:20250828T160705Z
LAST-MODIFIED:20250927T165445Z
UID:13711-1761480000-1761494400@littletondda.org
SUMMARY:Goblin Give Out
DESCRIPTION:Hey Kids! Wear your Halloween Costumes and Trick-or-Treat at participating merchants throughout Downtown Littleton.
URL:https://littletondda.org/event/goblin-give-out-3/
LOCATION:Downtown Littleton\, 2516 Main St\, Littleton\, CO\, 80120\, United States
CATEGORIES:Families,Holidays
ATTACH;FMTTYPE=image/png:https://littletondda.org/wp-content/uploads/2025/08/unnamed-8.png
END:VEVENT
BEGIN:VEVENT
DTSTART;TZID=America/Denver:20251026T120000
DTEND;TZID=America/Denver:20251026T160000
DTSTAMP:20260423T190445
CREATED:20251018T143506Z
LAST-MODIFIED:20251018T144517Z
UID:14740-1761480000-1761494400@littletondda.org
SUMMARY:Little Man Ice Cream Littleton • Goblin Give-Out
DESCRIPTION:👻🎃 Enjoy this boo-tiful family tradition in Downtown Littleton. Kids in costume are invited to trick or treat at participating merchants for sugar shock-tober! Be sure to stop at Little Man Ice Cream on Main Street for a polaroid selfie and a monster sundae in our other-wordly halloween haunt!
URL:https://littletondda.org/event/little-man-ice-cream-littleton-goblin-give-out/
LOCATION:Little Man Ice Cream\, 2449 Main St\, Littleton\, Littleton\, CO\, 80120
CATEGORIES:Families,Food & Drink,Holidays
ATTACH;FMTTYPE=image/jpeg:https://littletondda.org/wp-content/uploads/2025/10/IMG_2839.jpg
END:VEVENT
BEGIN:VEVENT
DTSTART;TZID=America/Denver:20251029T180000
DTEND;TZID=America/Denver:20251029T200000
DTSTAMP:20260423T190445
CREATED:20251018T144041Z
LAST-MODIFIED:20251018T144547Z
UID:14754-1761760800-1761768000@littletondda.org
SUMMARY:Monster Mash @ Little Man Ice Cream
DESCRIPTION:Booo-gie on down in your favorite costume to Little Man Ice Cream Littleton to celebrate our 1st birthday! The DJ will be spinning up a monster mash of spooky family favorites to show off your All Hallow’s Eve groove! \nEnjoy trick-or-treats\, monster sundaes\, polaroid selfies and prizes for best costumes!
URL:https://littletondda.org/event/monster-mash-little-man-ice-cream/
LOCATION:Little Man Ice Cream\, 2449 Main St\, Littleton\, Littleton\, CO\, 80120
CATEGORIES:Families,Food & Drink,Holidays
ATTACH;FMTTYPE=image/jpeg:https://littletondda.org/wp-content/uploads/2025/10/IMG_2840-2.jpg
END:VEVENT
END:VCALENDAR