BEGIN:VCALENDAR
VERSION:2.0
PRODID:-//Downtown Littleton - ECPv6.15.18//NONSGML v1.0//EN
CALSCALE:GREGORIAN
METHOD:PUBLISH
X-WR-CALNAME:Downtown Littleton
X-ORIGINAL-URL:https://littletondda.org
X-WR-CALDESC:Events for Downtown Littleton
REFRESH-INTERVAL;VALUE=DURATION:PT1H
X-Robots-Tag:noindex
X-PUBLISHED-TTL:PT1H
BEGIN:VTIMEZONE
TZID:America/Denver
BEGIN:DAYLIGHT
TZOFFSETFROM:-0700
TZOFFSETTO:-0600
TZNAME:MDT
DTSTART:20230312T090000
END:DAYLIGHT
BEGIN:STANDARD
TZOFFSETFROM:-0600
TZOFFSETTO:-0700
TZNAME:MST
DTSTART:20231105T080000
END:STANDARD
BEGIN:DAYLIGHT
TZOFFSETFROM:-0700
TZOFFSETTO:-0600
TZNAME:MDT
DTSTART:20240310T090000
END:DAYLIGHT
BEGIN:STANDARD
TZOFFSETFROM:-0600
TZOFFSETTO:-0700
TZNAME:MST
DTSTART:20241103T080000
END:STANDARD
BEGIN:DAYLIGHT
TZOFFSETFROM:-0700
TZOFFSETTO:-0600
TZNAME:MDT
DTSTART:20250309T090000
END:DAYLIGHT
BEGIN:STANDARD
TZOFFSETFROM:-0600
TZOFFSETTO:-0700
TZNAME:MST
DTSTART:20251102T080000
END:STANDARD
END:VTIMEZONE
BEGIN:VEVENT
DTSTART;TZID=America/Denver:20240615T080000
DTEND;TZID=America/Denver:20240615T130000
DTSTAMP:20260424T181255
CREATED:20240515T172326Z
LAST-MODIFIED:20240515T172326Z
UID:8731-1718438400-1718456400@littletondda.org
SUMMARY:38th Annual Fire Parade & Muster
DESCRIPTION:Parade starts @ 9:00 am from S. Bannock St.\, south to Littleton Blvd. through downtown Littleton to Arapahoe Community College.  Parade lineup begins 8:00AM at S. Bannock Street and Rafferty Gardens.  \nMuster starts at 10 am at Arapahoe Community College @ Santa Fe Drive and Church Street. \nThank you to our special Partnership that provides current Rigs from South Metro Fire Rescue!     \nFood concessions will be available from 10:00AM until 1:00PM.                               \nEvents at the muster will include: \n Fire Truck Rides are back!  Donations will gladly be accepted by Credit Cards. 
URL:https://littletondda.org/event/38th-annual-fire-parade-muster/
LOCATION:Arapahoe Community College\, 5900 S. Santa Fe Drive\, Littleton\, CO\, 80120\, United States
CATEGORIES:Families
ATTACH;FMTTYPE=image/webp:https://littletondda.org/wp-content/uploads/2024/05/rsw_400cg_true.webp
END:VEVENT
END:VCALENDAR