BEGIN:VCALENDAR
VERSION:2.0
PRODID:-//Downtown Littleton - ECPv6.15.18//NONSGML v1.0//EN
CALSCALE:GREGORIAN
METHOD:PUBLISH
X-WR-CALNAME:Downtown Littleton
X-ORIGINAL-URL:https://littletondda.org
X-WR-CALDESC:Events for Downtown Littleton
REFRESH-INTERVAL;VALUE=DURATION:PT1H
X-Robots-Tag:noindex
X-PUBLISHED-TTL:PT1H
BEGIN:VTIMEZONE
TZID:America/Denver
BEGIN:DAYLIGHT
TZOFFSETFROM:-0700
TZOFFSETTO:-0600
TZNAME:MDT
DTSTART:20240310T090000
END:DAYLIGHT
BEGIN:STANDARD
TZOFFSETFROM:-0600
TZOFFSETTO:-0700
TZNAME:MST
DTSTART:20241103T080000
END:STANDARD
BEGIN:DAYLIGHT
TZOFFSETFROM:-0700
TZOFFSETTO:-0600
TZNAME:MDT
DTSTART:20250309T090000
END:DAYLIGHT
BEGIN:STANDARD
TZOFFSETFROM:-0600
TZOFFSETTO:-0700
TZNAME:MST
DTSTART:20251102T080000
END:STANDARD
BEGIN:DAYLIGHT
TZOFFSETFROM:-0700
TZOFFSETTO:-0600
TZNAME:MDT
DTSTART:20260308T090000
END:DAYLIGHT
BEGIN:STANDARD
TZOFFSETFROM:-0600
TZOFFSETTO:-0700
TZNAME:MST
DTSTART:20261101T080000
END:STANDARD
END:VTIMEZONE
BEGIN:VEVENT
DTSTART;TZID=America/Denver:20250707T083000
DTEND;TZID=America/Denver:20250711T120000
DTSTAMP:20260424T002047
CREATED:20250415T190937Z
LAST-MODIFIED:20250415T190937Z
UID:11615-1751877000-1752235200@littletondda.org
SUMMARY:GameBots Summer Youth Camp
DESCRIPTION:Calling all gamers! Have a blast creating robotic games each week while learning about robotics. Students will learn about gear ratio\, sensors\, programming\, and pulleys as they create fun to play games. Whether creating a robotic hockey player\, pinball machine\, or a ring toss\, your child is sure to have fun building\, learning\, and playing.\nFor ages 6-10\nFor more information\, email wcp@arapahoe.edu
URL:https://littletondda.org/event/gamebots-summer-youth-camp/
LOCATION:ACC Art & Design Center\, 2400 W. Alamo Ave.\, Littleton\, 80120
CATEGORIES:Families
ATTACH;FMTTYPE=image/png:https://littletondda.org/wp-content/uploads/2025/04/Game-Bots.png
END:VEVENT
END:VCALENDAR