BEGIN:VCALENDAR
VERSION:2.0
PRODID:-//Downtown Littleton - ECPv6.15.18//NONSGML v1.0//EN
CALSCALE:GREGORIAN
METHOD:PUBLISH
X-ORIGINAL-URL:https://littletondda.org
X-WR-CALDESC:Events for Downtown Littleton
REFRESH-INTERVAL;VALUE=DURATION:PT1H
X-Robots-Tag:noindex
X-PUBLISHED-TTL:PT1H
BEGIN:VTIMEZONE
TZID:America/Denver
BEGIN:DAYLIGHT
TZOFFSETFROM:-0700
TZOFFSETTO:-0600
TZNAME:MDT
DTSTART:20240310T090000
END:DAYLIGHT
BEGIN:STANDARD
TZOFFSETFROM:-0600
TZOFFSETTO:-0700
TZNAME:MST
DTSTART:20241103T080000
END:STANDARD
BEGIN:DAYLIGHT
TZOFFSETFROM:-0700
TZOFFSETTO:-0600
TZNAME:MDT
DTSTART:20250309T090000
END:DAYLIGHT
BEGIN:STANDARD
TZOFFSETFROM:-0600
TZOFFSETTO:-0700
TZNAME:MST
DTSTART:20251102T080000
END:STANDARD
BEGIN:DAYLIGHT
TZOFFSETFROM:-0700
TZOFFSETTO:-0600
TZNAME:MDT
DTSTART:20260308T090000
END:DAYLIGHT
BEGIN:STANDARD
TZOFFSETFROM:-0600
TZOFFSETTO:-0700
TZNAME:MST
DTSTART:20261101T080000
END:STANDARD
END:VTIMEZONE
BEGIN:VEVENT
DTSTART;TZID=America/Denver:20250721T123000
DTEND;TZID=America/Denver:20250725T160000
DTSTAMP:20260424T002203
CREATED:20250415T191003Z
LAST-MODIFIED:20250415T191003Z
UID:11613-1753101000-1753459200@littletondda.org
SUMMARY:Creature Creator Robotics Summer Youth Camp
DESCRIPTION:In Snapology’s Creature Creator Robotics class\, your animal lover will create their own animal inspired robotic models. Students will learn about gear ratio\, sensors\, simple machines\, and programming as they build insects\, dolphins\, gorillas\, and much more. Your child is sure to have a wild time as they build\, learn\, and play.\nFor ages 6-10\nFor more information\, email wcp@arapahoe.edu
URL:https://littletondda.org/event/creature-creator-robotics-summer-youth-camp/
LOCATION:ACC Art & Design Center\, 2400 W. Alamo Ave.\, Littleton\, 80120
CATEGORIES:Families
ATTACH;FMTTYPE=image/png:https://littletondda.org/wp-content/uploads/2025/04/Creature-Creator-Robotics.png
END:VEVENT
END:VCALENDAR