BEGIN:VCALENDAR
VERSION:2.0
PRODID:-//Downtown Littleton - ECPv6.15.18//NONSGML v1.0//EN
CALSCALE:GREGORIAN
METHOD:PUBLISH
X-ORIGINAL-URL:https://littletondda.org
X-WR-CALDESC:Events for Downtown Littleton
REFRESH-INTERVAL;VALUE=DURATION:PT1H
X-Robots-Tag:noindex
X-PUBLISHED-TTL:PT1H
BEGIN:VTIMEZONE
TZID:America/Denver
BEGIN:DAYLIGHT
TZOFFSETFROM:-0700
TZOFFSETTO:-0600
TZNAME:MDT
DTSTART:20250309T090000
END:DAYLIGHT
BEGIN:STANDARD
TZOFFSETFROM:-0600
TZOFFSETTO:-0700
TZNAME:MST
DTSTART:20251102T080000
END:STANDARD
BEGIN:DAYLIGHT
TZOFFSETFROM:-0700
TZOFFSETTO:-0600
TZNAME:MDT
DTSTART:20260308T090000
END:DAYLIGHT
BEGIN:STANDARD
TZOFFSETFROM:-0600
TZOFFSETTO:-0700
TZNAME:MST
DTSTART:20261101T080000
END:STANDARD
BEGIN:DAYLIGHT
TZOFFSETFROM:-0700
TZOFFSETTO:-0600
TZNAME:MDT
DTSTART:20270314T090000
END:DAYLIGHT
BEGIN:STANDARD
TZOFFSETFROM:-0600
TZOFFSETTO:-0700
TZNAME:MST
DTSTART:20271107T080000
END:STANDARD
END:VTIMEZONE
BEGIN:VEVENT
DTSTART;VALUE=DATE:20260121
DTEND;VALUE=DATE:20260212
DTSTAMP:20260423T153759
CREATED:20251230T034013Z
LAST-MODIFIED:20251230T034013Z
UID:15765-1768953600-1770854399@littletondda.org
SUMMARY:Littleton Public Schools Exhibition @ Colorado Gallery of the Arts at ACC
DESCRIPTION:Bursting with imagination! Artwork from talented K–12 students across the district. A fun\, uplifting celebration of young creativity.\nExhibition Dates: January 21 – February 11\nClosing Reception: Wednesday\, February 11 from 5-7pm\nAdditional Viewing: Saturday\, January 24 from 10am – 3pm \nThe Colorado Gallery of the Arts\, located on the first floor of the ACC Annex building on the Littleton Campus\, holds 8 to 10 juried exhibitions each year. We showcase work by students in our Art program and local artists.
URL:https://littletondda.org/event/littleton-public-schools-exhibition-colorado-gallery-of-the-arts-at-acc/
LOCATION:Colorado Gallery of the Arts at ACC\, 5900 S Santa Fe Dr\, Littleton\, 80120\, United States
CATEGORIES:Families,Visual & Performing Arts
ORGANIZER;CN="Colorado Gallery of the Arts at ACC":MAILTO:trish.sangelo@arapahoe.edu
END:VEVENT
END:VCALENDAR