BEGIN:VCALENDAR
VERSION:2.0
PRODID:-//Downtown Littleton - ECPv6.15.18//NONSGML v1.0//EN
CALSCALE:GREGORIAN
METHOD:PUBLISH
X-ORIGINAL-URL:https://littletondda.org
X-WR-CALDESC:Events for Downtown Littleton
REFRESH-INTERVAL;VALUE=DURATION:PT1H
X-Robots-Tag:noindex
X-PUBLISHED-TTL:PT1H
BEGIN:VTIMEZONE
TZID:America/Denver
BEGIN:DAYLIGHT
TZOFFSETFROM:-0700
TZOFFSETTO:-0600
TZNAME:MDT
DTSTART:20230312T090000
END:DAYLIGHT
BEGIN:STANDARD
TZOFFSETFROM:-0600
TZOFFSETTO:-0700
TZNAME:MST
DTSTART:20231105T080000
END:STANDARD
BEGIN:DAYLIGHT
TZOFFSETFROM:-0700
TZOFFSETTO:-0600
TZNAME:MDT
DTSTART:20240310T090000
END:DAYLIGHT
BEGIN:STANDARD
TZOFFSETFROM:-0600
TZOFFSETTO:-0700
TZNAME:MST
DTSTART:20241103T080000
END:STANDARD
BEGIN:DAYLIGHT
TZOFFSETFROM:-0700
TZOFFSETTO:-0600
TZNAME:MDT
DTSTART:20250309T090000
END:DAYLIGHT
BEGIN:STANDARD
TZOFFSETFROM:-0600
TZOFFSETTO:-0700
TZNAME:MST
DTSTART:20251102T080000
END:STANDARD
END:VTIMEZONE
BEGIN:VEVENT
DTSTART;TZID=America/Denver:20240424T103000
DTEND;TZID=America/Denver:20240424T113000
DTSTAMP:20260423T231051
CREATED:20240403T181144Z
LAST-MODIFIED:20240403T181144Z
UID:8713-1713954600-1713958200@littletondda.org
SUMMARY:Storytime at Spell Books
DESCRIPTION:Join us every Wednesday starting March 6th at 10:30 am for story time. Littles and their caregivers are welcome into the shop to hear a picture book read aloud by either store staff or a guest reader. No registration is required. \n 
URL:https://littletondda.org/event/storytime-at-spell-books-3/
LOCATION:Spell Books\, 2376 W Main Street\, Littleton\, CO\, 80120\, United States
CATEGORIES:Families,Shopping
ATTACH;FMTTYPE=image/png:https://littletondda.org/wp-content/uploads/2024/04/StoryTimeMarchApril24.png
END:VEVENT
BEGIN:VEVENT
DTSTART;TZID=America/Denver:20240417T103000
DTEND;TZID=America/Denver:20240417T113000
DTSTAMP:20260423T231051
CREATED:20240403T181120Z
LAST-MODIFIED:20240403T181120Z
UID:8712-1713349800-1713353400@littletondda.org
SUMMARY:Storytime at Spell Books
DESCRIPTION:Join us every Wednesday starting March 6th at 10:30 am for story time. Littles and their caregivers are welcome into the shop to hear a picture book read aloud by either store staff or a guest reader. No registration is required. \nWednesday\, April 17th\, 10:30 AM: Bianca Shultze\, children’s author and founder of The Children’s Reading Room\, reading Catitude and Don’t Wake the Dragon
URL:https://littletondda.org/event/storytime-at-spell-books-2/
LOCATION:Spell Books\, 2376 W Main Street\, Littleton\, CO\, 80120\, United States
CATEGORIES:Families,Shopping
ATTACH;FMTTYPE=image/png:https://littletondda.org/wp-content/uploads/2024/04/StoryTimeMarchApril24.png
END:VEVENT
BEGIN:VEVENT
DTSTART;TZID=America/Denver:20240410T103000
DTEND;TZID=America/Denver:20240410T113000
DTSTAMP:20260423T231051
CREATED:20240403T181051Z
LAST-MODIFIED:20240403T181051Z
UID:8711-1712745000-1712748600@littletondda.org
SUMMARY:Storytime at Spell Books
DESCRIPTION:Join us every Wednesday starting March 6th at 10:30 am for story time. Littles and their caregivers are welcome into the shop to hear a picture book read aloud by either store staff or a guest reader. No registration is required. \nWednesday\, April 10th\, 10:30 AM: Caitlin Rose\, local author\, reading selections from the store shelves.
URL:https://littletondda.org/event/storytime-at-spell-books/
LOCATION:Spell Books\, 2376 W Main Street\, Littleton\, CO\, 80120\, United States
CATEGORIES:Families,Shopping
ATTACH;FMTTYPE=image/png:https://littletondda.org/wp-content/uploads/2024/04/StoryTimeMarchApril24.png
END:VEVENT
END:VCALENDAR