BEGIN:VCALENDAR
VERSION:2.0
PRODID:-//Downtown Littleton - ECPv6.15.18//NONSGML v1.0//EN
CALSCALE:GREGORIAN
METHOD:PUBLISH
X-ORIGINAL-URL:https://littletondda.org
X-WR-CALDESC:Events for Downtown Littleton
REFRESH-INTERVAL;VALUE=DURATION:PT1H
X-Robots-Tag:noindex
X-PUBLISHED-TTL:PT1H
BEGIN:VTIMEZONE
TZID:America/Denver
BEGIN:DAYLIGHT
TZOFFSETFROM:-0700
TZOFFSETTO:-0600
TZNAME:MDT
DTSTART:20250309T090000
END:DAYLIGHT
BEGIN:STANDARD
TZOFFSETFROM:-0600
TZOFFSETTO:-0700
TZNAME:MST
DTSTART:20251102T080000
END:STANDARD
BEGIN:DAYLIGHT
TZOFFSETFROM:-0700
TZOFFSETTO:-0600
TZNAME:MDT
DTSTART:20260308T090000
END:DAYLIGHT
BEGIN:STANDARD
TZOFFSETFROM:-0600
TZOFFSETTO:-0700
TZNAME:MST
DTSTART:20261101T080000
END:STANDARD
BEGIN:DAYLIGHT
TZOFFSETFROM:-0700
TZOFFSETTO:-0600
TZNAME:MDT
DTSTART:20270314T090000
END:DAYLIGHT
BEGIN:STANDARD
TZOFFSETFROM:-0600
TZOFFSETTO:-0700
TZNAME:MST
DTSTART:20271107T080000
END:STANDARD
END:VTIMEZONE
BEGIN:VEVENT
DTSTART;TZID=America/Denver:20261025T170000
DTEND;TZID=America/Denver:20261025T190000
DTSTAMP:20260423T153302
CREATED:20260402T234323Z
LAST-MODIFIED:20260402T234323Z
UID:17416-1792947600-1792954800@littletondda.org
SUMMARY:Goblin Giveout 2026
DESCRIPTION:This beloved annual Halloween tradition in Downtown Littleton invites families to celebrate the season in a fun\, safe\, and community-focused way. Children are encouraged to wear costumes and trick-or-treat at participating local shops and restaurants\, where merchants hand out candy throughout the afternoon. The event brings the community together while supporting small businesses and creating festive fall memories for families across downtown Littleton. \nTIMES AND ADDITIONAL INFO COMING SOON!
URL:https://littletondda.org/event/goblin-giveout-2026/
LOCATION:Downtown Littleton\, 2516 Main St\, Littleton\, CO\, 80120\, United States
CATEGORIES:Families,Holidays,Shopping
ATTACH;FMTTYPE=image/png:https://littletondda.org/wp-content/uploads/2026/03/Screenshot-2026-03-08-at-9.14.44-AM.png
END:VEVENT
BEGIN:VEVENT
DTSTART;TZID=America/Denver:20261127T173000
DTEND;TZID=America/Denver:20261127T190000
DTSTAMP:20260423T153302
CREATED:20260119T170708Z
LAST-MODIFIED:20260131T221313Z
UID:16010-1795800600-1795806000@littletondda.org
SUMMARY:Candlelight Walk
DESCRIPTION:Stroll through Downtown Littleton as it comes alive with festive performers and joyful holiday music filling the air. Enjoy the holiday parade\, sip on free hot cocoa and warm cider\, and stop by for photos with Santa along the way. Gather with friends and family to celebrate the season\, and cap off the evening with a spectacular drone show lighting up the night sky.
URL:https://littletondda.org/event/candlelight-walk-2/
LOCATION:CO
CATEGORIES:Families,Holidays
ATTACH;FMTTYPE=image/png:https://littletondda.org/wp-content/uploads/2026/01/Screenshot-2026-01-19-at-10.01.07-AM.png
END:VEVENT
END:VCALENDAR