BEGIN:VCALENDAR
VERSION:2.0
PRODID:-//Downtown Littleton - ECPv6.15.18//NONSGML v1.0//EN
CALSCALE:GREGORIAN
METHOD:PUBLISH
X-ORIGINAL-URL:https://littletondda.org
X-WR-CALDESC:Events for Downtown Littleton
REFRESH-INTERVAL;VALUE=DURATION:PT1H
X-Robots-Tag:noindex
X-PUBLISHED-TTL:PT1H
BEGIN:VTIMEZONE
TZID:UTC
BEGIN:STANDARD
TZOFFSETFROM:+0000
TZOFFSETTO:+0000
TZNAME:UTC
DTSTART:20220101T000000
END:STANDARD
END:VTIMEZONE
BEGIN:VEVENT
DTSTART;TZID=UTC:20231028T100000
DTEND;TZID=UTC:20231028T120000
DTSTAMP:20260425T041736
CREATED:20231018T000752Z
LAST-MODIFIED:20231018T000752Z
UID:8646-1698487200-1698494400@littletondda.org
SUMMARY:Take Root Fundraiser
DESCRIPTION:Join us for “Take Root Fundraiser” on October 28th and let’s make it a day to remember. DIRT\, a place that’s known for making a difference\, is turning 10\, and that calls for a massive celebration! \nGet ready for: \n\n\nGrande Station Catering Brunch \n\n\nCoffee and Mimosas \n\n\nImpact Station \n\n\nAnd…The Big Reveal: DIRT’s 2024 Ambassador of the Year! \n\n\nAfter the fundraiser\, join us for our 10 Year Celebration event!
URL:https://littletondda.org/event/take-root-fundraiser/
LOCATION:2506 West Alamo Ave\, 2506 West Alamo Ave\, Littleton\, CO\, United States
CATEGORIES:Food & Drink
ATTACH;FMTTYPE=image/jpeg:https://littletondda.org/wp-content/uploads/2023/10/DIRT-Coffee-10-Year-Celebration.jpeg
END:VEVENT
BEGIN:VEVENT
DTSTART;TZID=UTC:20231028T123000
DTEND;TZID=UTC:20231028T160000
DTSTAMP:20260425T041736
CREATED:20231018T000128Z
LAST-MODIFIED:20231018T000128Z
UID:8645-1698496200-1698508800@littletondda.org
SUMMARY:DIRT Coffee's 10 Year Celebration
DESCRIPTION:Come celebrate with a local vendor market with live music\, food\, and drinks! An Activity Zone will include: Costume Contest\, inflatables\, carnival games\, face painting and more with the purchase of a wristband.
URL:https://littletondda.org/event/dirt-coffees-10-year-celebration/
LOCATION:2506 West Alamo Ave\, 2506 West Alamo Ave\, Littleton\, CO\, United States
CATEGORIES:Food & Drink
ATTACH;FMTTYPE=image/jpeg:https://littletondda.org/wp-content/uploads/2023/10/DIRT-Coffee-10-Year-Celebration.jpg
END:VEVENT
END:VCALENDAR