BEGIN:VCALENDAR
VERSION:2.0
PRODID:-//Downtown Littleton - ECPv6.15.18//NONSGML v1.0//EN
CALSCALE:GREGORIAN
METHOD:PUBLISH
X-ORIGINAL-URL:https://littletondda.org
X-WR-CALDESC:Events for Downtown Littleton
REFRESH-INTERVAL;VALUE=DURATION:PT1H
X-Robots-Tag:noindex
X-PUBLISHED-TTL:PT1H
BEGIN:VTIMEZONE
TZID:America/Denver
BEGIN:DAYLIGHT
TZOFFSETFROM:-0700
TZOFFSETTO:-0600
TZNAME:MDT
DTSTART:20230312T090000
END:DAYLIGHT
BEGIN:STANDARD
TZOFFSETFROM:-0600
TZOFFSETTO:-0700
TZNAME:MST
DTSTART:20231105T080000
END:STANDARD
BEGIN:DAYLIGHT
TZOFFSETFROM:-0700
TZOFFSETTO:-0600
TZNAME:MDT
DTSTART:20240310T090000
END:DAYLIGHT
BEGIN:STANDARD
TZOFFSETFROM:-0600
TZOFFSETTO:-0700
TZNAME:MST
DTSTART:20241103T080000
END:STANDARD
BEGIN:DAYLIGHT
TZOFFSETFROM:-0700
TZOFFSETTO:-0600
TZNAME:MDT
DTSTART:20250309T090000
END:DAYLIGHT
BEGIN:STANDARD
TZOFFSETFROM:-0600
TZOFFSETTO:-0700
TZNAME:MST
DTSTART:20251102T080000
END:STANDARD
END:VTIMEZONE
BEGIN:VEVENT
DTSTART;TZID=America/Denver:20240307T150000
DTEND;TZID=America/Denver:20240307T170000
DTSTAMP:20260424T211006
CREATED:20240307T183937Z
LAST-MODIFIED:20240307T183937Z
UID:8688-1709823600-1709830800@littletondda.org
SUMMARY:Women in Wine at Kate's Wine Bar
DESCRIPTION:March is Women’s History Month\, and we are celebrating by featuring Women Winemakers. Join us at Kate’s on Saturday\, March 23rd at 3 pm as our local educator\, Shane Alexander\, takes us through 4 fantastic wines from California. \n$45 per person \nTickets are required to attend the event. Click on image above \nDoors open at 3 pm and seated by 3:05 pm \nMust be 21 or older to attend this even \nNo refunds when canceling within 72 hours of the event
URL:https://littletondda.org/event/women-in-wine-at-kates-wine-bar/
LOCATION:Kate’s Wine Bar\, 5671 S Nevada St\, Littleton\, CO\, 80120
CATEGORIES:Food & Drink
ATTACH;FMTTYPE=image/png:https://littletondda.org/wp-content/uploads/2024/03/unnamed-2.png
END:VEVENT
BEGIN:VEVENT
DTSTART;TZID=America/Denver:20240316T110000
DTEND;TZID=America/Denver:20240317T020000
DTSTAMP:20260424T211006
CREATED:20240312T174146Z
LAST-MODIFIED:20240312T174146Z
UID:8691-1710586800-1710640800@littletondda.org
SUMMARY:St. Patrick's Day at Ned Kelly's Irish Pub
DESCRIPTION:We will shut down Sycamore St for a huge tent. The tent will have live music\, bagpipe & drum groups & Irish stepdancing. Bar inside the tent with the Guinness beer trailer. Irish food provided by Grande Station.
URL:https://littletondda.org/event/st-patricks-day-at-ned-kellys-irish-pub/
LOCATION:Ned Kelly’s Irish Pub\, 5686 S Sycamore St\, Littleton\, CO\, 80120\, United States
CATEGORIES:Food & Drink,Holidays
END:VEVENT
BEGIN:VEVENT
DTSTART;TZID=America/Denver:20240317T110000
DTEND;TZID=America/Denver:20240318T020000
DTSTAMP:20260424T211006
CREATED:20240312T174234Z
LAST-MODIFIED:20240312T174234Z
UID:8692-1710673200-1710727200@littletondda.org
SUMMARY:St. Patrick's Day at Ned Kelly's Irish Pub
DESCRIPTION:We will shut down Sycamore St for a huge tent. The tent will have live music\, bagpipe & drum groups & Irish stepdancing. Bar inside the tent with the Guinness beer trailer. Irish food provided by Grande Station.
URL:https://littletondda.org/event/st-patricks-day-at-ned-kellys-irish-pub-2/
LOCATION:Ned Kelly’s Irish Pub\, 5686 S Sycamore St\, Littleton\, CO\, 80120\, United States
CATEGORIES:Food & Drink,Holidays
END:VEVENT
BEGIN:VEVENT
DTSTART;TZID=America/Denver:20240323T120000
DTEND;TZID=America/Denver:20240323T180000
DTSTAMP:20260424T211006
CREATED:20240312T174611Z
LAST-MODIFIED:20240312T174611Z
UID:8693-1711195200-1711216800@littletondda.org
SUMMARY:St. Baldrick's at Ned Kelly's Irish Pub
DESCRIPTION:Our biggest charity event of the year. Shave your head for children’s cancer research. Since 2012 we’ve raised over $550k with over 60 participants in 2023. \nDetails: We will again shut down Sycamore St for a huge tent. The tent will have our shaving event\, bagpipe & drums by The Mile Highlanders & Irish stepdancing by Reed School of Irish dance & face painting. Bar inside the tent with the Guinness beer trailer. Irish food provided by Grande Station.
URL:https://littletondda.org/event/st-baldricks-at-ned-kellys-irish-pub/
LOCATION:Ned Kelly’s Irish Pub\, 5686 S Sycamore St\, Littleton\, CO\, 80120\, United States
CATEGORIES:Charity,Food & Drink
END:VEVENT
END:VCALENDAR