BEGIN:VCALENDAR
VERSION:2.0
PRODID:-//Downtown Littleton - ECPv6.15.18//NONSGML v1.0//EN
CALSCALE:GREGORIAN
METHOD:PUBLISH
X-WR-CALNAME:Downtown Littleton
X-ORIGINAL-URL:https://littletondda.org
X-WR-CALDESC:Events for Downtown Littleton
REFRESH-INTERVAL;VALUE=DURATION:PT1H
X-Robots-Tag:noindex
X-PUBLISHED-TTL:PT1H
BEGIN:VTIMEZONE
TZID:America/Denver
BEGIN:DAYLIGHT
TZOFFSETFROM:-0700
TZOFFSETTO:-0600
TZNAME:MDT
DTSTART:20230312T090000
END:DAYLIGHT
BEGIN:STANDARD
TZOFFSETFROM:-0600
TZOFFSETTO:-0700
TZNAME:MST
DTSTART:20231105T080000
END:STANDARD
BEGIN:DAYLIGHT
TZOFFSETFROM:-0700
TZOFFSETTO:-0600
TZNAME:MDT
DTSTART:20240310T090000
END:DAYLIGHT
BEGIN:STANDARD
TZOFFSETFROM:-0600
TZOFFSETTO:-0700
TZNAME:MST
DTSTART:20241103T080000
END:STANDARD
BEGIN:DAYLIGHT
TZOFFSETFROM:-0700
TZOFFSETTO:-0600
TZNAME:MDT
DTSTART:20250309T090000
END:DAYLIGHT
BEGIN:STANDARD
TZOFFSETFROM:-0600
TZOFFSETTO:-0700
TZNAME:MST
DTSTART:20251102T080000
END:STANDARD
END:VTIMEZONE
BEGIN:VEVENT
DTSTART;TZID=America/Denver:20240702T181500
DTEND;TZID=America/Denver:20240702T210000
DTSTAMP:20260424T150950
CREATED:20240622T200144Z
LAST-MODIFIED:20240622T200144Z
UID:8746-1719944100-1719954000@littletondda.org
SUMMARY:Denver Beer Co Run Club
DESCRIPTION:Calling all movers and shakers! Join your friends and your fellow beer community for a walk\, run\, or jaunt around your local DBC Taproom. Whether you’re in it for the pints\, parties\, a mellow pace\, we got you! \nDetails: \nLittleton Map\nMeet at 6:15 pm\nRun starts at 6:30 pm
URL:https://littletondda.org/event/denver-beer-co-run-club-2/
LOCATION:Denver Beer Company\, Littleton\, 2409 Main Street\, Littleton\, CO\, 80120
CATEGORIES:Food & Drink
ATTACH;FMTTYPE=image/png:https://littletondda.org/wp-content/uploads/2024/06/image-17.png
END:VEVENT
BEGIN:VEVENT
DTSTART;TZID=America/Denver:20240709T181500
DTEND;TZID=America/Denver:20240709T210000
DTSTAMP:20260424T150950
CREATED:20240622T200248Z
LAST-MODIFIED:20240622T200248Z
UID:8747-1720548900-1720558800@littletondda.org
SUMMARY:Denver Beer Co Run Club
DESCRIPTION:Calling all movers and shakers! Join your friends and your fellow beer community for a walk\, run\, or jaunt around your local DBC Taproom. Whether you’re in it for the pints\, parties\, a mellow pace\, we got you! \nDetails: \nLittleton Map\nMeet at 6:15 pm\nRun starts at 6:30 pm
URL:https://littletondda.org/event/denver-beer-co-run-club-3/
LOCATION:Denver Beer Company\, Littleton\, 2409 Main Street\, Littleton\, CO\, 80120
CATEGORIES:Food & Drink
ATTACH;FMTTYPE=image/png:https://littletondda.org/wp-content/uploads/2024/06/image-17.png
END:VEVENT
BEGIN:VEVENT
DTSTART;TZID=America/Denver:20240716T181500
DTEND;TZID=America/Denver:20240716T210000
DTSTAMP:20260424T150950
CREATED:20240622T200315Z
LAST-MODIFIED:20240622T200315Z
UID:8748-1721153700-1721163600@littletondda.org
SUMMARY:Denver Beer Co Run Club
DESCRIPTION:Calling all movers and shakers! Join your friends and your fellow beer community for a walk\, run\, or jaunt around your local DBC Taproom. Whether you’re in it for the pints\, parties\, a mellow pace\, we got you! \nDetails: \nLittleton Map\nMeet at 6:15 pm\nRun starts at 6:30 pm
URL:https://littletondda.org/event/denver-beer-co-run-club-4/
LOCATION:Denver Beer Company\, Littleton\, 2409 Main Street\, Littleton\, CO\, 80120
CATEGORIES:Food & Drink
ATTACH;FMTTYPE=image/png:https://littletondda.org/wp-content/uploads/2024/06/image-17.png
END:VEVENT
BEGIN:VEVENT
DTSTART;TZID=America/Denver:20240720T160000
DTEND;TZID=America/Denver:20240720T200000
DTSTAMP:20260424T150950
CREATED:20240714T171639Z
LAST-MODIFIED:20240714T171639Z
UID:8754-1721491200-1721505600@littletondda.org
SUMMARY:Saturday Night BAZAAR: Downtown Littleton
DESCRIPTION:Saturday Night BAZAAR: Downtown Littleton is a Shop & Sip market hosted by Denver BAZAAR\, taking over Denver Beer Co.’s Littleton taproom and patio\, featuring 60+ local makers and craft vendors\, street food and food trucks\, fashion trucks\, live music\, and pop-up bars featuring craft brews and cocktails.\nFREE RSVP!\nGeneral Admission is FREE! RSVP for $1 off your first drink! \nHAPPY HOUR\nEnjoy $1 off beer\, cocktails\, and wine from 4PM – 5PM.
URL:https://littletondda.org/event/saturday-night-bazaar-downtown-littleton/
LOCATION:Denver Beer Company\, Littleton\, 2409 Main Street\, Littleton\, CO\, 80120
CATEGORIES:Families,Food & Drink,Live Music,Shopping
ATTACH;FMTTYPE=image/png:https://littletondda.org/wp-content/uploads/2024/07/littletoneventgraphic.png
END:VEVENT
BEGIN:VEVENT
DTSTART;TZID=America/Denver:20240723T181500
DTEND;TZID=America/Denver:20240723T210000
DTSTAMP:20260424T150950
CREATED:20240622T200349Z
LAST-MODIFIED:20240622T200349Z
UID:8749-1721758500-1721768400@littletondda.org
SUMMARY:Denver Beer Co Run Club
DESCRIPTION:Calling all movers and shakers! Join your friends and your fellow beer community for a walk\, run\, or jaunt around your local DBC Taproom. Whether you’re in it for the pints\, parties\, a mellow pace\, we got you! \nDetails: \nLittleton Map\nMeet at 6:15 pm\nRun starts at 6:30 pm
URL:https://littletondda.org/event/denver-beer-co-run-club-5/
LOCATION:Denver Beer Company\, Littleton\, 2409 Main Street\, Littleton\, CO\, 80120
CATEGORIES:Food & Drink
ATTACH;FMTTYPE=image/png:https://littletondda.org/wp-content/uploads/2024/06/image-17.png
END:VEVENT
BEGIN:VEVENT
DTSTART;TZID=America/Denver:20240725T170000
DTEND;TZID=America/Denver:20240725T190000
DTSTAMP:20260424T150950
CREATED:20240622T201158Z
LAST-MODIFIED:20240622T201158Z
UID:8752-1721926800-1721934000@littletondda.org
SUMMARY:Summer Zoo Days with Denver Beer Co. and The Herd
DESCRIPTION:Where conservation meets local craft brews! \nSlither\, and sip your way through an unforgettable taproom experience with DBC and The Herd – Denver Zoo’s Young Professional Group. \nGet ready for some seriously rad reptiles and amphibians from the Denver Zoo. Their Animal Ambassadors are making a guest appearance at DBC’s Littleton location on Thursday\, July 25! \nThe Herd is a collaborative cohort of like-minded young professionals who want to engage the next generation in support of wildlife conservation\, animal care and welfare by embracing the mission of Denver Zoo: Inspiring Communities to Save Wildlife for Future Generations. \nInterested in joining The Herd or learning more? Check out their website for additional details: https://denverzoo.org/herd/ \nDetails: \nOpen to the public
URL:https://littletondda.org/event/summer-zoo-days-with-denver-beer-co-and-the-herd/
LOCATION:Denver Beer Company\, Littleton\, 2409 Main Street\, Littleton\, CO\, 80120
CATEGORIES:Families,Food & Drink
ATTACH;FMTTYPE=image/jpeg:https://littletondda.org/wp-content/uploads/2024/06/Summer-Zoo-Days_4x5_IG.jpg
END:VEVENT
BEGIN:VEVENT
DTSTART;TZID=America/Denver:20240730T181500
DTEND;TZID=America/Denver:20240730T210000
DTSTAMP:20260424T150950
CREATED:20240622T200413Z
LAST-MODIFIED:20240622T200413Z
UID:8750-1722363300-1722373200@littletondda.org
SUMMARY:Denver Beer Co Run Club
DESCRIPTION:Calling all movers and shakers! Join your friends and your fellow beer community for a walk\, run\, or jaunt around your local DBC Taproom. Whether you’re in it for the pints\, parties\, a mellow pace\, we got you! \nDetails: \nLittleton Map\nMeet at 6:15 pm\nRun starts at 6:30 pm
URL:https://littletondda.org/event/denver-beer-co-run-club-6/
LOCATION:Denver Beer Company\, Littleton\, 2409 Main Street\, Littleton\, CO\, 80120
CATEGORIES:Food & Drink
ATTACH;FMTTYPE=image/png:https://littletondda.org/wp-content/uploads/2024/06/image-17.png
END:VEVENT
BEGIN:VEVENT
DTSTART;TZID=America/Denver:20240731T183000
DTEND;TZID=America/Denver:20240731T200000
DTSTAMP:20260424T150950
CREATED:20240723T153256Z
LAST-MODIFIED:20240723T153256Z
UID:8765-1722450600-1722456000@littletondda.org
SUMMARY:Capture Winemaker Wine & Cheese Tasting
DESCRIPTION:Join us at Kate’s Wine bar on Wednesday\, July 31st at 6:30 pm as we welcome a wizard of winemaking\, Sam Teakle from Capture Wines.  Sam is tasked with finding top vineyard sources and creating wines that are true to himself and to the brand by showcasing varietals such as Sauvignon Blanc and Cabernet Sauvignon from the Mayacamas Mountain Range. \nPlease arrive at 6:30 pm \n$50/person \nMust be 21 or older to attend this event
URL:https://littletondda.org/event/capture-winemaker-wine-cheese-tasting/
LOCATION:Kate’s Wine Bar\, 5671 S Nevada St\, Littleton\, CO\, 80120
CATEGORIES:Food & Drink
ATTACH;FMTTYPE=image/png:https://littletondda.org/wp-content/uploads/2024/07/Capture.png
END:VEVENT
END:VCALENDAR