BEGIN:VCALENDAR
VERSION:2.0
PRODID:-//Downtown Littleton - ECPv6.15.18//NONSGML v1.0//EN
CALSCALE:GREGORIAN
METHOD:PUBLISH
X-WR-CALNAME:Downtown Littleton
X-ORIGINAL-URL:https://littletondda.org
X-WR-CALDESC:Events for Downtown Littleton
REFRESH-INTERVAL;VALUE=DURATION:PT1H
X-Robots-Tag:noindex
X-PUBLISHED-TTL:PT1H
BEGIN:VTIMEZONE
TZID:America/Denver
BEGIN:DAYLIGHT
TZOFFSETFROM:-0700
TZOFFSETTO:-0600
TZNAME:MDT
DTSTART:20230312T090000
END:DAYLIGHT
BEGIN:STANDARD
TZOFFSETFROM:-0600
TZOFFSETTO:-0700
TZNAME:MST
DTSTART:20231105T080000
END:STANDARD
BEGIN:DAYLIGHT
TZOFFSETFROM:-0700
TZOFFSETTO:-0600
TZNAME:MDT
DTSTART:20240310T090000
END:DAYLIGHT
BEGIN:STANDARD
TZOFFSETFROM:-0600
TZOFFSETTO:-0700
TZNAME:MST
DTSTART:20241103T080000
END:STANDARD
BEGIN:DAYLIGHT
TZOFFSETFROM:-0700
TZOFFSETTO:-0600
TZNAME:MDT
DTSTART:20250309T090000
END:DAYLIGHT
BEGIN:STANDARD
TZOFFSETFROM:-0600
TZOFFSETTO:-0700
TZNAME:MST
DTSTART:20251102T080000
END:STANDARD
END:VTIMEZONE
BEGIN:VEVENT
DTSTART;TZID=America/Denver:20241208T120000
DTEND;TZID=America/Denver:20241208T140000
DTSTAMP:20260424T080622
CREATED:20241119T183718Z
LAST-MODIFIED:20241119T183718Z
UID:9719-1733659200-1733666400@littletondda.org
SUMMARY:Santa Paws & Family Photos
DESCRIPTION:SANTAAAAAA is coming to DBC\nDecember 8th from 12pm-2pm at your Neighborhood Denver Beer Co. Taproom\nGet ready to sleigh those holiday cards at this dog and family friendly event. Join us and our friends at Fi at all 5 of our taprooms for a festive photo sesh with Santa. \nThis one’s for all the good pups and their humans!  Whether you’re bringing the family\, your best four-legged friend\, or your besties\, get ready to snap some holiday magic\, brought to you in partnership with FI Dog Collars. Grab your tickets\, get those ugly sweaters out\, and let’s make memories you can paws and admire all season long! \n\nTickets & Reservations\nEach Ticket ($25) includes:\n\nA professionally shot hi-res digital family photo\nA pint of your favorite Denver Beer Co. brew to sip while you wait
URL:https://littletondda.org/event/santa-paws-family-photos/
LOCATION:Denver Beer Company\, Littleton\, 2409 Main Street\, Littleton\, CO\, 80120
CATEGORIES:Families,Food & Drink,Holidays
ATTACH;FMTTYPE=image/jpeg:https://littletondda.org/wp-content/uploads/2024/11/SANTApaws2-1080x1080-1.jpg
END:VEVENT
BEGIN:VEVENT
DTSTART;TZID=America/Denver:20241231T150000
DTEND;TZID=America/Denver:20241231T163000
DTSTAMP:20260424T080622
CREATED:20241211T174424Z
LAST-MODIFIED:20241211T180126Z
UID:9956-1735657200-1735662600@littletondda.org
SUMMARY:NYE Sparkling Wine & Cheese Tasting Event
DESCRIPTION:Join us at Kate’s Wine Bar on Tuesday\, December 31st at 3 pm\, for a 4-course sparkling wine and cheese tasting. Indulge in the finest sparkling wines from around the world. \n$45 per person \nTo ensure your party sits together\, please purchase all tickets at once. \nDoors open at 3 pm and seated by 3:05 pm \nMust be 21 or older to attend this event \nNo refunds when canceling within 72 hours of the event
URL:https://littletondda.org/event/nye-sparkling-wine-cheese-tasting-event/
LOCATION:Kate’s Wine Bar\, 5671 S Nevada St\, Littleton\, CO\, 80120
CATEGORIES:Food & Drink
ATTACH;FMTTYPE=image/png:https://littletondda.org/wp-content/uploads/2024/12/Sparkling-Event-2024.png
END:VEVENT
END:VCALENDAR