BEGIN:VCALENDAR
VERSION:2.0
PRODID:-//Downtown Littleton - ECPv6.15.18//NONSGML v1.0//EN
CALSCALE:GREGORIAN
METHOD:PUBLISH
X-WR-CALNAME:Downtown Littleton
X-ORIGINAL-URL:https://littletondda.org
X-WR-CALDESC:Events for Downtown Littleton
REFRESH-INTERVAL;VALUE=DURATION:PT1H
X-Robots-Tag:noindex
X-PUBLISHED-TTL:PT1H
BEGIN:VTIMEZONE
TZID:America/Denver
BEGIN:DAYLIGHT
TZOFFSETFROM:-0700
TZOFFSETTO:-0600
TZNAME:MDT
DTSTART:20240310T090000
END:DAYLIGHT
BEGIN:STANDARD
TZOFFSETFROM:-0600
TZOFFSETTO:-0700
TZNAME:MST
DTSTART:20241103T080000
END:STANDARD
BEGIN:DAYLIGHT
TZOFFSETFROM:-0700
TZOFFSETTO:-0600
TZNAME:MDT
DTSTART:20250309T090000
END:DAYLIGHT
BEGIN:STANDARD
TZOFFSETFROM:-0600
TZOFFSETTO:-0700
TZNAME:MST
DTSTART:20251102T080000
END:STANDARD
BEGIN:DAYLIGHT
TZOFFSETFROM:-0700
TZOFFSETTO:-0600
TZNAME:MDT
DTSTART:20260308T090000
END:DAYLIGHT
BEGIN:STANDARD
TZOFFSETFROM:-0600
TZOFFSETTO:-0700
TZNAME:MST
DTSTART:20261101T080000
END:STANDARD
END:VTIMEZONE
BEGIN:VEVENT
DTSTART;TZID=America/Denver:20250201T160000
DTEND;TZID=America/Denver:20250301T210000
DTSTAMP:20260424T041525
CREATED:20250211T191304Z
LAST-MODIFIED:20250211T191304Z
UID:10721-1738425600-1740862800@littletondda.org
SUMMARY:Lovers & Lanterns
DESCRIPTION:Grande Station is celebrating the Lunar New Year and Valentine’s Day all month long with a special food and drink menu that features lively cocktails and delicious bites! Enjoy our scratch recipe Orange Chicken with a Lucky in Love cocktail featuring Akori Cherry blossom Gin\, under the cherry blossoms and lanterns! Come see your friends at Grande Station this February!
URL:https://littletondda.org/event/lovers-lanterns/
LOCATION:Grande Station\, 2299 W Main Street\, Littleton\, C\, 80120\, United States
CATEGORIES:Food & Drink,Holidays
ATTACH;FMTTYPE=image/png:https://littletondda.org/wp-content/uploads/2025/02/LL-1-1.png
END:VEVENT
BEGIN:VEVENT
DTSTART;TZID=America/Denver:20250302T140000
DTEND;TZID=America/Denver:20250302T153000
DTSTAMP:20260424T041525
CREATED:20250203T201046Z
LAST-MODIFIED:20250203T201046Z
UID:10618-1740924000-1740929400@littletondda.org
SUMMARY:Tea 101 at iN-TEA
DESCRIPTION:Our most popular class! Learn the basics and history of tea with an overview of the tea world. \nDate: 3/2/25\nTime: 2:00pm-3:30pm\nLocation: iN-TEA 2440 Main St\, Littleton\, CO 80120 \nReserve Your Spot Today!\nCall us at 720-981-2512 or visit us in-store at 2440 Main St\, Littleton\, CO 80120 to prepay for your place in one of our public tea classes. \nDon’t wait—spaces fill quickly!
URL:https://littletondda.org/event/tea-101-at-in-tea/
LOCATION:iN-TEA\, 2440 Main Street\, Littleton\, CO\, 80120\, United States
CATEGORIES:Classes,Food & Drink,Shopping
ATTACH;FMTTYPE=image/webp:https://littletondda.org/wp-content/uploads/2025/02/November_2020-18.webp
END:VEVENT
BEGIN:VEVENT
DTSTART;TZID=America/Denver:20250304T180000
DTEND;TZID=America/Denver:20250304T200000
DTSTAMP:20260424T041525
CREATED:20250103T213804Z
LAST-MODIFIED:20250103T213804Z
UID:10302-1741111200-1741118400@littletondda.org
SUMMARY:Denver Beer Co. Littleton Music Bingo
DESCRIPTION:Bingo Tunes hosted by Carlos Guitarlos\nPut your music knowledge to the test with a cold beer in hand! Join us every Tuesday for Music Bingo Night\, where the playlist hits hard\, and the prizes hit even harder. Here’s how it works: we’ll play snippets of songs\, and you mark them off on your bingo card—no trivia skills required\, just a good ear and a love for jams.
URL:https://littletondda.org/event/denver-beer-co-littleton-music-bingo-8/
LOCATION:Denver Beer Company\, Littleton\, 2409 Main Street\, Littleton\, CO\, 80120
CATEGORIES:Families,Food & Drink
END:VEVENT
BEGIN:VEVENT
DTSTART;TZID=America/Denver:20250311T180000
DTEND;TZID=America/Denver:20250311T200000
DTSTAMP:20260424T041525
CREATED:20250103T213830Z
LAST-MODIFIED:20250103T213830Z
UID:10304-1741716000-1741723200@littletondda.org
SUMMARY:Denver Beer Co. Littleton Music Bingo
DESCRIPTION:Bingo Tunes hosted by Carlos Guitarlos\nPut your music knowledge to the test with a cold beer in hand! Join us every Tuesday for Music Bingo Night\, where the playlist hits hard\, and the prizes hit even harder. Here’s how it works: we’ll play snippets of songs\, and you mark them off on your bingo card—no trivia skills required\, just a good ear and a love for jams.
URL:https://littletondda.org/event/denver-beer-co-littleton-music-bingo-9/
LOCATION:Denver Beer Company\, Littleton\, 2409 Main Street\, Littleton\, CO\, 80120
CATEGORIES:Families,Food & Drink
END:VEVENT
BEGIN:VEVENT
DTSTART;TZID=America/Denver:20250315T100000
DTEND;TZID=America/Denver:20250315T220000
DTSTAMP:20260424T041525
CREATED:20250219T191529Z
LAST-MODIFIED:20250219T191529Z
UID:10808-1742032800-1742076000@littletondda.org
SUMMARY:St. Patrick's Day at Ned Kelly's
DESCRIPTION:Grab your best green garb and join us for St. Patrick’s Day! The event kicks off on Saturday March 15th. We will have the big tent posted out in front on S. Sycamore St. Big stage for all the live entertainment. A full bar with Guinness and Jameson flowing. Come by and enjoy the best Irish celebration in town. Slàinte
URL:https://littletondda.org/event/st-patricks-day-at-ned-kellys/
LOCATION:Ned Kelly’s Irish Pub\, 5686 S Sycamore St\, Littleton\, CO\, 80120\, United States
CATEGORIES:Food & Drink,Holidays,Live Music
ATTACH;FMTTYPE=image/jpeg:https://littletondda.org/wp-content/uploads/2025/02/w926.jpg
END:VEVENT
BEGIN:VEVENT
DTSTART;TZID=America/Denver:20250316T120000
DTEND;TZID=America/Denver:20250316T180000
DTSTAMP:20260424T041525
CREATED:20250219T201808Z
LAST-MODIFIED:20250219T203008Z
UID:10811-1742126400-1742148000@littletondda.org
SUMMARY:St. Baldrick's Fundraiser at Ned Kelly's
DESCRIPTION:Join us to shave heads for children’s cancer research. Last year we raised $113K. Let’s see if we can beat that this year!!
URL:https://littletondda.org/event/st-baldricks-fundraiser-at-ned-kellys/
LOCATION:Ned Kelly’s Irish Pub\, 5686 S Sycamore St\, Littleton\, CO\, 80120\, United States
CATEGORIES:Charity,Food & Drink,Live Music
ATTACH;FMTTYPE=image/jpeg:https://littletondda.org/wp-content/uploads/2025/02/w926-1.jpg
END:VEVENT
BEGIN:VEVENT
DTSTART;TZID=America/Denver:20250316T140000
DTEND;TZID=America/Denver:20250316T153000
DTSTAMP:20260424T041525
CREATED:20250203T201307Z
LAST-MODIFIED:20250203T201307Z
UID:10621-1742133600-1742139000@littletondda.org
SUMMARY:Green Tea Class at iN-TEA
DESCRIPTION:Explore green tea’s history\, flavors\, and benefits with an expert while tasting five premium selections. Perfect for tea lovers of all levels! \nDate: 3/16/25\nTime: 2:00pm-3:30pm\nLocation: iN-TEA 2440 Main St\, Littleton\, CO 80120 \nReserve Your Spot Today!\nCall us at 720-981-2512 or visit us in-store at 2440 Main St\, Littleton\, CO 80120 to prepay for your place in one of our public tea classes. \nDon’t wait—spaces fill quickly!
URL:https://littletondda.org/event/green-tea-class-at-in-tea/
LOCATION:iN-TEA\, 2440 Main Street\, Littleton\, CO\, 80120\, United States
CATEGORIES:Classes,Food & Drink,Shopping
ATTACH;FMTTYPE=image/jpeg:https://littletondda.org/wp-content/uploads/2025/02/Panfired_Green_530x_8049b3a7-183b-41a9-ac4b-b4b88142a4d0.jpg
END:VEVENT
BEGIN:VEVENT
DTSTART;TZID=America/Denver:20250317T090000
DTEND;TZID=America/Denver:20250318T020000
DTSTAMP:20260424T041525
CREATED:20250219T202941Z
LAST-MODIFIED:20250219T202941Z
UID:10814-1742202000-1742263200@littletondda.org
SUMMARY:St. Patrick's Day at Ned Kelly's
DESCRIPTION:Grab your best green garb and join us for St. Patrick’s Day! The event kicks off on Saturday March 15th. We will have the big tent posted out in front on S. Sycamore St. Big stage for all the live entertainment. A full bar with Guinness and Jameson flowing. Come by and enjoy the best Irish celebration in town. Slàinte
URL:https://littletondda.org/event/st-patricks-day-at-ned-kellys-2/
LOCATION:Ned Kelly’s Irish Pub\, 5686 S Sycamore St\, Littleton\, CO\, 80120\, United States
CATEGORIES:Food & Drink,Holidays,Live Music
ATTACH;FMTTYPE=image/jpeg:https://littletondda.org/wp-content/uploads/2025/02/w926-2.jpg
END:VEVENT
BEGIN:VEVENT
DTSTART;TZID=America/Denver:20250318T180000
DTEND;TZID=America/Denver:20250318T200000
DTSTAMP:20260424T041525
CREATED:20250103T213938Z
LAST-MODIFIED:20250103T213938Z
UID:10306-1742320800-1742328000@littletondda.org
SUMMARY:Denver Beer Co. Littleton Music Bingo
DESCRIPTION:Bingo Tunes hosted by Carlos Guitarlos\nPut your music knowledge to the test with a cold beer in hand! Join us every Tuesday for Music Bingo Night\, where the playlist hits hard\, and the prizes hit even harder. Here’s how it works: we’ll play snippets of songs\, and you mark them off on your bingo card—no trivia skills required\, just a good ear and a love for jams.
URL:https://littletondda.org/event/denver-beer-co-littleton-music-bingo-10/
LOCATION:Denver Beer Company\, Littleton\, 2409 Main Street\, Littleton\, CO\, 80120
CATEGORIES:Families,Food & Drink
END:VEVENT
BEGIN:VEVENT
DTSTART;TZID=America/Denver:20250329T150000
DTEND;TZID=America/Denver:20250329T163000
DTSTAMP:20260424T041525
CREATED:20250310T155016Z
LAST-MODIFIED:20250310T155016Z
UID:10924-1743260400-1743265800@littletondda.org
SUMMARY:Women in Wine
DESCRIPTION:March is Women’s History Month\, and we are celebrating by featuring Women Winemakers. Join us at Kate’s on Saturday\, March 29th at 3 pm as our local educator\, Shane Alexander\, takes us through 4 fantastic wines from California. \n$45 per person \nTickets are required to attend the event \nPlease arrive at 3 pm \nMust be 21 or older to attend this event \nNo refunds when canceling within 72 hours of the event
URL:https://littletondda.org/event/women-in-wine/
LOCATION:Kate’s Wine Bar\, 5671 S Nevada St\, Littleton\, CO\, 80120
CATEGORIES:Food & Drink
ATTACH;FMTTYPE=image/png:https://littletondda.org/wp-content/uploads/2025/02/Women-in-Wine-2025.png
END:VEVENT
END:VCALENDAR