BEGIN:VCALENDAR
VERSION:2.0
PRODID:-//Downtown Littleton - ECPv6.15.18//NONSGML v1.0//EN
CALSCALE:GREGORIAN
METHOD:PUBLISH
X-WR-CALNAME:Downtown Littleton
X-ORIGINAL-URL:https://littletondda.org
X-WR-CALDESC:Events for Downtown Littleton
REFRESH-INTERVAL;VALUE=DURATION:PT1H
X-Robots-Tag:noindex
X-PUBLISHED-TTL:PT1H
BEGIN:VTIMEZONE
TZID:America/Denver
BEGIN:DAYLIGHT
TZOFFSETFROM:-0700
TZOFFSETTO:-0600
TZNAME:MDT
DTSTART:20240310T090000
END:DAYLIGHT
BEGIN:STANDARD
TZOFFSETFROM:-0600
TZOFFSETTO:-0700
TZNAME:MST
DTSTART:20241103T080000
END:STANDARD
BEGIN:DAYLIGHT
TZOFFSETFROM:-0700
TZOFFSETTO:-0600
TZNAME:MDT
DTSTART:20250309T090000
END:DAYLIGHT
BEGIN:STANDARD
TZOFFSETFROM:-0600
TZOFFSETTO:-0700
TZNAME:MST
DTSTART:20251102T080000
END:STANDARD
BEGIN:DAYLIGHT
TZOFFSETFROM:-0700
TZOFFSETTO:-0600
TZNAME:MDT
DTSTART:20260308T090000
END:DAYLIGHT
BEGIN:STANDARD
TZOFFSETFROM:-0600
TZOFFSETTO:-0700
TZNAME:MST
DTSTART:20261101T080000
END:STANDARD
END:VTIMEZONE
BEGIN:VEVENT
DTSTART;TZID=America/Denver:20250514T180000
DTEND;TZID=America/Denver:20250514T193000
DTSTAMP:20260424T013323
CREATED:20250501T162111Z
LAST-MODIFIED:20250501T162119Z
UID:11966-1747245600-1747251000@littletondda.org
SUMMARY:Niner Wine Estates Wine & Cheese Tasting Event
DESCRIPTION:Join us at Kate’s Wine Bar on Wednesday\, May 14th at 6 pm as we welcome Niner owner\, Andy Niner. Come mingle with Andy and savor the tale of how his family planted roots in Paso Robles and began crafting their liquid masterpieces. \nPlease arrive at 6 pm \nMust be 21 and older to attend this event \nNo refunds when canceling within 72 hours of the event
URL:https://littletondda.org/event/niner-wine-estates-wine-cheese-tasting-event/
LOCATION:Kate’s Wine Bar\, 5671 S Nevada St\, Littleton\, CO\, 80120
CATEGORIES:Food & Drink
ATTACH;FMTTYPE=image/png:https://littletondda.org/wp-content/uploads/2025/04/Niner-Tasting-Ad.png
END:VEVENT
BEGIN:VEVENT
DTSTART;TZID=America/Denver:20250517T110000
DTEND;TZID=America/Denver:20250517T170000
DTSTAMP:20260424T013323
CREATED:20250502T142916Z
LAST-MODIFIED:20250506T195923Z
UID:12048-1747479600-1747501200@littletondda.org
SUMMARY:Downtown Littleton Spring Bazaar
DESCRIPTION:Fresh Air\, Fresh Finds—We’re Bringing Colorado’s Best Local Businesses To You! \nSpring is in full swing\, and Downtown Littleton Spring BAZAAR is your one-stop shop for fresh finds\, festive vibes\, and the perfect gifts for Dads & Grads! Join us May 17 & 18 from 11 AM – 5 PM for a high-energy outdoor market featuring 80+ local vendors\, craft brews\, seasonal sips\, and delicious eats! \nWhether you’re looking for a unique graduation gift\, getting ahead on Father’s Day shopping\, or just ready to soak up the best of spring in charming Downtown Littleton\, this BAZAAR is the place to be! \n🌿 WHAT TO EXPECT: \n🛍️ 80+ Local Vendors – Shop handcrafted goods\, fashion\, home décor\, and more. \n🍹 Springtime Sips & Local Craft Beer – Toast to dads & grads with handcrafted cocktails and brews. \n🎧Live DJ Sets – Keep the good vibes going all weekend long! \n🍽 Food Vendors – Fuel up with tasty bites from top local food trucks. \n🎓 Gifts for Dads & Grads – Find the perfect present for the achievers and father figures in your life! \n🌊Bottomless bevs – Get swept away by our signature Claw-rnold Palmer\, featuring the brand new White Claw™ Triple Wave filtered Premium Vodka \n🍸 Gin O’Clock – For the last hour of the event\, enjoy $5 Glendalough Gin Spritz! \n🧘‍♂️ Free Yoga Mats – Drop in for a $15 class with our friends at YogaSix and take your mat with you\, plus get a discount on unlimited Palmers! \n📍 LOCATION: Downtown Littleton \n📅 DATES: May 17 & 18 | 11 AM – 5 PM \nSpring has arrived—so get out for some sipping\, shopping\, and celebrating in the heart of Littleton!
URL:https://littletondda.org/event/downtown-littleton-spring-bazaar/
LOCATION:Downtown Littleton\, 2516 Main St\, Littleton\, CO\, 80120\, United States
CATEGORIES:Families,Food & Drink,Live Music,Shopping
ATTACH;FMTTYPE=image/jpeg:https://littletondda.org/wp-content/uploads/2025/05/unnamed-3.jpg
END:VEVENT
BEGIN:VEVENT
DTSTART;TZID=America/Denver:20250518T110000
DTEND;TZID=America/Denver:20250518T170000
DTSTAMP:20260424T013323
CREATED:20250502T143148Z
LAST-MODIFIED:20250506T195828Z
UID:12051-1747566000-1747587600@littletondda.org
SUMMARY:Downtown Littleton Spring Bazaar
DESCRIPTION:Fresh Air\, Fresh Finds—We’re Bringing Colorado’s Best Local Businesses To You! \nSpring is in full swing\, and Downtown Littleton Spring BAZAAR is your one-stop shop for fresh finds\, festive vibes\, and the perfect gifts for Dads & Grads! Join us May 17 & 18 from 11 AM – 5 PM for a high-energy outdoor market featuring 80+ local vendors\, craft brews\, seasonal sips\, and delicious eats! \nWhether you’re looking for a unique graduation gift\, getting ahead on Father’s Day shopping\, or just ready to soak up the best of spring in charming Downtown Littleton\, this BAZAAR is the place to be! \n🌿 WHAT TO EXPECT: \n🛍️ 80+ Local Vendors – Shop handcrafted goods\, fashion\, home décor\, and more. \n🍹 Springtime Sips & Local Craft Beer – Toast to dads & grads with handcrafted cocktails and brews. \n🎧Live DJ Sets – Keep the good vibes going all weekend long! \n🍽 Food Vendors – Fuel up with tasty bites from top local food trucks. \n🎓 Gifts for Dads & Grads – Find the perfect present for the achievers and father figures in your life! \n🌊Bottomless bevs – Get swept away by our signature Claw-rnold Palmer\, featuring the brand new White Claw™ Triple Wave filtered Premium Vodka \n🍸 Gin O’Clock – For the last hour of the event\, enjoy $5 Glendalough Gin Spritz! \n🧘‍♂️ Free Yoga Mats – Drop in for a $15 class with our friends at YogaSix and take your mat with you\, plus get a discount on unlimited Palmers! \n📍 LOCATION: Downtown Littleton \n📅 DATES: May 17 & 18 | 11 AM – 5 PM \nSpring has arrived—so get out for some sipping\, shopping\, and celebrating in the heart of Littleton!
URL:https://littletondda.org/event/downtown-littleton-spring-bazaar-2/
LOCATION:Downtown Littleton\, 2516 Main St\, Littleton\, CO\, 80120\, United States
CATEGORIES:Families,Food & Drink,Live Music,Shopping
ATTACH;FMTTYPE=image/jpeg:https://littletondda.org/wp-content/uploads/2025/05/unnamed-3.jpg
END:VEVENT
BEGIN:VEVENT
DTSTART;TZID=America/Denver:20250518T140000
DTEND;TZID=America/Denver:20250518T153000
DTSTAMP:20260424T013323
CREATED:20250203T201529Z
LAST-MODIFIED:20250203T201529Z
UID:10627-1747576800-1747582200@littletondda.org
SUMMARY:Tea Personified at iN-TEA
DESCRIPTION:If you were a tea\, which one would you be? Take a 20 question multiple choice survey and find out! \nDate: 5/18/25\nTime: 2:00pm-3:30pm\nLocation: iN-TEA 2440 Main St\, Littleton\, CO 80120 \nReserve Your Spot Today!\nCall us at 720-981-2512 or visit us in-store at 2440 Main St\, Littleton\, CO 80120 to prepay for your place in one of our public tea classes. \nDon’t wait—spaces fill quickly!
URL:https://littletondda.org/event/tea-personified-at-in-tea/
LOCATION:iN-TEA\, 2440 Main Street\, Littleton\, CO\, 80120\, United States
CATEGORIES:Classes,Food & Drink,Shopping
ATTACH;FMTTYPE=image/webp:https://littletondda.org/wp-content/uploads/2025/02/CME02937.webp
END:VEVENT
BEGIN:VEVENT
DTSTART;TZID=America/Denver:20250525T090000
DTEND;TZID=America/Denver:20250525T140000
DTSTAMP:20260424T013323
CREATED:20250328T193334Z
LAST-MODIFIED:20250328T193334Z
UID:11269-1748163600-1748181600@littletondda.org
SUMMARY:Downtown Littleton Farmers Market
DESCRIPTION:Support local and get your fill of fruits and veggies at the Downtown Littleton Farmers Market on Nevada St. north of Main St. every Sunday from May 25 – September 28.
URL:https://littletondda.org/event/downtown-littleton-farmers-market-11/
LOCATION:Downtown Littleton\, 2516 Main St\, Littleton\, CO\, 80120\, United States
CATEGORIES:Families,Food & Drink,Shopping
ATTACH;FMTTYPE=image/jpeg:https://littletondda.org/wp-content/uploads/2025/03/FarmersMarket.jpg
END:VEVENT
END:VCALENDAR