BEGIN:VCALENDAR
VERSION:2.0
PRODID:-//Downtown Littleton - ECPv6.15.18//NONSGML v1.0//EN
CALSCALE:GREGORIAN
METHOD:PUBLISH
X-ORIGINAL-URL:https://littletondda.org
X-WR-CALDESC:Events for Downtown Littleton
REFRESH-INTERVAL;VALUE=DURATION:PT1H
X-Robots-Tag:noindex
X-PUBLISHED-TTL:PT1H
BEGIN:VTIMEZONE
TZID:America/Denver
BEGIN:DAYLIGHT
TZOFFSETFROM:-0700
TZOFFSETTO:-0600
TZNAME:MDT
DTSTART:20240310T090000
END:DAYLIGHT
BEGIN:STANDARD
TZOFFSETFROM:-0600
TZOFFSETTO:-0700
TZNAME:MST
DTSTART:20241103T080000
END:STANDARD
BEGIN:DAYLIGHT
TZOFFSETFROM:-0700
TZOFFSETTO:-0600
TZNAME:MDT
DTSTART:20250309T090000
END:DAYLIGHT
BEGIN:STANDARD
TZOFFSETFROM:-0600
TZOFFSETTO:-0700
TZNAME:MST
DTSTART:20251102T080000
END:STANDARD
BEGIN:DAYLIGHT
TZOFFSETFROM:-0700
TZOFFSETTO:-0600
TZNAME:MDT
DTSTART:20260308T090000
END:DAYLIGHT
BEGIN:STANDARD
TZOFFSETFROM:-0600
TZOFFSETTO:-0700
TZNAME:MST
DTSTART:20261101T080000
END:STANDARD
BEGIN:DAYLIGHT
TZOFFSETFROM:-0700
TZOFFSETTO:-0600
TZNAME:MDT
DTSTART:20270314T090000
END:DAYLIGHT
BEGIN:STANDARD
TZOFFSETFROM:-0600
TZOFFSETTO:-0700
TZNAME:MST
DTSTART:20271107T080000
END:STANDARD
END:VTIMEZONE
BEGIN:VEVENT
DTSTART;VALUE=DATE:20250904
DTEND;VALUE=DATE:20260109
DTSTAMP:20260423T190542
CREATED:20250908T182344Z
LAST-MODIFIED:20250908T182344Z
UID:13954-1756944000-1767916799@littletondda.org
SUMMARY:Bridget's Botanicals Botanical Beverages Tea Circle (first Thursday of every month)
DESCRIPTION:Fee: $179.00\nDates: 9/4/2025 – 1/8/2026\nTimes: 4:00 PM – 5:00 PM\nDays: Th\nSessions: 5\nJoin us for a relaxed and enriching monthly gathering where we explore a single herb in depth—one plant\, one cup at a time along with the season. Each session of this ongoing series focuses on an herb of the month\, offering a chance to connect more intimately with the world of herbal medicine. \nTogether\, we will sip a freshly brewed tea made from the featured herb\, learn about its traditional uses\, energetics\, safety\, and modern applications\, explore folklore\, recipes and personal reflections. Whether you’re just beginning your herbal journey or deepening an existing practice\, this course offers a simple\, grounding way to grow your herbal knowledge—one plant at a time.
URL:https://littletondda.org/event/bridgets-botanicals-botanical-beverages-tea-circle-first-thursday-of-every-month/
LOCATION:Bridget’s Botanicals\, 5733 S Prince St\, Littleton\, CO\, 80120\, United States
CATEGORIES:Classes,Food & Drink,Wellness & Exercise
ATTACH;FMTTYPE=image/avif:https://littletondda.org/wp-content/uploads/2025/09/TEA-CIRCLE.avif
END:VEVENT
BEGIN:VEVENT
DTSTART;TZID=America/Denver:20251004T140000
DTEND;TZID=America/Denver:20251004T150000
DTSTAMP:20260423T190542
CREATED:20250908T190740Z
LAST-MODIFIED:20250908T190740Z
UID:13984-1759586400-1759590000@littletondda.org
SUMMARY:Bridget's Botanicals: Free Tea Tasting (1st Saturday of the Month)
DESCRIPTION:Come by Bridget’s Botanicals to enjoy a sample of herbal tea that the team blends with organic botanicals sourced from local herb farms across the US.
URL:https://littletondda.org/event/bridgets-botanicals-free-tea-tasting-1st-saturday-of-the-month/
LOCATION:Bridget’s Botanicals\, 5733 S Prince St\, Littleton\, CO\, 80120\, United States
CATEGORIES:Food & Drink,Wellness & Exercise
ATTACH;FMTTYPE=image/avif:https://littletondda.org/wp-content/uploads/2025/09/sleep.avif
END:VEVENT
BEGIN:VEVENT
DTSTART;VALUE=DATE:20251008
DTEND;VALUE=DATE:20251012
DTSTAMP:20260423T190542
CREATED:20250909T232608Z
LAST-MODIFIED:20250909T232608Z
UID:14023-1759881600-1760227199@littletondda.org
SUMMARY:Jake's Beer Garden: GABF Week!!
DESCRIPTION:Event details TBD\, Work in Progress
URL:https://littletondda.org/event/jakes-beer-garden-gabf-week/
LOCATION:Jake’s Brew Bar\, 2530 Main St\, Littleton\, CO\, 80120\, United States
CATEGORIES:Food & Drink
ATTACH;FMTTYPE=image/jpeg:https://littletondda.org/wp-content/uploads/2025/09/545137871_1409935997799481_3812970887254173174_n.jpg
END:VEVENT
BEGIN:VEVENT
DTSTART;TZID=America/Denver:20251009T180000
DTEND;TZID=America/Denver:20251009T200000
DTSTAMP:20260423T190542
CREATED:20250930T224308Z
LAST-MODIFIED:20250930T224308Z
UID:14505-1760032800-1760040000@littletondda.org
SUMMARY:Spell Books Cocktail Book Club @ The Lazy Greyhound
DESCRIPTION:1 hour @ $25.00 \n\n\n\n\n\n\nMeet us at The Lazy Greyhound to discuss a book and enjoy a fun cocktail. Your ticket price includes one drink of your choice! \nOctober: How to Solve Your Own Murder by Kristen Perrin\nNovember: Margo’s Got Money Troubles by Rufi Thorpe
URL:https://littletondda.org/event/spell-books-cocktail-book-club-the-lazy-greyhound/
LOCATION:Spell Books\, 2376 W Main Street\, Littleton\, CO\, 80120\, United States
CATEGORIES:Classes,Food & Drink
ATTACH;FMTTYPE=image/png:https://littletondda.org/wp-content/uploads/2025/09/Screenshot-2025-09-30-at-4.41.59-PM.png
END:VEVENT
BEGIN:VEVENT
DTSTART;TZID=America/Denver:20251018T093000
DTEND;TZID=America/Denver:20251018T110000
DTSTAMP:20260423T190542
CREATED:20250908T182655Z
LAST-MODIFIED:20250908T182915Z
UID:13961-1760779800-1760785200@littletondda.org
SUMMARY:Bridget's Botanicals: Kitchen Witch Medicine
DESCRIPTION:Fee: $69.00\nDates: Saturday 10/18/2025\nTimes: 9:30 AM – 11:00 AM\nCurious about herbalism and the practical uses of plants that can enhance your health and wellbeing? Step into the apothecary to discover a variety of familiar kitchen herbs and their medicinal and magical properties. From ancient times to modern day\, the kitchen has been a magical place to explore the medicine of herbs. You’ll make a classic kitchen witch concoction to add to your cabinet to keep you and your family healthy through the fall and winter seasons that you can make again year after year.
URL:https://littletondda.org/event/bridgets-botanicals-kitchen-witch-medicine/
LOCATION:Bridget’s Botanicals\, 5733 S Prince St\, Littleton\, CO\, 80120\, United States
CATEGORIES:Classes,Food & Drink,Wellness & Exercise
ATTACH;FMTTYPE=image/avif:https://littletondda.org/wp-content/uploads/2025/09/kitchenwitch.avif
END:VEVENT
BEGIN:VEVENT
DTSTART;TZID=America/Denver:20251021T180000
DTEND;TZID=America/Denver:20251021T203000
DTSTAMP:20260423T190542
CREATED:20251006T234800Z
LAST-MODIFIED:20251006T234800Z
UID:14598-1761069600-1761078600@littletondda.org
SUMMARY:Giraffee Me Another Glass @ Kate's Wine Bar
DESCRIPTION:Join Rocky Mountain AAZK and Kate’s Wine Bar as we paint and sip the night away in the name of conservation. Tickets include a glass of wine\, guided painting of a giraffe wine bottle and all supplies. Additional food and drink available for purchase. \nA silent auction on-site will include tours\, gift cards and lots of original animal artwork\, including big cat paw prints\, gorilla paintings and seal nose prints to name a few. Keep an eye on our social for sneak peeks leading up to the event.
URL:https://littletondda.org/event/giraffee-me-another-glass-kates-wine-bar/
LOCATION:Kate’s Wine Bar\, 5671 S Nevada St\, Littleton\, CO\, 80120
CATEGORIES:Charity,Classes,Food & Drink,Workshop
ATTACH;FMTTYPE=image/png:https://littletondda.org/wp-content/uploads/2025/10/Screenshot-2025-10-06-at-5.46.24-PM.png
END:VEVENT
BEGIN:VEVENT
DTSTART;TZID=America/Denver:20251023T180000
DTEND;TZID=America/Denver:20251023T193000
DTSTAMP:20260423T190542
CREATED:20250908T182837Z
LAST-MODIFIED:20250908T182837Z
UID:13964-1761242400-1761247800@littletondda.org
SUMMARY:Bridget's Botanicals: Wicked Botanicals: Plants Potions & Poisons
DESCRIPTION:Fee: $69.00\nDates: Thursday 10/23/2025\nTimes: 6:00 PM – 7:30 PM\n\nStep into the mysterious world of powerful plants—where the line between medicine and poison is razor-thin. In this immersive class\, you’ll explore the fascinating history\, folklore\, and science behind botanical remedies and toxins. Discover how certain herbs have been used to heal—and harm—throughout the ages. You’ll also craft your own take-home “potion or poison” charm\, a unique blend of plant lore and creativity to spark curiosity long after class ends.
URL:https://littletondda.org/event/bridgets-botanicals-wicked-botanicals-plants-potions-poisons/
LOCATION:Bridget’s Botanicals\, 5733 S Prince St\, Littleton\, CO\, 80120\, United States
CATEGORIES:Classes,Food & Drink,Wellness & Exercise
ATTACH;FMTTYPE=image/avif:https://littletondda.org/wp-content/uploads/2025/09/poitions.avif
END:VEVENT
BEGIN:VEVENT
DTSTART;VALUE=DATE:20251025
DTEND;VALUE=DATE:20251026
DTSTAMP:20260423T190542
CREATED:20250909T232658Z
LAST-MODIFIED:20250909T232658Z
UID:14025-1761350400-1761436799@littletondda.org
SUMMARY:Jake's Beer Garden: Jake's Halloween Bash
DESCRIPTION:Theme: 80’s toys and games
URL:https://littletondda.org/event/jakes-beer-garden-jakes-halloween-bash/
LOCATION:Jake’s Brew Bar\, 2530 Main St\, Littleton\, CO\, 80120\, United States
CATEGORIES:Food & Drink,Holidays
ATTACH;FMTTYPE=image/jpeg:https://littletondda.org/wp-content/uploads/2025/09/545137871_1409935997799481_3812970887254173174_n.jpg
END:VEVENT
BEGIN:VEVENT
DTSTART;TZID=America/Denver:20251026T120000
DTEND;TZID=America/Denver:20251026T160000
DTSTAMP:20260423T190542
CREATED:20251018T143506Z
LAST-MODIFIED:20251018T144517Z
UID:14740-1761480000-1761494400@littletondda.org
SUMMARY:Little Man Ice Cream Littleton • Goblin Give-Out
DESCRIPTION:👻🎃 Enjoy this boo-tiful family tradition in Downtown Littleton. Kids in costume are invited to trick or treat at participating merchants for sugar shock-tober! Be sure to stop at Little Man Ice Cream on Main Street for a polaroid selfie and a monster sundae in our other-wordly halloween haunt!
URL:https://littletondda.org/event/little-man-ice-cream-littleton-goblin-give-out/
LOCATION:Little Man Ice Cream\, 2449 Main St\, Littleton\, Littleton\, CO\, 80120
CATEGORIES:Families,Food & Drink,Holidays
ATTACH;FMTTYPE=image/jpeg:https://littletondda.org/wp-content/uploads/2025/10/IMG_2839.jpg
END:VEVENT
BEGIN:VEVENT
DTSTART;TZID=America/Denver:20251029T180000
DTEND;TZID=America/Denver:20251029T200000
DTSTAMP:20260423T190542
CREATED:20251018T144041Z
LAST-MODIFIED:20251018T144547Z
UID:14754-1761760800-1761768000@littletondda.org
SUMMARY:Monster Mash @ Little Man Ice Cream
DESCRIPTION:Booo-gie on down in your favorite costume to Little Man Ice Cream Littleton to celebrate our 1st birthday! The DJ will be spinning up a monster mash of spooky family favorites to show off your All Hallow’s Eve groove! \nEnjoy trick-or-treats\, monster sundaes\, polaroid selfies and prizes for best costumes!
URL:https://littletondda.org/event/monster-mash-little-man-ice-cream/
LOCATION:Little Man Ice Cream\, 2449 Main St\, Littleton\, Littleton\, CO\, 80120
CATEGORIES:Families,Food & Drink,Holidays
ATTACH;FMTTYPE=image/jpeg:https://littletondda.org/wp-content/uploads/2025/10/IMG_2840-2.jpg
END:VEVENT
BEGIN:VEVENT
DTSTART;VALUE=DATE:20251030
DTEND;VALUE=DATE:20260515
DTSTAMP:20260423T190542
CREATED:20250908T183144Z
LAST-MODIFIED:20250908T183144Z
UID:13967-1761782400-1778803199@littletondda.org
SUMMARY:Bridget's Botanicals: Global Herbal Foundations Course (Every other Thursday October 30 - May 14th)
DESCRIPTION:Fee: $1\,400\nDate: Every other Thursday October 30 – May 14th\nTimes: 9:00 – 11:00 a.m.\nDoes making your own herbal remedies and learning about healing traditions and rituals call to you? How about exploring botanicals from around the world? Join Bridget Molloy for an in depth study of herbalism and herbal medicine in person this Fall 2026 starting at the end of October in historic downtown Littleton\, Colorado at the Bridget’s Botanicals apothecary.\n\nYou’ll walk away understanding the foundations of herbalism\, herbal remedies to stock your home apothecary\, how to use 100 herbs to enhance your health and wellbeing\, and recipes for classic herbal remedies to support yourself\, family\, and friends. \nExplore foundations of herbalism in the Global Herbal Foundations course as we delve into different areas of the world to learn about healing traditions and ethnobotany focused on medicinal plants. Learn the foundations of herbalism alongside global materia medica (herbal plants and their uses)\, healing rituals\, and herbal recipes of Italy\, Ireland\, Belize\, and the Peruvian Amazon Rainforest to gain a perspective of herbs used around the world.
URL:https://littletondda.org/event/bridgets-botanicals-global-herbal-foundations-course-every-other-thursday-october-30-may-14th/
LOCATION:Bridget’s Botanicals\, 5733 S Prince St\, Littleton\, CO\, 80120\, United States
CATEGORIES:Classes,Food & Drink,Wellness & Exercise
ATTACH;FMTTYPE=image/avif:https://littletondda.org/wp-content/uploads/2025/09/global.avif
END:VEVENT
BEGIN:VEVENT
DTSTART;TZID=America/Denver:20251030T200000
DTEND;TZID=America/Denver:20251030T230000
DTSTAMP:20260423T190542
CREATED:20251010T170335Z
LAST-MODIFIED:20251010T170335Z
UID:14655-1761854400-1761865200@littletondda.org
SUMMARY:Ghouls Night Out Pumpkin Painting
DESCRIPTION:Gather your coven for a spooky-chic night of cocktails\, pumpkins\, and Halloween Fun!
URL:https://littletondda.org/event/ghouls-night-out-pumpkin-painting/
LOCATION:ViewHouse\, 2680 Main St\, Littleton\, CO\, 80120\, United States
CATEGORIES:Food & Drink,Holidays
ATTACH;FMTTYPE=image/jpeg:https://littletondda.org/wp-content/uploads/2025/10/IMG_2581.jpg
END:VEVENT
BEGIN:VEVENT
DTSTART;VALUE=DATE:20251031
DTEND;VALUE=DATE:20251101
DTSTAMP:20260423T190542
CREATED:20250909T232755Z
LAST-MODIFIED:20250909T232755Z
UID:14027-1761868800-1761955199@littletondda.org
SUMMARY:Jake's Beer Garden: A Halloween Reprise
DESCRIPTION:Halloween on a Friday this year?  Let’s celebrate twice.  No theme\, just make it fun!
URL:https://littletondda.org/event/jakes-beer-garden-a-halloween-reprise/
LOCATION:Jake’s Brew Bar\, 2530 Main St\, Littleton\, CO\, 80120\, United States
CATEGORIES:Food & Drink,Holidays
ATTACH;FMTTYPE=image/jpeg:https://littletondda.org/wp-content/uploads/2025/09/545137871_1409935997799481_3812970887254173174_n.jpg
END:VEVENT
BEGIN:VEVENT
DTSTART;VALUE=DATE:20251031
DTEND;VALUE=DATE:20251101
DTSTAMP:20260423T190542
CREATED:20251008T025053Z
LAST-MODIFIED:20251008T025053Z
UID:14619-1761868800-1761955199@littletondda.org
SUMMARY:Ned Kelly's Halloween Bash
DESCRIPTION:$5 Mystery Shots \nWear a costume get drink specials \nLive DJ \nCostume Contest with Prizes
URL:https://littletondda.org/event/ned-kellys-halloween-bash/
LOCATION:Ned Kelly’s Irish Pub\, 5686 S Sycamore St\, Littleton\, CO\, 80120\, United States
CATEGORIES:Food & Drink,Holidays,Live Music
ATTACH;FMTTYPE=image/png:https://littletondda.org/wp-content/uploads/2025/10/Screenshot-2025-10-07-at-8.49.37-PM.png
END:VEVENT
END:VCALENDAR