BEGIN:VCALENDAR
VERSION:2.0
PRODID:-//Downtown Littleton - ECPv6.15.18//NONSGML v1.0//EN
CALSCALE:GREGORIAN
METHOD:PUBLISH
X-ORIGINAL-URL:https://littletondda.org
X-WR-CALDESC:Events for Downtown Littleton
REFRESH-INTERVAL;VALUE=DURATION:PT1H
X-Robots-Tag:noindex
X-PUBLISHED-TTL:PT1H
BEGIN:VTIMEZONE
TZID:America/Denver
BEGIN:DAYLIGHT
TZOFFSETFROM:-0700
TZOFFSETTO:-0600
TZNAME:MDT
DTSTART:20240310T090000
END:DAYLIGHT
BEGIN:STANDARD
TZOFFSETFROM:-0600
TZOFFSETTO:-0700
TZNAME:MST
DTSTART:20241103T080000
END:STANDARD
BEGIN:DAYLIGHT
TZOFFSETFROM:-0700
TZOFFSETTO:-0600
TZNAME:MDT
DTSTART:20250309T090000
END:DAYLIGHT
BEGIN:STANDARD
TZOFFSETFROM:-0600
TZOFFSETTO:-0700
TZNAME:MST
DTSTART:20251102T080000
END:STANDARD
BEGIN:DAYLIGHT
TZOFFSETFROM:-0700
TZOFFSETTO:-0600
TZNAME:MDT
DTSTART:20260308T090000
END:DAYLIGHT
BEGIN:STANDARD
TZOFFSETFROM:-0600
TZOFFSETTO:-0700
TZNAME:MST
DTSTART:20261101T080000
END:STANDARD
BEGIN:DAYLIGHT
TZOFFSETFROM:-0700
TZOFFSETTO:-0600
TZNAME:MDT
DTSTART:20270314T090000
END:DAYLIGHT
BEGIN:STANDARD
TZOFFSETFROM:-0600
TZOFFSETTO:-0700
TZNAME:MST
DTSTART:20271107T080000
END:STANDARD
END:VTIMEZONE
BEGIN:VEVENT
DTSTART;VALUE=DATE:20251030
DTEND;VALUE=DATE:20260515
DTSTAMP:20260423T143256
CREATED:20250908T183144Z
LAST-MODIFIED:20250908T183144Z
UID:13967-1761782400-1778803199@littletondda.org
SUMMARY:Bridget's Botanicals: Global Herbal Foundations Course (Every other Thursday October 30 - May 14th)
DESCRIPTION:Fee: $1\,400\nDate: Every other Thursday October 30 – May 14th\nTimes: 9:00 – 11:00 a.m.\nDoes making your own herbal remedies and learning about healing traditions and rituals call to you? How about exploring botanicals from around the world? Join Bridget Molloy for an in depth study of herbalism and herbal medicine in person this Fall 2026 starting at the end of October in historic downtown Littleton\, Colorado at the Bridget’s Botanicals apothecary.\n\nYou’ll walk away understanding the foundations of herbalism\, herbal remedies to stock your home apothecary\, how to use 100 herbs to enhance your health and wellbeing\, and recipes for classic herbal remedies to support yourself\, family\, and friends. \nExplore foundations of herbalism in the Global Herbal Foundations course as we delve into different areas of the world to learn about healing traditions and ethnobotany focused on medicinal plants. Learn the foundations of herbalism alongside global materia medica (herbal plants and their uses)\, healing rituals\, and herbal recipes of Italy\, Ireland\, Belize\, and the Peruvian Amazon Rainforest to gain a perspective of herbs used around the world.
URL:https://littletondda.org/event/bridgets-botanicals-global-herbal-foundations-course-every-other-thursday-october-30-may-14th/
LOCATION:Bridget’s Botanicals\, 5733 S Prince St\, Littleton\, CO\, 80120\, United States
CATEGORIES:Classes,Food & Drink,Wellness & Exercise
ATTACH;FMTTYPE=image/avif:https://littletondda.org/wp-content/uploads/2025/09/global.avif
END:VEVENT
BEGIN:VEVENT
DTSTART;VALUE=DATE:20260130
DTEND;VALUE=DATE:20260301
DTSTAMP:20260423T143256
CREATED:20260131T215901Z
LAST-MODIFIED:20260131T215901Z
UID:16300-1769731200-1772323199@littletondda.org
SUMMARY:Bring your Town Hall Arts Center ticket stub for 10% off!
DESCRIPTION:🎉 Bring your ticket stub from a Town Hall Arts Center performance and enjoy 10% off at Palenque Cocina y Agaveria!
URL:https://littletondda.org/event/bring-your-town-hall-arts-center-ticket-stub-for-10-off/
LOCATION:Palenque Cocina Y Agaveria\, 2609 W Main St\, Littleton\, CO\, 80120\, United States
CATEGORIES:Families,Food & Drink,Visual & Performing Arts
ATTACH;FMTTYPE=image/jpeg:https://littletondda.org/wp-content/uploads/2026/01/586256347_1599573021218518_6733689605563202087_n.jpg
END:VEVENT
BEGIN:VEVENT
DTSTART;VALUE=DATE:20260201
DTEND;VALUE=DATE:20260202
DTSTAMP:20260423T143256
CREATED:20260130T125045Z
LAST-MODIFIED:20260130T125045Z
UID:16282-1769904000-1769990399@littletondda.org
SUMMARY:$45 Bottle & Board Special @ Kate's Wine Bar
DESCRIPTION:Enjoy a bottle of wine and a charcuterie board to share for just $45.\n\nFor $45\, enjoy a charcuterie board loaded with cheeses\, meats & accompaniments\nYour choice of bottle: \n\n-Bold California Red Blend\n-Refreshing French Bordeaux Blanc \n\nPerfect for date night\, catching up with friends\, or treating yourself to something delicious!
URL:https://littletondda.org/event/45-bottle-board-special-kates-wine-bar/
LOCATION:Kate’s Wine Bar\, 5671 S Nevada St\, Littleton\, CO\, 80120
CATEGORIES:Food & Drink
ATTACH;FMTTYPE=image/png:https://littletondda.org/wp-content/uploads/2026/01/Screenshot-2026-01-30-at-5.47.12-AM.png
END:VEVENT
BEGIN:VEVENT
DTSTART;TZID=America/Denver:20260201T160000
DTEND;TZID=America/Denver:20260201T190000
DTSTAMP:20260423T143256
CREATED:20260129T151400Z
LAST-MODIFIED:20260129T151400Z
UID:16201-1769961600-1769972400@littletondda.org
SUMMARY:Jake's Chili Cook-Off
DESCRIPTION:It’s Chili 🌶️ time! The Jake’s Brew Bar Chili Cook Off is BACK and better than ever! \n$15 per person tasting (tickets required)\nContestants taste free plus 1 free drink (must register to participate) \nSunday February 1st from 4-7pm sign up to show off your chili making skills or come on down and taste what the Jake’s community has to offer. BOTH Participant and Taster registrations are LIVE online so sign up now for your spot. \nWe’ll have a category for green and red this year and we do have a limited number of spots available due to space so if your interested register now. \nAnd have we mentioned the prizes? In the mix for the winners: \nBottle of Blantons Bourbon\nFortaleza Resposado\nFortaleza Blanco\nEagle Rare\n2 – $100 Jake’s gift cards \n1st-3rd in each category takes home a prize and we’ve pulled out some items that are rare and pretty tough to find so bring your best! \nAgain sign up online or in person for BOTH participant and taster tickets. We do have a max on both. Looking forward to good chili and a good time as we say goodbye to dry January at the Jake’s Chili Cookoff Sunday February 1st!
URL:https://littletondda.org/event/jakes-chili-cook-off/
LOCATION:Jake’s Brew Bar\, 2530 Main St\, Littleton\, CO\, 80120\, United States
CATEGORIES:Food & Drink
ATTACH;FMTTYPE=image/png:https://littletondda.org/wp-content/uploads/2026/01/Screenshot-2026-01-29-at-8.11.54-AM.png
END:VEVENT
BEGIN:VEVENT
DTSTART;TZID=America/Denver:20260202T160000
DTEND;TZID=America/Denver:20260228T210000
DTSTAMP:20260423T143256
CREATED:20260131T215825Z
LAST-MODIFIED:20260131T215825Z
UID:16319-1770048000-1772312400@littletondda.org
SUMMARY:Lover's & Lanterns Holiday Pop-Up
DESCRIPTION:This February\, Grande Station will feature a limited-time pop-up celebrating Lunar New Year and Valentine’s Day\, available throughout the month. The experience includes a curated selection of food and cocktails inspired by the Lunar Year and the season of love! \nCome enjoy themed dishes and specialty cocktails in a festively decorated atmosphere\, offered alongside our regular lunch and dinner service. Whether you’re planning a date night\, celebrating with friends\, or simply looking to try something new\, this February pop-up offers a unique way to dine at Grande Station.
URL:https://littletondda.org/event/lovers-lanterns-holiday-pop-up/
LOCATION:Grande Station\, 2299 W Main Street\, Littleton\, C\, 80120\, United States
CATEGORIES:Food & Drink,Holidays
ATTACH;FMTTYPE=image/jpeg:https://littletondda.org/wp-content/uploads/2026/01/IMG_7166.jpg
END:VEVENT
BEGIN:VEVENT
DTSTART;TZID=America/Denver:20260204T170000
DTEND;TZID=America/Denver:20260204T200000
DTSTAMP:20260423T143256
CREATED:20260129T175207Z
LAST-MODIFIED:20260129T175207Z
UID:16263-1770224400-1770235200@littletondda.org
SUMMARY:Valentine's Party @ Uptown & Country Boutique
DESCRIPTION:You’re Invited!💖\nCupid’s calling… and so are new arrivals!✨Join us for our Valentine’s Party — chocolate pairings\, wine & bubbles\, and lots of love-worthy finds. Mark your calendar\, grab your bestie and we’ll see you there!💘🍫🥂
URL:https://littletondda.org/event/valentines-party-uptown-country-boutique/
LOCATION:Uptown & Country Boutique\, 5738 S Rapp St\, Littleton\, CO\, 80120\, United States
CATEGORIES:Food & Drink,Holidays,Shopping
ATTACH;FMTTYPE=image/png:https://littletondda.org/wp-content/uploads/2026/01/Screenshot-2026-01-29-at-10.49.44-AM.png
END:VEVENT
BEGIN:VEVENT
DTSTART;TZID=America/Denver:20260208T163000
DTEND;TZID=America/Denver:20260208T200000
DTSTAMP:20260423T143256
CREATED:20260116T214707Z
LAST-MODIFIED:20260116T214707Z
UID:15962-1770568200-1770580800@littletondda.org
SUMMARY:Super Sunday Watch Party
DESCRIPTION:🏈Super Bowl Sunday calls for big screens\, big drinks\, and even bigger energy — and there’s no better place to watch than ViewHouse. Join us for Super Sunday as we turn up the volume with a massive LED screen\, dozens of flat screens\, and a game-day atmosphere built for football fans. \nCatch every play\, every commercial\, and the can’t-miss halftime performance all in one place. Fuel your watch party with beer towers & buckets\, $5 Touchdown Shots\, and unbeatable food and drink specials available all game long. \nWhether you’re locked in for the game\, the halftime show\, or just the vibes\, ViewHouse is your headquarters for the biggest Sunday of the year. Grab your crew\, claim your spot\, and make Super Sunday one to remember. 🍻🏆
URL:https://littletondda.org/event/super-sunday-watch-party/
LOCATION:ViewHouse\, 2680 Main St\, Littleton\, CO\, 80120\, United States
CATEGORIES:Food & Drink
ATTACH;FMTTYPE=image/png:https://littletondda.org/wp-content/uploads/2026/01/VH_Super-Sunday-Super-Bowl_FB-Slider_1920x1080_January-2026-2-1.png
END:VEVENT
BEGIN:VEVENT
DTSTART;TZID=America/Denver:20260209T110000
DTEND;TZID=America/Denver:20260215T220000
DTSTAMP:20260423T143256
CREATED:20260127T203744Z
LAST-MODIFIED:20260127T203744Z
UID:16018-1770634800-1771192800@littletondda.org
SUMMARY:Valentine's Weekend Special
DESCRIPTION:Celebrate love (or just a great excuse for a date night) with ViewHouse’s Valentine’s Weekend Special\, available for a limited time at all locations. From romantic dinners to Galentine’s celebrations\, we’ve crafted the perfect three-course experience to make your night extra special. \nDate Night Includes:\n🥗 Starter: Caesar Salad or Nuts & Berries Salad\n🥩 Entrée: Salmon or Ribeye\n🍰 Dessert: Lover’s Lava Cake \nWhether you’re planning a cozy dinner with your Valentine\, a fun night out with friends\, or a mid-week treat\, this elevated dining experience is the perfect way to celebrate Valentine’s Week. \nMake your reservation and enjoy a weekend full of flavor\, romance\, and ViewHouse vibes. 💕🍽️🥂
URL:https://littletondda.org/event/valentines-weekend-special/
LOCATION:ViewHouse\, 2680 Main St\, Littleton\, CO\, 80120\, United States
CATEGORIES:Food & Drink,Holidays
ATTACH;FMTTYPE=image/png:https://littletondda.org/wp-content/uploads/2026/01/VH_Valentines-Weekend_FB-Slider_1920x1080_January-2026.png
END:VEVENT
BEGIN:VEVENT
DTSTART;TZID=America/Denver:20260212T180000
DTEND;TZID=America/Denver:20260212T210000
DTSTAMP:20260423T143256
CREATED:20260131T221151Z
LAST-MODIFIED:20260131T221251Z
UID:16195-1770919200-1770930000@littletondda.org
SUMMARY:Palentine’s Bouquet Making and Rom-Com Trivia Night @ Comet Brews
DESCRIPTION:Join us for a night of pals\, flowers\, good beer\, trivia\, and fun. Your $25 ticket includes all the supplies and flowers to make a bouquet and one pint of your choice. Rom com trivia starts at 7 and is free to play. 1st and 2nd place win gift cards!
URL:https://littletondda.org/event/palentines-bouquet-making-and-rom-com-trivia-night-comet-brews/
LOCATION:CO
CATEGORIES:Food & Drink,Holidays
ATTACH;FMTTYPE=image/png:https://littletondda.org/wp-content/uploads/2026/01/Gray-Floral-Delicate-Wildflowers-Illustration-Wedding-Table-Number-Card.png
END:VEVENT
BEGIN:VEVENT
DTSTART;VALUE=DATE:20260214
DTEND;VALUE=DATE:20260215
DTSTAMP:20260423T143256
CREATED:20251230T000758Z
LAST-MODIFIED:20251230T030951Z
UID:15752-1771027200-1771113599@littletondda.org
SUMMARY:Preset Valentine's Day Menu @ The Melting Pot (Feb 14\, 15 & 16)
DESCRIPTION:How will you celebrate Valentine’s Day? Nothing says love\, adoration\, and appreciation better than a romantic 4-course fondue experience.  We are offering a delicious preset 4-course Valentine’s Day Menu on February 13\, 14\, and 15. Our regular menu is also available by request. \n\n💕 VALENTINE’S DAY MENU 💕 \n\n\nFIRST COURSE: CHEESE FONDUE \nServed with artisan breads\, apples and seasonal vegetables for dipping. Choose from: CHAMPAGNE SWISS or GREEN GODDESS CHEDDAR  (choose one cheese per burner) \n\n\n\nSECOND COURSE: SALAD \nCALIFORNIA |MELTING POT HOUSE |FRUIT CUP (choose one per person) \n\n\n\nTHIRD COURSE: ENTRÉES: $30 / $60 / $70 / $85 \nIncludes seasonal vegetables and signature dipping sauces\, served in our Seasoned Court Bouillon. (choose one entrée per person – descriptions below) \nKID’S CRUSH: $30 \n(For kids 10 and under only) CHICKEN | SHRIMP | TERIYAKI SIRLOIN \nFEATURED PASTA | PORK TENDERLOIN \n  \nVEGETARIAN VALENTINE: $60    \nARTICHOKE HEARTS | ASPARAGUS |ONION RINGS | ZUCCHINI | MINI SWEET PEPPERS | FEATURED PASTA |IMPOSSIBLE MEATBALLS \n  \nFOREVER FEAST: $70 \nFILET MIGNON | SHRIMP | CHICKEN | FEATURED PASTA | PORK TENDERLOIN | TERIYAKI SIRLOIN \n  \nCUPID’S CELEBRATION: $85 \n COLD WATER LOBSTER TAIL | FILET MIGNON | SHRIMP | CHICKEN | FEATURED PASTA \nPORK TENDERLOIN |TERIYAKI SIRLOIN \n\n\n\nFOURTH COURSE: CHOCOLATE FONDUE \nA delectable variety of sweet treats and fresh fruits accompany each of our chocolate fondues Choose from: FLAMING HEART or CHOCCOCINO (select one chocolate per burner) \n\n\n\nOPTIONAL ADD-ONS: \n CHARCUTERIE BOARD: $17 per board (Served during first course) Our selection of premium cured meats\, pickles\, olives\, artisan crackers\, fig jam and Creole mustard. \nCHEESE DOUBLE DIPPERS: $9 per plate (Served during first course) Enhance your cheese with a final layer and texture with Crispy Bacon\, Scallions\, Everything Bagel Seasoning\, Crispy Dillies\, Beet Sticks\, and Parmesan Cheese \nSWEET ADDITIONS: $10 per plate (Served during fourth course) \nSeasonal Cheesecake | Cream Puffs | Macarons \nCHOCOLATE DOUBLE DIPPERS: $9 per plate (Served during fourth course) Dip into a second layer of flavor and texture with sweet\, and salty toppings like chocolate chip cookie crumbles\, pretzel bits\, pecans\, sprinkles and more! \n  \n\n\n\nCONDITIONS: Tax\, a 20% gratuity\, and 3% service charge will be added to each final bill for this holiday. Credit card is required to secure your reservation. A no show fee will be implemented. Coupons and certificates will not be accepted today.
URL:https://littletondda.org/event/valentines-day-menu-the-melting-pot/
LOCATION:The Melting Pot\, 2707 Main St\, Littleton\, CO\, 80120\, United States
CATEGORIES:Families,Food & Drink,Holidays
ATTACH;FMTTYPE=image/png:https://littletondda.org/wp-content/uploads/2025/12/Screenshot-2025-12-29-at-5.06.18-PM.png
END:VEVENT
BEGIN:VEVENT
DTSTART;TZID=America/Denver:20260225T180000
DTEND;TZID=America/Denver:20260225T200000
DTSTAMP:20260423T143256
CREATED:20260129T155300Z
LAST-MODIFIED:20260129T155438Z
UID:16212-1772042400-1772049600@littletondda.org
SUMMARY:Bourbon & Books @ ROCKER Spirits
DESCRIPTION:February Book Club Pick: \nBeartown by Fredrik Backman \n#1 New York Times bestselling author of Anxious People
URL:https://littletondda.org/event/bourbon-b/
LOCATION:Rocker Spirits\, 5587 S Hill Street\, Littleton\, CO\, 80120\, United States
CATEGORIES:Food & Drink
ATTACH;FMTTYPE=image/png:https://littletondda.org/wp-content/uploads/2026/01/Screenshot-2026-01-29-at-8.51.08-AM.png
END:VEVENT
END:VCALENDAR