BEGIN:VCALENDAR
VERSION:2.0
PRODID:-//Downtown Littleton - ECPv6.15.18//NONSGML v1.0//EN
CALSCALE:GREGORIAN
METHOD:PUBLISH
X-WR-CALNAME:Downtown Littleton
X-ORIGINAL-URL:https://littletondda.org
X-WR-CALDESC:Events for Downtown Littleton
REFRESH-INTERVAL;VALUE=DURATION:PT1H
X-Robots-Tag:noindex
X-PUBLISHED-TTL:PT1H
BEGIN:VTIMEZONE
TZID:America/Denver
BEGIN:DAYLIGHT
TZOFFSETFROM:-0700
TZOFFSETTO:-0600
TZNAME:MDT
DTSTART:20240310T090000
END:DAYLIGHT
BEGIN:STANDARD
TZOFFSETFROM:-0600
TZOFFSETTO:-0700
TZNAME:MST
DTSTART:20241103T080000
END:STANDARD
BEGIN:DAYLIGHT
TZOFFSETFROM:-0700
TZOFFSETTO:-0600
TZNAME:MDT
DTSTART:20250309T090000
END:DAYLIGHT
BEGIN:STANDARD
TZOFFSETFROM:-0600
TZOFFSETTO:-0700
TZNAME:MST
DTSTART:20251102T080000
END:STANDARD
BEGIN:DAYLIGHT
TZOFFSETFROM:-0700
TZOFFSETTO:-0600
TZNAME:MDT
DTSTART:20260308T090000
END:DAYLIGHT
BEGIN:STANDARD
TZOFFSETFROM:-0600
TZOFFSETTO:-0700
TZNAME:MST
DTSTART:20261101T080000
END:STANDARD
BEGIN:DAYLIGHT
TZOFFSETFROM:-0700
TZOFFSETTO:-0600
TZNAME:MDT
DTSTART:20270314T090000
END:DAYLIGHT
BEGIN:STANDARD
TZOFFSETFROM:-0600
TZOFFSETTO:-0700
TZNAME:MST
DTSTART:20271107T080000
END:STANDARD
END:VTIMEZONE
BEGIN:VEVENT
DTSTART;VALUE=DATE:20251030
DTEND;VALUE=DATE:20260515
DTSTAMP:20260423T132351
CREATED:20250908T183144Z
LAST-MODIFIED:20250908T183144Z
UID:13967-1761782400-1778803199@littletondda.org
SUMMARY:Bridget's Botanicals: Global Herbal Foundations Course (Every other Thursday October 30 - May 14th)
DESCRIPTION:Fee: $1\,400\nDate: Every other Thursday October 30 – May 14th\nTimes: 9:00 – 11:00 a.m.\nDoes making your own herbal remedies and learning about healing traditions and rituals call to you? How about exploring botanicals from around the world? Join Bridget Molloy for an in depth study of herbalism and herbal medicine in person this Fall 2026 starting at the end of October in historic downtown Littleton\, Colorado at the Bridget’s Botanicals apothecary.\n\nYou’ll walk away understanding the foundations of herbalism\, herbal remedies to stock your home apothecary\, how to use 100 herbs to enhance your health and wellbeing\, and recipes for classic herbal remedies to support yourself\, family\, and friends. \nExplore foundations of herbalism in the Global Herbal Foundations course as we delve into different areas of the world to learn about healing traditions and ethnobotany focused on medicinal plants. Learn the foundations of herbalism alongside global materia medica (herbal plants and their uses)\, healing rituals\, and herbal recipes of Italy\, Ireland\, Belize\, and the Peruvian Amazon Rainforest to gain a perspective of herbs used around the world.
URL:https://littletondda.org/event/bridgets-botanicals-global-herbal-foundations-course-every-other-thursday-october-30-may-14th/
LOCATION:Bridget’s Botanicals\, 5733 S Prince St\, Littleton\, CO\, 80120\, United States
CATEGORIES:Classes,Food & Drink,Wellness & Exercise
ATTACH;FMTTYPE=image/avif:https://littletondda.org/wp-content/uploads/2025/09/global.avif
END:VEVENT
BEGIN:VEVENT
DTSTART;TZID=America/Denver:20260304T183000
DTEND;TZID=America/Denver:20260304T203000
DTSTAMP:20260423T132351
CREATED:20260225T025801Z
LAST-MODIFIED:20260225T025801Z
UID:16600-1772649000-1772656200@littletondda.org
SUMMARY:Siduri Winemaker Wine & Cheese Tasting Event @ Kate’s Wine Bar
DESCRIPTION:Join us at Kate’s Wine Bar on Wednesday\, March 4th at 6:30 pm as we welcome Siduri’s winemaker\, Matt Revelette! Matt crafts single-vineyard and appellation-inspired Pinot Noir (and Chardonnay) from the finest West Coast regions\, from the Willamette Valley to Santa Barbara. It’s an event you don’t want to miss. \n$45 per person \nTickets are required to attend this event \nPlease arrive at 6:30 pm \nMust be 21 or older to attend this event \nTo ensure your party sits together\, please purchase all tickets at once \nNo refunds when canceling within 72 hours of this event
URL:https://littletondda.org/event/siduri-winemaker-wine-cheese-tasting-event-kates-wine-bar/
LOCATION:Kate’s Wine Bar\, 5671 S Nevada St\, Littleton\, CO\, 80120
CATEGORIES:Classes,Food & Drink
ATTACH;FMTTYPE=image/png:https://littletondda.org/wp-content/uploads/2026/02/Screenshot-2026-02-24-at-7.57.24-PM.png
END:VEVENT
BEGIN:VEVENT
DTSTART;TZID=America/Denver:20260305T173000
DTEND;TZID=America/Denver:20260305T200000
DTSTAMP:20260423T132351
CREATED:20260225T172950Z
LAST-MODIFIED:20260226T163229Z
UID:16618-1772731800-1772740800@littletondda.org
SUMMARY:Songwriters in the Barrel Room @ ROCKER Spirits
DESCRIPTION:Doors @ 5:30 pm\, Show @ 6 pm \n$10 donation \n 
URL:https://littletondda.org/event/songwriters-in-the-barrel-room-rocker-spirits/
LOCATION:Rocker Spirits\, 5587 S Hill Street\, Littleton\, CO\, 80120\, United States
CATEGORIES:Food & Drink,Live Music
ATTACH;FMTTYPE=image/png:https://littletondda.org/wp-content/uploads/2026/02/Screenshot-2026-02-26-at-9.30.51-AM.png
END:VEVENT
BEGIN:VEVENT
DTSTART;VALUE=DATE:20260306
DTEND;VALUE=DATE:20260401
DTSTAMP:20260423T132351
CREATED:20260224T031552Z
LAST-MODIFIED:20260224T031552Z
UID:16496-1772755200-1775001599@littletondda.org
SUMMARY:Restaurant Week @ The Melting Pot
DESCRIPTION:RESTAURANT WEEK\nNow in its 21st year\, Restaurant Week is back! Enjoy our preset Restaurant Week special for just $45 per person. \nAt this special price\, you’ll be kicking yourself if you miss out. Tables will fill up fast\, so gather your faves\, reserve your table\, and celebrate this much-loved culinary tradition with fondue. \nBONUS: \nWe’re extending our Restaurant Week Special through March 31st so that you can double dip and meet up with all of your favorite people AND come in on a date that works best for everybody’s schedule. \n\nRESTAURANT WEEK MENU \nFIRST COURSE: \nCheese Fondue Wisconsin Cheddar \nEnjoy our most popular cheese fondue option. Dippers include veggies\, green apples\, and artisan breads. Served with artisan breads and seasonal fruit and veggies for dipping. \nOptional Add-On \nCharcuterie Board: $17 \nCheese Double Dippers: $9 \n\nSECOND COURSE: SALAD \nCaesar Salad\, Melting Pot House\, or California \nBite in to one of our fresh individual salads with your choice of one of our much-loved house dressings. \n\nTHIRD COURSE: ENTRÉE \nEnjoy a combination of Filet Mignon\, Shrimp\, Teriyaki Steak\, Chicken\, Pork Tenderloin\, Featured Ravioli and seasonal vegetables. Served with our signature dipping sauces. \n**Add a Cold-water Lobster Tail for $20** \nCOOKING STYLE: \nOur Restaurant Week entrée will be prepared with our Seasoned Court Bouillon cooking style. \n\nFOURTH COURSE: CHOCOLATE FONDUE \nPure Chocolate Fondue for the fondue purist…we offer milk\, dark or white chocolate melted to decadent perfection. Served with a variety of sweet treats and fresh fruits. Served with a variety of sweet treats and fresh fruits. \nOptional Add-On \nSweet Additions: $10 \nChocolate Double Dippers: 9 \n\nRESERVATIONS REQUIRED! \nReserve your table today today and mention ‘RESTAURANT WEEK’ in your reservation notes. \nDoes not include tax\, gratuity\, or our standard 3% heart-of-house surcharge\, and beverages. No substitutions. Cannot be combined with any other offers\, coupons or promotions\, such as Kids Eat Free on Sundays and Tuesdays. Offer valid at The Melting Pot of Littleton.
URL:https://littletondda.org/event/restaurant-week-the-melting-pot/
LOCATION:The Melting Pot\, 2707 Main St\, Littleton\, CO\, 80120\, United States
CATEGORIES:Food & Drink
ATTACH;FMTTYPE=image/png:https://littletondda.org/wp-content/uploads/2026/02/Screenshot-2026-02-23-at-8.12.45-PM.png
END:VEVENT
BEGIN:VEVENT
DTSTART;TZID=America/Denver:20260310T170000
DTEND;TZID=America/Denver:20260310T190000
DTSTAMP:20260423T132351
CREATED:20260304T205616Z
LAST-MODIFIED:20260304T205645Z
UID:16841-1773162000-1773169200@littletondda.org
SUMMARY:Exclusive Open House Savings @ EVOO Marketplace
DESCRIPTION:Looking to level up your flavor game? Join us for an open-house at EVOO Marketplace in Downtown Littleton on March 10th from 5 to 7 pm. Anyone who shops during these extended hours will get to take advantage of our EXCLUSIVE SALE! \nTaste what “fresh” actually means: Ultra-Premium extra virgin olive oils\, lab-tested at crush for verified freshness\, plus traditionally barrel-aged balsamic vinegars from Modena\, Italy.
URL:https://littletondda.org/event/exclusive-open-house-savings-evoo/
LOCATION:EVOO Marketplace (Specialty Oils & Balsamic Vinegars)\, 2660 W. Main St\, Littleton\, C\, 80120\, United States
CATEGORIES:Food & Drink,Shopping
ATTACH;FMTTYPE=image/png:https://littletondda.org/wp-content/uploads/2026/03/Screenshot-2026-03-04-at-1.49.17-PM.png
END:VEVENT
BEGIN:VEVENT
DTSTART;VALUE=DATE:20260314
DTEND;VALUE=DATE:20260318
DTSTAMP:20260423T132351
CREATED:20260226T182804Z
LAST-MODIFIED:20260226T182823Z
UID:16715-1773446400-1773791999@littletondda.org
SUMMARY:St. Patrick's Weekend Shenanigans @ ViewHouse Littleton
DESCRIPTION:3/14/2026 – 3/17/2026\nCelebrate St. Patrick’s Day weekend at ViewHouse Littleton with festive food\, Irish-inspired drink specials\, and signature weekend events you won’t want to miss. Join us March 14–17 for green beer\, great eats\, and plenty of St. Paddy’s fun. \n St. Patrick’s Day Specials | March 14–17\nEnjoy Green Coors Light\, an Irish-inspired food menu\, plus Tullamore D.E.W. specials and more all weekend long. \n Saturday\, March 14 | Annual Crawfish Boil (2–8 PM)\nDig into a Louisiana-style crawfish boil featuring crawfish\, corn on the cob\, potatoes\, and andouille sausage—a St. Patrick’s weekend favorite at ViewHouse Littleton. \n Tuesday\, March 17 | St. Patrick’s Day Celebration\nClose out the weekend with food & drink specials\, Irish-inspired menu items\, and a March Madness watch party all day long. \nWear your green\, bring your crew\, and celebrate St. Patrick’s Weekend at ViewHouse Littleton—where the drinks are flowing\, the food is festive\, and the shenanigans are guaranteed.
URL:https://littletondda.org/event/st-patricks-weekend-shenanigans-viewhouse-littleton/
LOCATION:ViewHouse\, 2680 Main St\, Littleton\, CO\, 80120\, United States
CATEGORIES:Families,Food & Drink,Holidays
ATTACH;FMTTYPE=image/png:https://littletondda.org/wp-content/uploads/2026/02/Screenshot-2026-02-26-at-11.27.05-AM.png
END:VEVENT
BEGIN:VEVENT
DTSTART;TZID=America/Denver:20260314T100000
DTEND;TZID=America/Denver:20260314T100000
DTSTAMP:20260423T132351
CREATED:20260303T010419Z
LAST-MODIFIED:20260303T044054Z
UID:16807-1773482400-1773482400@littletondda.org
SUMMARY:St. Patrick's Day Weekend @ Ned Kelly's Irish Pub
DESCRIPTION:MARCH 14TH\, 15TH AND 17TH \nOPEN AT 10 AM \nCome join us for a fun and spectacular St. Patrick’s Day Weekend featuring The Mile Highlanders and Reed School of Irish Dance. \nHelp raise money to fight childhood cancer with The St. Baldricks Foundation (March 15th\, Noon-6pm). Raise money by getting your head shaved or just make a donation!
URL:https://littletondda.org/event/st-patricks-day-weekend-ned-kellys-irish-pub/
LOCATION:Ned Kelly’s Irish Pub\, 5686 S Sycamore St\, Littleton\, CO\, 80120\, United States
CATEGORIES:Families,Food & Drink,Holidays,Live Music,Visual & Performing Arts
ATTACH;FMTTYPE=image/png:https://littletondda.org/wp-content/uploads/2026/03/Screenshot-2026-03-02-at-5.58.51-PM.png
END:VEVENT
BEGIN:VEVENT
DTSTART;TZID=America/Denver:20260315T100000
DTEND;TZID=America/Denver:20260406T220000
DTSTAMP:20260423T132351
CREATED:20260303T005643Z
LAST-MODIFIED:20260303T005643Z
UID:16636-1773568800-1775512800@littletondda.org
SUMMARY:March Madness @ViewHouse Littleton
DESCRIPTION:Get ready for wall-to-wall hoops\, ice-cold beers\, and nonstop energy as ViewHouse brings you March Madness at every location. Catch every buzzer-beater and bracket-busting moment on our massive LED TVs and dozens of flat screens throughout the venue while enjoying game day food and drink specials made for cheering. \nWe’re serving up daily specials all tournament long:\nMonday – Regular Wings $10 or Wing Platter (20 pcs) $20\nThursday – Any Burger + VH Beer $18\nSaturday – Game Day Combo $10 (Personal Pizza + 4 Wings + VH Beer)\nSunday – 3 Tacos + ViewHouse Margarita $18\nEvery Game Day – End Zone Sampler $40 (serves 4) featuring Bacon-Wrapped Jalapeño Poppers\, Spinach Artichoke Dip\, Kickin’ Pigs in a Blanket & Chicken Tenders \nFrom Selection Sunday to the Championship\, there’s no better place to watch every matchup unfold. Rally your crew\, grab your bracket\, and experience March Madness the ViewHouse way.
URL:https://littletondda.org/event/march-madness-viewhouse-littleton/
LOCATION:ViewHouse\, 2680 Main St\, Littleton\, CO\, 80120\, United States
CATEGORIES:Families,Food & Drink,Holidays,Visual & Performing Arts,Workshop
ATTACH;FMTTYPE=image/png:https://littletondda.org/wp-content/uploads/2026/02/VH_March-Madness_FB-Slider_1920x1080_February-2026-2.png
END:VEVENT
BEGIN:VEVENT
DTSTART;TZID=America/Denver:20260315T153000
DTEND;TZID=America/Denver:20260315T173000
DTSTAMP:20260423T132351
CREATED:20260303T045109Z
LAST-MODIFIED:20260303T045109Z
UID:16810-1773588600-1773595800@littletondda.org
SUMMARY:St. Patrick's Cookie Decorating @ Comet Brews
DESCRIPTION:St. Patricks Day Cookie Decorating Class \n$50.00 \nJoin Sav’s Sweets for a St. Patricks Day cookie decorating class and sip on some Colorado Classic Brews! You will learn expert techniques to decorate sweet sugar using royal icing and\, and your own unique touch. This hands-on class is perfect for all skill levels—from beginners to experienced bakers. You’ll receive all the materials needed\, including pre-baked cookies in six St. Patrick shapes. \nYou will get: \n\nHands on learning\nTwo Take home cookies and icing to keep the cookie flow going!\nSav’s Sweets Very own Sugar Cookies and Royal Icing Recipes!\n$2 off your first Drink at Comet Brews and further Sav’s Sweets discounts\nGuarantee to have a great time with good\, sweet vibes!\n\nWhether you want to learn a new skill\, or just come for some decorating\, drinks\, and fun – this class will surly leave you with a new skill set and some sweet memories! \nDate: Sunday March 15th \nTime: 3:30pm – 5:30pm \nLocation: 5642 South Sycamore Street\,Littleton\, Colorado 80120\, United States
URL:https://littletondda.org/event/st-patricks-cookie-decorating-comet-brews/
LOCATION:Comet Brews\, 5642 S Sycamore St\, Littleton\, 80120\, United States
CATEGORIES:Families,Food & Drink,Holidays
ATTACH;FMTTYPE=image/png:https://littletondda.org/wp-content/uploads/2026/03/Screenshot-2026-03-02-at-9.50.07-PM.png
END:VEVENT
BEGIN:VEVENT
DTSTART;TZID=America/Denver:20260320T183000
DTEND;TZID=America/Denver:20260320T193000
DTSTAMP:20260423T132351
CREATED:20260320T182011Z
LAST-MODIFIED:20260320T182011Z
UID:16990-1774031400-1774035000@littletondda.org
SUMMARY:Chocolate & Wine Pairing
DESCRIPTION:Enjoy an evening of entertainment and education! Your adventure begins with an international chocolate tasting…learn how chocolate is made from bean to bar\, how to eat chocolate properly\, and how to discern flavors to discover your favorites. Next\, you’ll pair 4 different wines with 2 chocolate each\, handcrafted at The Chocolate Therapist and infused with all-natural flavoring oils\, designed to enhance the flavors in both the chocolate and the wine. After-class shopping discount.
URL:https://littletondda.org/event/chocolate-wine-pairing/
LOCATION:The Chocolate Therapist\, 2560 W Main St\, Littleton\, C\, 80120-4633\, United States
CATEGORIES:Classes,Food & Drink
ATTACH;FMTTYPE=image/jpeg:https://littletondda.org/wp-content/uploads/2026/03/Chocolate-Wine-Pairing.jpg
END:VEVENT
BEGIN:VEVENT
DTSTART;TZID=America/Denver:20260325T180000
DTEND;TZID=America/Denver:20260325T200000
DTSTAMP:20260423T132351
CREATED:20260225T173240Z
LAST-MODIFIED:20260225T173240Z
UID:16621-1774461600-1774468800@littletondda.org
SUMMARY:Bourbon & Books: The ROCKER Spirits Book Club
DESCRIPTION:Bourbon & Books: The ROCKER Book Club is open to everyone.\nHaven’t read the book? That’s okay! Come for the community and cocktails.
URL:https://littletondda.org/event/bourbon-books-the-rocker-spirits-book-club/
LOCATION:Rocker Spirits\, 5587 S Hill Street\, Littleton\, CO\, 80120\, United States
CATEGORIES:Food & Drink,Workshop
ATTACH;FMTTYPE=image/png:https://littletondda.org/wp-content/uploads/2026/02/Screenshot-2026-02-25-at-10.32.22-AM.png
END:VEVENT
BEGIN:VEVENT
DTSTART;TZID=America/Denver:20260328T183000
DTEND;TZID=America/Denver:20260328T193000
DTSTAMP:20260423T132351
CREATED:20260224T175316Z
LAST-MODIFIED:20260224T180138Z
UID:16523-1774722600-1774726200@littletondda.org
SUMMARY:Chocolate & Wine Pairing Class @ The Chocolate Therapist
DESCRIPTION:The adventure begins! Learn how chocolate is made from bean to bar and how to taste chocolate properly while sampling single-origin chocolate. Next\, we’ll pair four different international and domestic wines with 2 chocolates* each\, all handcrafted at the The Chocolate Therapist and made specifically for pairing with wines (4 wines\, 10 chocolates total). Shopping discount at end of class. *Chocolates are gluten-free\, soy-free and the dark is made without dairy. (14-person limit per class to insure everyone gets plenty of wine\, wines change every quarter!)
URL:https://littletondda.org/event/chocolate-wine-pairing-class-the-chocolate-therapist/
LOCATION:The Chocolate Therapist\, 2560 W Main St\, Littleton\, C\, 80120-4633\, United States
CATEGORIES:Classes,Downtown Littleton Signature Event,Food & Drink
ATTACH;FMTTYPE=image/jpeg:https://littletondda.org/wp-content/uploads/2026/02/Dare-to-pair-white-3.jpg
END:VEVENT
END:VCALENDAR