BEGIN:VCALENDAR
VERSION:2.0
PRODID:-//Downtown Littleton - ECPv6.15.18//NONSGML v1.0//EN
CALSCALE:GREGORIAN
METHOD:PUBLISH
X-ORIGINAL-URL:https://littletondda.org
X-WR-CALDESC:Events for Downtown Littleton
REFRESH-INTERVAL;VALUE=DURATION:PT1H
X-Robots-Tag:noindex
X-PUBLISHED-TTL:PT1H
BEGIN:VTIMEZONE
TZID:America/Denver
BEGIN:DAYLIGHT
TZOFFSETFROM:-0700
TZOFFSETTO:-0600
TZNAME:MDT
DTSTART:20230312T090000
END:DAYLIGHT
BEGIN:STANDARD
TZOFFSETFROM:-0600
TZOFFSETTO:-0700
TZNAME:MST
DTSTART:20231105T080000
END:STANDARD
BEGIN:DAYLIGHT
TZOFFSETFROM:-0700
TZOFFSETTO:-0600
TZNAME:MDT
DTSTART:20240310T090000
END:DAYLIGHT
BEGIN:STANDARD
TZOFFSETFROM:-0600
TZOFFSETTO:-0700
TZNAME:MST
DTSTART:20241103T080000
END:STANDARD
BEGIN:DAYLIGHT
TZOFFSETFROM:-0700
TZOFFSETTO:-0600
TZNAME:MDT
DTSTART:20250309T090000
END:DAYLIGHT
BEGIN:STANDARD
TZOFFSETFROM:-0600
TZOFFSETTO:-0700
TZNAME:MST
DTSTART:20251102T080000
END:STANDARD
END:VTIMEZONE
BEGIN:VEVENT
DTSTART;TZID=America/Denver:20240414T120000
DTEND;TZID=America/Denver:20240414T180000
DTSTAMP:20260424T211222
CREATED:20240307T185436Z
LAST-MODIFIED:20240307T185436Z
UID:8690-1713096000-1713117600@littletondda.org
SUMMARY:6th Annual Daniel Vogt Memorial Backyard Rib Competition
DESCRIPTION:Cooking Demos – Raffles – Live Music \nProceeds to be donated to the American Cancer Society
URL:https://littletondda.org/event/6th-annual-daniel-vogt-memorial-backyard-rib-competition/
LOCATION:Proud Souls Barbecue & Provisions\, 5599 S Rio Grande St.\, Littleton\, CO\, 80120\, United States
CATEGORIES:Food & Drink
ATTACH;FMTTYPE=image/png:https://littletondda.org/wp-content/uploads/2024/03/unnamed-3.png
END:VEVENT
END:VCALENDAR