BEGIN:VCALENDAR
VERSION:2.0
PRODID:-//Downtown Littleton - ECPv6.15.18//NONSGML v1.0//EN
CALSCALE:GREGORIAN
METHOD:PUBLISH
X-WR-CALNAME:Downtown Littleton
X-ORIGINAL-URL:https://littletondda.org
X-WR-CALDESC:Events for Downtown Littleton
REFRESH-INTERVAL;VALUE=DURATION:PT1H
X-Robots-Tag:noindex
X-PUBLISHED-TTL:PT1H
BEGIN:VTIMEZONE
TZID:America/Denver
BEGIN:DAYLIGHT
TZOFFSETFROM:-0700
TZOFFSETTO:-0600
TZNAME:MDT
DTSTART:20230312T090000
END:DAYLIGHT
BEGIN:STANDARD
TZOFFSETFROM:-0600
TZOFFSETTO:-0700
TZNAME:MST
DTSTART:20231105T080000
END:STANDARD
BEGIN:DAYLIGHT
TZOFFSETFROM:-0700
TZOFFSETTO:-0600
TZNAME:MDT
DTSTART:20240310T090000
END:DAYLIGHT
BEGIN:STANDARD
TZOFFSETFROM:-0600
TZOFFSETTO:-0700
TZNAME:MST
DTSTART:20241103T080000
END:STANDARD
BEGIN:DAYLIGHT
TZOFFSETFROM:-0700
TZOFFSETTO:-0600
TZNAME:MDT
DTSTART:20250309T090000
END:DAYLIGHT
BEGIN:STANDARD
TZOFFSETFROM:-0600
TZOFFSETTO:-0700
TZNAME:MST
DTSTART:20251102T080000
END:STANDARD
END:VTIMEZONE
BEGIN:VEVENT
DTSTART;TZID=America/Denver:20240425T173000
DTEND;TZID=America/Denver:20240425T193000
DTSTAMP:20260424T211005
CREATED:20240327T024504Z
LAST-MODIFIED:20240327T024504Z
UID:8700-1714066200-1714073400@littletondda.org
SUMMARY:GraceFull's Annual Gather-Eat-Give Fundraiser
DESCRIPTION:Gather Eat Give is Thursday\, April 25 from 5:30-7:30pm and will be at the new EPIC Campus of Littleton Public Schools. Tickets are $40 for an evening of inspiring stories and great food. You can purchase tickets below as well as make an additional donation toward our fundraising goal. If you are a current monthly donor\, you only need to purchase tickets. You can increase your monthly giving through your Kindful or PayPal account if you feel called. \nWe hope you can join us to celebrate the work you make possible. \nThank you for what you already generously share with us in this work. If you’re unable to join us at Gather Eat Give but would still like to become a new monthly recurring donor or contribute a one-time gift to help us reach our $90\,000 goal\, you can do so by clicking the GIVE button below. Please feel free to share this message with friends you would like to invite to join us in our fundraising goal. \nYou are helping to change lives one meal at a time.
URL:https://littletondda.org/event/gracefulls-annual-gather-eat-give-fundraiser/
LOCATION:EPIC Campus\, 190 E Littleton Blvd\, Littleton\, CO\, 80121\, United States
CATEGORIES:Charity,Food & Drink
ATTACH;FMTTYPE=image/png:https://littletondda.org/wp-content/uploads/2024/03/annual-fundraiser.png
END:VEVENT
END:VCALENDAR