BEGIN:VCALENDAR
VERSION:2.0
PRODID:-//Downtown Littleton - ECPv6.15.18//NONSGML v1.0//EN
CALSCALE:GREGORIAN
METHOD:PUBLISH
X-ORIGINAL-URL:https://littletondda.org
X-WR-CALDESC:Events for Downtown Littleton
REFRESH-INTERVAL;VALUE=DURATION:PT1H
X-Robots-Tag:noindex
X-PUBLISHED-TTL:PT1H
BEGIN:VTIMEZONE
TZID:America/Denver
BEGIN:DAYLIGHT
TZOFFSETFROM:-0700
TZOFFSETTO:-0600
TZNAME:MDT
DTSTART:20230312T090000
END:DAYLIGHT
BEGIN:STANDARD
TZOFFSETFROM:-0600
TZOFFSETTO:-0700
TZNAME:MST
DTSTART:20231105T080000
END:STANDARD
BEGIN:DAYLIGHT
TZOFFSETFROM:-0700
TZOFFSETTO:-0600
TZNAME:MDT
DTSTART:20240310T090000
END:DAYLIGHT
BEGIN:STANDARD
TZOFFSETFROM:-0600
TZOFFSETTO:-0700
TZNAME:MST
DTSTART:20241103T080000
END:STANDARD
BEGIN:DAYLIGHT
TZOFFSETFROM:-0700
TZOFFSETTO:-0600
TZNAME:MDT
DTSTART:20250309T090000
END:DAYLIGHT
BEGIN:STANDARD
TZOFFSETFROM:-0600
TZOFFSETTO:-0700
TZNAME:MST
DTSTART:20251102T080000
END:STANDARD
END:VTIMEZONE
BEGIN:VEVENT
DTSTART;TZID=America/Denver:20240824T140000
DTEND;TZID=America/Denver:20240824T190000
DTSTAMP:20260424T151224
CREATED:20240812T034448Z
LAST-MODIFIED:20240812T034448Z
UID:8781-1724508000-1724526000@littletondda.org
SUMMARY:Denver Beer Co’s 13th Anniversary Party
DESCRIPTION:Save the Date – Denver Beer Co. is turning 13!\nJoin us on Saturday\, August 24th for a jam-packed celebration with specialty beer releases\, live music\, and anniversary food specials at all 5 DBC taprooms. More info to come! \nDetails:\nLive Music Lineup\nLittleton: Sarah Bauer Band
URL:https://littletondda.org/event/denver-beer-cos-13th-anniversary-party/
LOCATION:Denver Beer Company\, Littleton\, 2409 Main Street\, Littleton\, CO\, 80120
CATEGORIES:Food & Drink,Live Music
ATTACH;FMTTYPE=image/jpeg:https://littletondda.org/wp-content/uploads/2024/08/13th-Anniversary_4x5_IG.jpg
END:VEVENT
END:VCALENDAR