BEGIN:VCALENDAR
VERSION:2.0
PRODID:-//Downtown Littleton - ECPv6.15.18//NONSGML v1.0//EN
CALSCALE:GREGORIAN
METHOD:PUBLISH
X-ORIGINAL-URL:https://littletondda.org
X-WR-CALDESC:Events for Downtown Littleton
REFRESH-INTERVAL;VALUE=DURATION:PT1H
X-Robots-Tag:noindex
X-PUBLISHED-TTL:PT1H
BEGIN:VTIMEZONE
TZID:America/Denver
BEGIN:DAYLIGHT
TZOFFSETFROM:-0700
TZOFFSETTO:-0600
TZNAME:MDT
DTSTART:20240310T090000
END:DAYLIGHT
BEGIN:STANDARD
TZOFFSETFROM:-0600
TZOFFSETTO:-0700
TZNAME:MST
DTSTART:20241103T080000
END:STANDARD
BEGIN:DAYLIGHT
TZOFFSETFROM:-0700
TZOFFSETTO:-0600
TZNAME:MDT
DTSTART:20250309T090000
END:DAYLIGHT
BEGIN:STANDARD
TZOFFSETFROM:-0600
TZOFFSETTO:-0700
TZNAME:MST
DTSTART:20251102T080000
END:STANDARD
BEGIN:DAYLIGHT
TZOFFSETFROM:-0700
TZOFFSETTO:-0600
TZNAME:MDT
DTSTART:20260308T090000
END:DAYLIGHT
BEGIN:STANDARD
TZOFFSETFROM:-0600
TZOFFSETTO:-0700
TZNAME:MST
DTSTART:20261101T080000
END:STANDARD
END:VTIMEZONE
BEGIN:VEVENT
DTSTART;TZID=America/Denver:20250316T120000
DTEND;TZID=America/Denver:20250316T180000
DTSTAMP:20260424T053023
CREATED:20250219T201808Z
LAST-MODIFIED:20250219T203008Z
UID:10811-1742126400-1742148000@littletondda.org
SUMMARY:St. Baldrick's Fundraiser at Ned Kelly's
DESCRIPTION:Join us to shave heads for children’s cancer research. Last year we raised $113K. Let’s see if we can beat that this year!!
URL:https://littletondda.org/event/st-baldricks-fundraiser-at-ned-kellys/
LOCATION:Ned Kelly’s Irish Pub\, 5686 S Sycamore St\, Littleton\, CO\, 80120\, United States
CATEGORIES:Charity,Food & Drink,Live Music
ATTACH;FMTTYPE=image/jpeg:https://littletondda.org/wp-content/uploads/2025/02/w926-1.jpg
END:VEVENT
BEGIN:VEVENT
DTSTART;TZID=America/Denver:20250316T140000
DTEND;TZID=America/Denver:20250316T153000
DTSTAMP:20260424T053023
CREATED:20250203T201307Z
LAST-MODIFIED:20250203T201307Z
UID:10621-1742133600-1742139000@littletondda.org
SUMMARY:Green Tea Class at iN-TEA
DESCRIPTION:Explore green tea’s history\, flavors\, and benefits with an expert while tasting five premium selections. Perfect for tea lovers of all levels! \nDate: 3/16/25\nTime: 2:00pm-3:30pm\nLocation: iN-TEA 2440 Main St\, Littleton\, CO 80120 \nReserve Your Spot Today!\nCall us at 720-981-2512 or visit us in-store at 2440 Main St\, Littleton\, CO 80120 to prepay for your place in one of our public tea classes. \nDon’t wait—spaces fill quickly!
URL:https://littletondda.org/event/green-tea-class-at-in-tea/
LOCATION:iN-TEA\, 2440 Main Street\, Littleton\, CO\, 80120\, United States
CATEGORIES:Classes,Food & Drink,Shopping
ATTACH;FMTTYPE=image/jpeg:https://littletondda.org/wp-content/uploads/2025/02/Panfired_Green_530x_8049b3a7-183b-41a9-ac4b-b4b88142a4d0.jpg
END:VEVENT
END:VCALENDAR