BEGIN:VCALENDAR
VERSION:2.0
PRODID:-//Downtown Littleton - ECPv6.15.18//NONSGML v1.0//EN
CALSCALE:GREGORIAN
METHOD:PUBLISH
X-ORIGINAL-URL:https://littletondda.org
X-WR-CALDESC:Events for Downtown Littleton
REFRESH-INTERVAL;VALUE=DURATION:PT1H
X-Robots-Tag:noindex
X-PUBLISHED-TTL:PT1H
BEGIN:VTIMEZONE
TZID:America/Denver
BEGIN:DAYLIGHT
TZOFFSETFROM:-0700
TZOFFSETTO:-0600
TZNAME:MDT
DTSTART:20240310T090000
END:DAYLIGHT
BEGIN:STANDARD
TZOFFSETFROM:-0600
TZOFFSETTO:-0700
TZNAME:MST
DTSTART:20241103T080000
END:STANDARD
BEGIN:DAYLIGHT
TZOFFSETFROM:-0700
TZOFFSETTO:-0600
TZNAME:MDT
DTSTART:20250309T090000
END:DAYLIGHT
BEGIN:STANDARD
TZOFFSETFROM:-0600
TZOFFSETTO:-0700
TZNAME:MST
DTSTART:20251102T080000
END:STANDARD
BEGIN:DAYLIGHT
TZOFFSETFROM:-0700
TZOFFSETTO:-0600
TZNAME:MDT
DTSTART:20260308T090000
END:DAYLIGHT
BEGIN:STANDARD
TZOFFSETFROM:-0600
TZOFFSETTO:-0700
TZNAME:MST
DTSTART:20261101T080000
END:STANDARD
BEGIN:DAYLIGHT
TZOFFSETFROM:-0700
TZOFFSETTO:-0600
TZNAME:MDT
DTSTART:20270314T090000
END:DAYLIGHT
BEGIN:STANDARD
TZOFFSETFROM:-0600
TZOFFSETTO:-0700
TZNAME:MST
DTSTART:20271107T080000
END:STANDARD
END:VTIMEZONE
BEGIN:VEVENT
DTSTART;VALUE=DATE:20251030
DTEND;VALUE=DATE:20260515
DTSTAMP:20260423T132953
CREATED:20250908T183144Z
LAST-MODIFIED:20250908T183144Z
UID:13967-1761782400-1778803199@littletondda.org
SUMMARY:Bridget's Botanicals: Global Herbal Foundations Course (Every other Thursday October 30 - May 14th)
DESCRIPTION:Fee: $1\,400\nDate: Every other Thursday October 30 – May 14th\nTimes: 9:00 – 11:00 a.m.\nDoes making your own herbal remedies and learning about healing traditions and rituals call to you? How about exploring botanicals from around the world? Join Bridget Molloy for an in depth study of herbalism and herbal medicine in person this Fall 2026 starting at the end of October in historic downtown Littleton\, Colorado at the Bridget’s Botanicals apothecary.\n\nYou’ll walk away understanding the foundations of herbalism\, herbal remedies to stock your home apothecary\, how to use 100 herbs to enhance your health and wellbeing\, and recipes for classic herbal remedies to support yourself\, family\, and friends. \nExplore foundations of herbalism in the Global Herbal Foundations course as we delve into different areas of the world to learn about healing traditions and ethnobotany focused on medicinal plants. Learn the foundations of herbalism alongside global materia medica (herbal plants and their uses)\, healing rituals\, and herbal recipes of Italy\, Ireland\, Belize\, and the Peruvian Amazon Rainforest to gain a perspective of herbs used around the world.
URL:https://littletondda.org/event/bridgets-botanicals-global-herbal-foundations-course-every-other-thursday-october-30-may-14th/
LOCATION:Bridget’s Botanicals\, 5733 S Prince St\, Littleton\, CO\, 80120\, United States
CATEGORIES:Classes,Food & Drink,Wellness & Exercise
ATTACH;FMTTYPE=image/avif:https://littletondda.org/wp-content/uploads/2025/09/global.avif
END:VEVENT
BEGIN:VEVENT
DTSTART;VALUE=DATE:20260401
DTEND;VALUE=DATE:20260501
DTSTAMP:20260423T132953
CREATED:20260306T162647Z
LAST-MODIFIED:20260306T162647Z
UID:16867-1775001600-1777593599@littletondda.org
SUMMARY:Melting Pot of Littleton's 30th Birthday Festivities - The 30th Chapter
DESCRIPTION:Enter to win “30 Years of Fondue”! Celebrate the Melting Pot of Littleton’s 30th birthday in April with wine discounts\, daily social media giveaways\, and a grand prize valued at $46\,800!\n———————————————\nSince 1996\, The Melting Pot of Littleton has served as the quintessential backdrop for core memories—from milestone birthdays and nervous first dates to anniversaries and long-standing family traditions. This April\, the beloved special-occasion destination is celebrating its own\nmilestone: its 30th birthday. To mark the start of “The 30th Chapter\,” the restaurant is presenting a month-long celebration with specials and giveaways\, headlined by a life-changing giveaway: “30 Years of Fondue\,” a grand prize valued at $46\,800. \nThe 30th birthday festivities will run throughout April and feature: \n• “30 Years of Fondue” Grand Prize: One lucky guest will win the ultimate “30 Years of Fondue” prize giveaway—dinner for two\, once a month\, for the next three decades. Valued at $46\,800 ($130 per dinner every month for 30 years)\, this legacy prize ensures the winner remains part of the Melting Pot family for years to come. Details on entry methods and official rules are available at meltingpotlittleton.com. \n• 30% Off Bottles of Wine: Guests can toast to the anniversary with a 30% discount on all bottles of wine throughout the month—available for both in-restaurant dining and to-go purchases. \n• 30 Days of Giveaways: Followers of The Melting Pot of Littleton’s Facebook and Instagram pages will have the opportunity to enter daily giveaways. \n• 30th Birthday 4-Course Menu: A limited-time-only menu featuring nostalgic favorites at a 30% discount. Reservations can be made at meltingpot.com/littleton-co. \n• Cheers to 30 Years: Enjoy a custom photo booth and a nostalgic 30-year photo journey in the restaurant’s recently remodeled bar. \n• The Big Day (April 15): On the official birthday\, April 15\, guests will enjoy a slice of a giant 30th birthday cake.
URL:https://littletondda.org/event/melting-pot-of-littletons-30th-birthday-festivities-the-30th-chapter/
LOCATION:The Melting Pot\, 2707 Main St\, Littleton\, CO\, 80120\, United States
CATEGORIES:Food & Drink
ATTACH;FMTTYPE=image/png:https://littletondda.org/wp-content/uploads/2026/03/AprilEventsFlyer-1-scaled.png
END:VEVENT
BEGIN:VEVENT
DTSTART;VALUE=DATE:20260401
DTEND;VALUE=DATE:20260501
DTSTAMP:20260423T132953
CREATED:20260320T182037Z
LAST-MODIFIED:20260320T182037Z
UID:16832-1775001600-1777593599@littletondda.org
SUMMARY:Melting Pot of Littleton's 30th Birthday Events - "The 30th Chapter"
DESCRIPTION:Enter to win “30 Years of Fondue”! Celebrate the Melting Pot of Littleton’s 30th birthday in April with wine discounts\, daily social media giveaways\, and a grand prize valued at $46\,800! \nSince 1996\, The Melting Pot of Littleton has served as the quintessential backdrop for core memories—from milestone birthdays and nervous first dates to anniversaries and long-standing family traditions. Thank you to our community and guests for your patronage. It means the world to us! \nThis April\, the beloved special-occasion destination is celebrating its own milestone: its 30th birthday. To mark the start of “The 30th Chapter\,” the restaurant is presenting a month-long celebration with specials and giveaways\, headlined by a life-changing giveaway: “30 Years of Fondue\,” a grand prize valued at $46\,800. Visit our local/community page for details: meltingpotlittleton.com
URL:https://littletondda.org/event/melting-pot-of-littletons-30th-birthday-events-the-30th-chapter/
LOCATION:The Melting Pot\, 2707 Main St\, Littleton\, CO\, 80120\, United States
CATEGORIES:Food & Drink
ATTACH;FMTTYPE=image/png:https://littletondda.org/wp-content/uploads/2026/03/30th-Birthday-3-x-3-in.png
END:VEVENT
BEGIN:VEVENT
DTSTART;TZID=America/Denver:20260419T120000
DTEND;TZID=America/Denver:20260419T150000
DTSTAMP:20260423T132953
CREATED:20260401T014546Z
LAST-MODIFIED:20260401T014615Z
UID:17351-1776600000-1776610800@littletondda.org
SUMMARY:Crawfish Boil @ Denver Beer Co.
DESCRIPTION:Get ready to roll up your sleeves! Denver Beer Co. is bringin’ the bayou to the Front Range! Join us for a proper Louisiana-style Crawfish Boil packed with bold flavor and cold beer. \nWe’re servin’ up 2 lbs of juicy\, flavorful crawfish\, piled high with all the fixins—corn\, potatoes\, and sausage from our friends at Lottie’s Meats. PLUS a pint of your favorite Denver Beer Co. brews to wash it all down. It’s messy\, it’s delicious\, and it’s exactly how a crawfish boil should be. \nDates & Locations: \n• April 12th – DBC Arvada\n• April 19th – DBC Downing\, Littleton & Lowry \nTime Slots: \n12–1 PM\n1–2 PM\n2–3 PM \n$45 gets you the full spread\, so grab your crew and come hungry. Spots are limited and these will go fast – don’t sleep on it. \nLet’s get crackin’.
URL:https://littletondda.org/event/crawfish-boil-denver-beer-co/
LOCATION:Denver Beer Company\, Littleton\, 2409 Main Street\, Littleton\, CO\, 80120
CATEGORIES:Food & Drink
ATTACH;FMTTYPE=image/png:https://littletondda.org/wp-content/uploads/2026/03/Screenshot-2026-03-31-at-7.43.45-PM.png
END:VEVENT
END:VCALENDAR