BEGIN:VCALENDAR
VERSION:2.0
PRODID:-//Downtown Littleton - ECPv6.15.18//NONSGML v1.0//EN
CALSCALE:GREGORIAN
METHOD:PUBLISH
X-ORIGINAL-URL:https://littletondda.org
X-WR-CALDESC:Events for Downtown Littleton
REFRESH-INTERVAL;VALUE=DURATION:PT1H
X-Robots-Tag:noindex
X-PUBLISHED-TTL:PT1H
BEGIN:VTIMEZONE
TZID:America/Denver
BEGIN:DAYLIGHT
TZOFFSETFROM:-0700
TZOFFSETTO:-0600
TZNAME:MDT
DTSTART:20240310T090000
END:DAYLIGHT
BEGIN:STANDARD
TZOFFSETFROM:-0600
TZOFFSETTO:-0700
TZNAME:MST
DTSTART:20241103T080000
END:STANDARD
BEGIN:DAYLIGHT
TZOFFSETFROM:-0700
TZOFFSETTO:-0600
TZNAME:MDT
DTSTART:20250309T090000
END:DAYLIGHT
BEGIN:STANDARD
TZOFFSETFROM:-0600
TZOFFSETTO:-0700
TZNAME:MST
DTSTART:20251102T080000
END:STANDARD
BEGIN:DAYLIGHT
TZOFFSETFROM:-0700
TZOFFSETTO:-0600
TZNAME:MDT
DTSTART:20260308T090000
END:DAYLIGHT
BEGIN:STANDARD
TZOFFSETFROM:-0600
TZOFFSETTO:-0700
TZNAME:MST
DTSTART:20261101T080000
END:STANDARD
BEGIN:DAYLIGHT
TZOFFSETFROM:-0700
TZOFFSETTO:-0600
TZNAME:MDT
DTSTART:20270314T090000
END:DAYLIGHT
BEGIN:STANDARD
TZOFFSETFROM:-0600
TZOFFSETTO:-0700
TZNAME:MST
DTSTART:20271107T080000
END:STANDARD
END:VTIMEZONE
BEGIN:VEVENT
DTSTART;TZID=America/Denver:20251101T140000
DTEND;TZID=America/Denver:20251101T150000
DTSTAMP:20260423T163147
CREATED:20250908T190815Z
LAST-MODIFIED:20250908T190815Z
UID:13986-1762005600-1762009200@littletondda.org
SUMMARY:Bridget's Botanicals: Free Tea Tasting (1st Saturday of the Month)
DESCRIPTION:Come by Bridget’s Botanicals to enjoy a sample of herbal tea that the team blends with organic botanicals sourced from local herb farms across the US.
URL:https://littletondda.org/event/bridgets-botanicals-free-tea-tasting-1st-saturday-of-the-month-2/
LOCATION:Bridget’s Botanicals\, 5733 S Prince St\, Littleton\, CO\, 80120\, United States
CATEGORIES:Food & Drink,Wellness & Exercise
ATTACH;FMTTYPE=image/avif:https://littletondda.org/wp-content/uploads/2025/09/sleep.avif
END:VEVENT
BEGIN:VEVENT
DTSTART;VALUE=DATE:20251031
DTEND;VALUE=DATE:20251101
DTSTAMP:20260423T163147
CREATED:20251008T025053Z
LAST-MODIFIED:20251008T025053Z
UID:14619-1761868800-1761955199@littletondda.org
SUMMARY:Ned Kelly's Halloween Bash
DESCRIPTION:$5 Mystery Shots \nWear a costume get drink specials \nLive DJ \nCostume Contest with Prizes
URL:https://littletondda.org/event/ned-kellys-halloween-bash/
LOCATION:Ned Kelly’s Irish Pub\, 5686 S Sycamore St\, Littleton\, CO\, 80120\, United States
CATEGORIES:Food & Drink,Holidays,Live Music
ATTACH;FMTTYPE=image/png:https://littletondda.org/wp-content/uploads/2025/10/Screenshot-2025-10-07-at-8.49.37-PM.png
END:VEVENT
BEGIN:VEVENT
DTSTART;VALUE=DATE:20251031
DTEND;VALUE=DATE:20251101
DTSTAMP:20260423T163147
CREATED:20250909T232755Z
LAST-MODIFIED:20250909T232755Z
UID:14027-1761868800-1761955199@littletondda.org
SUMMARY:Jake's Beer Garden: A Halloween Reprise
DESCRIPTION:Halloween on a Friday this year?  Let’s celebrate twice.  No theme\, just make it fun!
URL:https://littletondda.org/event/jakes-beer-garden-a-halloween-reprise/
LOCATION:Jake’s Brew Bar\, 2530 Main St\, Littleton\, CO\, 80120\, United States
CATEGORIES:Food & Drink,Holidays
ATTACH;FMTTYPE=image/jpeg:https://littletondda.org/wp-content/uploads/2025/09/545137871_1409935997799481_3812970887254173174_n.jpg
END:VEVENT
BEGIN:VEVENT
DTSTART;TZID=America/Denver:20251030T200000
DTEND;TZID=America/Denver:20251030T230000
DTSTAMP:20260423T163147
CREATED:20251010T170335Z
LAST-MODIFIED:20251010T170335Z
UID:14655-1761854400-1761865200@littletondda.org
SUMMARY:Ghouls Night Out Pumpkin Painting
DESCRIPTION:Gather your coven for a spooky-chic night of cocktails\, pumpkins\, and Halloween Fun!
URL:https://littletondda.org/event/ghouls-night-out-pumpkin-painting/
LOCATION:ViewHouse\, 2680 Main St\, Littleton\, CO\, 80120\, United States
CATEGORIES:Food & Drink,Holidays
ATTACH;FMTTYPE=image/jpeg:https://littletondda.org/wp-content/uploads/2025/10/IMG_2581.jpg
END:VEVENT
BEGIN:VEVENT
DTSTART;TZID=America/Denver:20251029T180000
DTEND;TZID=America/Denver:20251029T200000
DTSTAMP:20260423T163147
CREATED:20251018T144041Z
LAST-MODIFIED:20251018T144547Z
UID:14754-1761760800-1761768000@littletondda.org
SUMMARY:Monster Mash @ Little Man Ice Cream
DESCRIPTION:Booo-gie on down in your favorite costume to Little Man Ice Cream Littleton to celebrate our 1st birthday! The DJ will be spinning up a monster mash of spooky family favorites to show off your All Hallow’s Eve groove! \nEnjoy trick-or-treats\, monster sundaes\, polaroid selfies and prizes for best costumes!
URL:https://littletondda.org/event/monster-mash-little-man-ice-cream/
LOCATION:Little Man Ice Cream\, 2449 Main St\, Littleton\, Littleton\, CO\, 80120
CATEGORIES:Families,Food & Drink,Holidays
ATTACH;FMTTYPE=image/jpeg:https://littletondda.org/wp-content/uploads/2025/10/IMG_2840-2.jpg
END:VEVENT
BEGIN:VEVENT
DTSTART;TZID=America/Denver:20251026T120000
DTEND;TZID=America/Denver:20251026T160000
DTSTAMP:20260423T163147
CREATED:20251018T143506Z
LAST-MODIFIED:20251018T144517Z
UID:14740-1761480000-1761494400@littletondda.org
SUMMARY:Little Man Ice Cream Littleton • Goblin Give-Out
DESCRIPTION:👻🎃 Enjoy this boo-tiful family tradition in Downtown Littleton. Kids in costume are invited to trick or treat at participating merchants for sugar shock-tober! Be sure to stop at Little Man Ice Cream on Main Street for a polaroid selfie and a monster sundae in our other-wordly halloween haunt!
URL:https://littletondda.org/event/little-man-ice-cream-littleton-goblin-give-out/
LOCATION:Little Man Ice Cream\, 2449 Main St\, Littleton\, Littleton\, CO\, 80120
CATEGORIES:Families,Food & Drink,Holidays
ATTACH;FMTTYPE=image/jpeg:https://littletondda.org/wp-content/uploads/2025/10/IMG_2839.jpg
END:VEVENT
BEGIN:VEVENT
DTSTART;VALUE=DATE:20251025
DTEND;VALUE=DATE:20251026
DTSTAMP:20260423T163147
CREATED:20250909T232658Z
LAST-MODIFIED:20250909T232658Z
UID:14025-1761350400-1761436799@littletondda.org
SUMMARY:Jake's Beer Garden: Jake's Halloween Bash
DESCRIPTION:Theme: 80’s toys and games
URL:https://littletondda.org/event/jakes-beer-garden-jakes-halloween-bash/
LOCATION:Jake’s Brew Bar\, 2530 Main St\, Littleton\, CO\, 80120\, United States
CATEGORIES:Food & Drink,Holidays
ATTACH;FMTTYPE=image/jpeg:https://littletondda.org/wp-content/uploads/2025/09/545137871_1409935997799481_3812970887254173174_n.jpg
END:VEVENT
BEGIN:VEVENT
DTSTART;TZID=America/Denver:20251023T180000
DTEND;TZID=America/Denver:20251023T193000
DTSTAMP:20260423T163147
CREATED:20250908T182837Z
LAST-MODIFIED:20250908T182837Z
UID:13964-1761242400-1761247800@littletondda.org
SUMMARY:Bridget's Botanicals: Wicked Botanicals: Plants Potions & Poisons
DESCRIPTION:Fee: $69.00\nDates: Thursday 10/23/2025\nTimes: 6:00 PM – 7:30 PM\n\nStep into the mysterious world of powerful plants—where the line between medicine and poison is razor-thin. In this immersive class\, you’ll explore the fascinating history\, folklore\, and science behind botanical remedies and toxins. Discover how certain herbs have been used to heal—and harm—throughout the ages. You’ll also craft your own take-home “potion or poison” charm\, a unique blend of plant lore and creativity to spark curiosity long after class ends.
URL:https://littletondda.org/event/bridgets-botanicals-wicked-botanicals-plants-potions-poisons/
LOCATION:Bridget’s Botanicals\, 5733 S Prince St\, Littleton\, CO\, 80120\, United States
CATEGORIES:Classes,Food & Drink,Wellness & Exercise
ATTACH;FMTTYPE=image/avif:https://littletondda.org/wp-content/uploads/2025/09/poitions.avif
END:VEVENT
BEGIN:VEVENT
DTSTART;TZID=America/Denver:20251021T180000
DTEND;TZID=America/Denver:20251021T203000
DTSTAMP:20260423T163147
CREATED:20251006T234800Z
LAST-MODIFIED:20251006T234800Z
UID:14598-1761069600-1761078600@littletondda.org
SUMMARY:Giraffee Me Another Glass @ Kate's Wine Bar
DESCRIPTION:Join Rocky Mountain AAZK and Kate’s Wine Bar as we paint and sip the night away in the name of conservation. Tickets include a glass of wine\, guided painting of a giraffe wine bottle and all supplies. Additional food and drink available for purchase. \nA silent auction on-site will include tours\, gift cards and lots of original animal artwork\, including big cat paw prints\, gorilla paintings and seal nose prints to name a few. Keep an eye on our social for sneak peeks leading up to the event.
URL:https://littletondda.org/event/giraffee-me-another-glass-kates-wine-bar/
LOCATION:Kate’s Wine Bar\, 5671 S Nevada St\, Littleton\, CO\, 80120
CATEGORIES:Charity,Classes,Food & Drink,Workshop
ATTACH;FMTTYPE=image/png:https://littletondda.org/wp-content/uploads/2025/10/Screenshot-2025-10-06-at-5.46.24-PM.png
END:VEVENT
BEGIN:VEVENT
DTSTART;TZID=America/Denver:20251018T093000
DTEND;TZID=America/Denver:20251018T110000
DTSTAMP:20260423T163147
CREATED:20250908T182655Z
LAST-MODIFIED:20250908T182915Z
UID:13961-1760779800-1760785200@littletondda.org
SUMMARY:Bridget's Botanicals: Kitchen Witch Medicine
DESCRIPTION:Fee: $69.00\nDates: Saturday 10/18/2025\nTimes: 9:30 AM – 11:00 AM\nCurious about herbalism and the practical uses of plants that can enhance your health and wellbeing? Step into the apothecary to discover a variety of familiar kitchen herbs and their medicinal and magical properties. From ancient times to modern day\, the kitchen has been a magical place to explore the medicine of herbs. You’ll make a classic kitchen witch concoction to add to your cabinet to keep you and your family healthy through the fall and winter seasons that you can make again year after year.
URL:https://littletondda.org/event/bridgets-botanicals-kitchen-witch-medicine/
LOCATION:Bridget’s Botanicals\, 5733 S Prince St\, Littleton\, CO\, 80120\, United States
CATEGORIES:Classes,Food & Drink,Wellness & Exercise
ATTACH;FMTTYPE=image/avif:https://littletondda.org/wp-content/uploads/2025/09/kitchenwitch.avif
END:VEVENT
BEGIN:VEVENT
DTSTART;TZID=America/Denver:20251009T180000
DTEND;TZID=America/Denver:20251009T200000
DTSTAMP:20260423T163147
CREATED:20250930T224308Z
LAST-MODIFIED:20250930T224308Z
UID:14505-1760032800-1760040000@littletondda.org
SUMMARY:Spell Books Cocktail Book Club @ The Lazy Greyhound
DESCRIPTION:1 hour @ $25.00 \n\n\n\n\n\n\nMeet us at The Lazy Greyhound to discuss a book and enjoy a fun cocktail. Your ticket price includes one drink of your choice! \nOctober: How to Solve Your Own Murder by Kristen Perrin\nNovember: Margo’s Got Money Troubles by Rufi Thorpe
URL:https://littletondda.org/event/spell-books-cocktail-book-club-the-lazy-greyhound/
LOCATION:Spell Books\, 2376 W Main Street\, Littleton\, CO\, 80120\, United States
CATEGORIES:Classes,Food & Drink
ATTACH;FMTTYPE=image/png:https://littletondda.org/wp-content/uploads/2025/09/Screenshot-2025-09-30-at-4.41.59-PM.png
END:VEVENT
BEGIN:VEVENT
DTSTART;VALUE=DATE:20251008
DTEND;VALUE=DATE:20251012
DTSTAMP:20260423T163147
CREATED:20250909T232608Z
LAST-MODIFIED:20250909T232608Z
UID:14023-1759881600-1760227199@littletondda.org
SUMMARY:Jake's Beer Garden: GABF Week!!
DESCRIPTION:Event details TBD\, Work in Progress
URL:https://littletondda.org/event/jakes-beer-garden-gabf-week/
LOCATION:Jake’s Brew Bar\, 2530 Main St\, Littleton\, CO\, 80120\, United States
CATEGORIES:Food & Drink
ATTACH;FMTTYPE=image/jpeg:https://littletondda.org/wp-content/uploads/2025/09/545137871_1409935997799481_3812970887254173174_n.jpg
END:VEVENT
BEGIN:VEVENT
DTSTART;TZID=America/Denver:20251004T140000
DTEND;TZID=America/Denver:20251004T150000
DTSTAMP:20260423T163147
CREATED:20250908T190740Z
LAST-MODIFIED:20250908T190740Z
UID:13984-1759586400-1759590000@littletondda.org
SUMMARY:Bridget's Botanicals: Free Tea Tasting (1st Saturday of the Month)
DESCRIPTION:Come by Bridget’s Botanicals to enjoy a sample of herbal tea that the team blends with organic botanicals sourced from local herb farms across the US.
URL:https://littletondda.org/event/bridgets-botanicals-free-tea-tasting-1st-saturday-of-the-month/
LOCATION:Bridget’s Botanicals\, 5733 S Prince St\, Littleton\, CO\, 80120\, United States
CATEGORIES:Food & Drink,Wellness & Exercise
ATTACH;FMTTYPE=image/avif:https://littletondda.org/wp-content/uploads/2025/09/sleep.avif
END:VEVENT
BEGIN:VEVENT
DTSTART;TZID=America/Denver:20250928T090000
DTEND;TZID=America/Denver:20250928T140000
DTSTAMP:20260423T163147
CREATED:20250328T194055Z
LAST-MODIFIED:20250328T194055Z
UID:11306-1759050000-1759068000@littletondda.org
SUMMARY:Downtown Littleton Farmers Market
DESCRIPTION:Support local and get your fill of fruits and veggies at the Downtown Littleton Farmers Market on Nevada St. north of Main St. every Sunday from May 25 – September 28.
URL:https://littletondda.org/event/downtown-littleton-farmers-market-29/
LOCATION:Downtown Littleton\, 2516 Main St\, Littleton\, CO\, 80120\, United States
CATEGORIES:Families,Food & Drink,Shopping
ATTACH;FMTTYPE=image/jpeg:https://littletondda.org/wp-content/uploads/2025/03/FarmersMarket.jpg
END:VEVENT
BEGIN:VEVENT
DTSTART;VALUE=DATE:20250926
DTEND;VALUE=DATE:20250927
DTSTAMP:20260423T163147
CREATED:20250909T232515Z
LAST-MODIFIED:20250909T232515Z
UID:14021-1758844800-1758931199@littletondda.org
SUMMARY:Jake's Beer Garden: Drag me to Bingo!
DESCRIPTION:Drag BINGO night – a fundraiser for Big Price Littleton *Ticket Required*
URL:https://littletondda.org/event/jakes-beer-garden-drag-me-to-bingo/
LOCATION:Jake’s Brew Bar\, 2530 Main St\, Littleton\, CO\, 80120\, United States
CATEGORIES:Charity,Food & Drink,Holidays
ATTACH;FMTTYPE=image/jpeg:https://littletondda.org/wp-content/uploads/2025/09/545137871_1409935997799481_3812970887254173174_n.jpg
END:VEVENT
BEGIN:VEVENT
DTSTART;TZID=America/Denver:20250924T180000
DTEND;TZID=America/Denver:20250924T220000
DTSTAMP:20260423T163147
CREATED:20250507T195753Z
LAST-MODIFIED:20250627T160956Z
UID:12221-1758736800-1758751200@littletondda.org
SUMMARY:Longer Tables Littleton
DESCRIPTION:Join us to set a 5\,000-foot table on Main Street Littleton this September to bring connection and belonging to every human in our city! \nIn an effort to make Littleton a connected and thriving city where every human feels like they belong\, we invite you to join us at the table! \n\n\nJoin Lift Up Littleton member organizations (non-profits\, faith communities\, businesses\, civic\, education and healthcare organizations) along with the City of Littleton and Arapahoe County in bringing over 5\,000 humans of all backgrounds together at the long table to share dinner. 
URL:https://littletondda.org/event/longer-tables-littleton/
LOCATION:Downtown Littleton\, 2516 Main St\, Littleton\, CO\, 80120\, United States
CATEGORIES:Charity,Families,Food & Drink
ATTACH;FMTTYPE=image/png:https://littletondda.org/wp-content/uploads/2025/05/Screenshot-2025-05-07-135650.png
END:VEVENT
BEGIN:VEVENT
DTSTART;TZID=America/Denver:20250921T090000
DTEND;TZID=America/Denver:20250921T140000
DTSTAMP:20260423T163147
CREATED:20250328T194020Z
LAST-MODIFIED:20250328T194020Z
UID:11304-1758445200-1758463200@littletondda.org
SUMMARY:Downtown Littleton Farmers Market
DESCRIPTION:Support local and get your fill of fruits and veggies at the Downtown Littleton Farmers Market on Nevada St. north of Main St. every Sunday from May 25 – September 28.
URL:https://littletondda.org/event/downtown-littleton-farmers-market-28/
LOCATION:Downtown Littleton\, 2516 Main St\, Littleton\, CO\, 80120\, United States
CATEGORIES:Families,Food & Drink,Shopping
ATTACH;FMTTYPE=image/jpeg:https://littletondda.org/wp-content/uploads/2025/03/FarmersMarket.jpg
END:VEVENT
BEGIN:VEVENT
DTSTART;TZID=America/Denver:20250920T093000
DTEND;TZID=America/Denver:20250920T110000
DTSTAMP:20260423T163147
CREATED:20250908T182523Z
LAST-MODIFIED:20250908T182955Z
UID:13958-1758360600-1758366000@littletondda.org
SUMMARY:Bridget's Botanicals: Discover Herbalism
DESCRIPTION:Fee: $69.00\nDate: Saturday 9/20/2025\nTimes: 9:30 AM – 11:00 AM\nExplore natural health through herbs! Learn about the top 5 herbs for vibrant health. This presentation will include how to use and integrate these herbs into your life\, easy herbal recipes\, and how to get started making your own herbal medicine at home.
URL:https://littletondda.org/event/bridgets-botanicals-discover-herbalism/
LOCATION:Bridget’s Botanicals\, 5733 S Prince St\, Littleton\, CO\, 80120\, United States
CATEGORIES:Classes,Food & Drink,Wellness & Exercise
ATTACH;FMTTYPE=image/avif:https://littletondda.org/wp-content/uploads/2025/09/herbalism.avif
END:VEVENT
BEGIN:VEVENT
DTSTART;VALUE=DATE:20250920
DTEND;VALUE=DATE:20250921
DTSTAMP:20260423T163147
CREATED:20250909T232314Z
LAST-MODIFIED:20250909T232314Z
UID:14017-1758326400-1758412799@littletondda.org
SUMMARY:Jake's Beer Garden: Oktoberfest
DESCRIPTION:Featuring assortment of German beers and the tapping of the ceremonial Weiehenstephaner Festbier.
URL:https://littletondda.org/event/jakes-beer-garden-oktoberfest/
LOCATION:Jake’s Brew Bar\, 2530 Main St\, Littleton\, CO\, 80120\, United States
CATEGORIES:Food & Drink,Holidays
ATTACH;FMTTYPE=image/jpeg:https://littletondda.org/wp-content/uploads/2025/09/545137871_1409935997799481_3812970887254173174_n.jpg
END:VEVENT
BEGIN:VEVENT
DTSTART;TZID=America/Denver:20250914T090000
DTEND;TZID=America/Denver:20250914T140000
DTSTAMP:20260423T163147
CREATED:20250328T193956Z
LAST-MODIFIED:20250328T193956Z
UID:11302-1757840400-1757858400@littletondda.org
SUMMARY:Downtown Littleton Farmers Market
DESCRIPTION:Support local and get your fill of fruits and veggies at the Downtown Littleton Farmers Market on Nevada St. north of Main St. every Sunday from May 25 – September 28.
URL:https://littletondda.org/event/downtown-littleton-farmers-market-27/
LOCATION:Downtown Littleton\, 2516 Main St\, Littleton\, CO\, 80120\, United States
CATEGORIES:Families,Food & Drink,Shopping
ATTACH;FMTTYPE=image/jpeg:https://littletondda.org/wp-content/uploads/2025/03/FarmersMarket.jpg
END:VEVENT
BEGIN:VEVENT
DTSTART;TZID=America/Denver:20250913T150000
DTEND;TZID=America/Denver:20250913T163000
DTSTAMP:20260423T163147
CREATED:20250908T174140Z
LAST-MODIFIED:20250908T174140Z
UID:13799-1757775600-1757781000@littletondda.org
SUMMARY:Italian Wine & Cheese Tasting Event
DESCRIPTION:Join us at Kate’s Wine Bar on Saturday\, September 13th at 3 pm\, as our local educator\, Shane Alexander\, guides you through some of the finest and exclusive wines we received from Italy. \n$45 per person \nTickets are required to attend the event. \nTo ensure your party sits together please purchase all tickets at one time \nPlease arrive at 3 pm \nMust be 21 or older to attend this event \nNo refunds when canceling within 72 hours of the event
URL:https://littletondda.org/event/italian-wine-cheese-tasting-event/
LOCATION:Kate’s Wine Bar\, 5671 S Nevada St\, Littleton\, CO\, 80120
CATEGORIES:Food & Drink
ATTACH;FMTTYPE=image/png:https://littletondda.org/wp-content/uploads/2025/09/Italian-Wine-Event-2025-1.png
END:VEVENT
BEGIN:VEVENT
DTSTART;TZID=America/Denver:20250913T110000
DTEND;TZID=America/Denver:20250913T140000
DTSTAMP:20260423T163147
CREATED:20250909T231533Z
LAST-MODIFIED:20250909T231842Z
UID:14012-1757761200-1757772000@littletondda.org
SUMMARY:Ballet Physique's 15th Birthday and Outdoor Class
DESCRIPTION:The Ballet Physique will be closed this Saturday 9/13\, and all in-studio classes will be CANCELLED\, as we celebrate turning 15! 🎉 \nInstead\, you can join us this weekend for an outdoor class and happy hour 🥂 to follow at Viewhouse Littleton. \nDetails 👀: \nDate: Saturday\, September 13th\nTime: Class at 11:00am\, followed by Happy Hour from 12:00-2:00pm\nLocation: Viewhouse Littleton (just down the street from the studio!)\nCost: $35.00 for class and happy hour\, $15.00 for happy hour only\nDescription: Join Ellen and the incredible BP staff for a 60 minute outdoor mat class and happy hour to follow with light bites\, beverages\, and yard games to celebrate our incredible community ❤️! Clients need to bring a mat\, water bottle\, and sweat towel; all other equipment will be provided. \nAll are welcome\, but class size is limited so sign up today! Please email us at clientcare@theballetphysique.com with any questions.
URL:https://littletondda.org/event/ballet-physique/
LOCATION:ViewHouse\, 2680 Main St\, Littleton\, CO\, 80120\, United States
CATEGORIES:Classes,Food & Drink,Wellness & Exercise
ATTACH;FMTTYPE=image/png:https://littletondda.org/wp-content/uploads/2025/09/Screenshot-2025-09-09-171809.png
END:VEVENT
BEGIN:VEVENT
DTSTART;TZID=America/Denver:20250909T190000
DTEND;TZID=America/Denver:20250909T210000
DTSTAMP:20260423T163147
CREATED:20250825T164312Z
LAST-MODIFIED:20250825T164312Z
UID:13639-1757444400-1757451600@littletondda.org
SUMMARY:Music Trivia & Pizza Night
DESCRIPTION:A fun social gathering combining music knowledge challenges with delicious pizza.
URL:https://littletondda.org/event/music-trivia-pizza-night/
LOCATION:Records on Main\, 2430 Main St\, Littleton\, CO\, 80120\, United States
CATEGORIES:Food & Drink
ATTACH;FMTTYPE=image/png:https://littletondda.org/wp-content/uploads/2025/08/unnamed-6.png
END:VEVENT
BEGIN:VEVENT
DTSTART;TZID=America/Denver:20250907T090000
DTEND;TZID=America/Denver:20250907T140000
DTSTAMP:20260423T163147
CREATED:20250328T193937Z
LAST-MODIFIED:20250328T193937Z
UID:11300-1757235600-1757253600@littletondda.org
SUMMARY:Downtown Littleton Farmers Market
DESCRIPTION:Support local and get your fill of fruits and veggies at the Downtown Littleton Farmers Market on Nevada St. north of Main St. every Sunday from May 25 – September 28.
URL:https://littletondda.org/event/downtown-littleton-farmers-market-26/
LOCATION:Downtown Littleton\, 2516 Main St\, Littleton\, CO\, 80120\, United States
CATEGORIES:Families,Food & Drink,Shopping
ATTACH;FMTTYPE=image/jpeg:https://littletondda.org/wp-content/uploads/2025/03/FarmersMarket.jpg
END:VEVENT
BEGIN:VEVENT
DTSTART;VALUE=DATE:20250905
DTEND;VALUE=DATE:20250915
DTSTAMP:20260423T163147
CREATED:20250708T165103Z
LAST-MODIFIED:20250708T165103Z
UID:12878-1757030400-1757894399@littletondda.org
SUMMARY:Littleton Restaurant Week 2025
DESCRIPTION:Littleton Restaurant Week takes place from September 5–14\, 2025\, celebrating a ten-day culinary showcase. Participating restaurants\, bars\, cafes\, and tea or coffee shops across Littleton will feature special menus\, discounts\, and unique food-and-beverage experiences. Be sure to check the Littleton Business Chamber’s website for the full list of participants.
URL:https://littletondda.org/event/littleton-restaurant-week-2025/
LOCATION:Downtown Littleton\, 2516 Main St\, Littleton\, CO\, 80120\, United States
CATEGORIES:Food & Drink
ATTACH;FMTTYPE=image/jpeg:https://littletondda.org/wp-content/uploads/2025/07/unnamed-4.jpg
ORGANIZER;CN="Littleton Business Chamber":MAILTO:Member_Inquiries@littletonbusinesschamber.org
END:VEVENT
BEGIN:VEVENT
DTSTART;VALUE=DATE:20250904
DTEND;VALUE=DATE:20260109
DTSTAMP:20260423T163147
CREATED:20250908T182344Z
LAST-MODIFIED:20250908T182344Z
UID:13954-1756944000-1767916799@littletondda.org
SUMMARY:Bridget's Botanicals Botanical Beverages Tea Circle (first Thursday of every month)
DESCRIPTION:Fee: $179.00\nDates: 9/4/2025 – 1/8/2026\nTimes: 4:00 PM – 5:00 PM\nDays: Th\nSessions: 5\nJoin us for a relaxed and enriching monthly gathering where we explore a single herb in depth—one plant\, one cup at a time along with the season. Each session of this ongoing series focuses on an herb of the month\, offering a chance to connect more intimately with the world of herbal medicine. \nTogether\, we will sip a freshly brewed tea made from the featured herb\, learn about its traditional uses\, energetics\, safety\, and modern applications\, explore folklore\, recipes and personal reflections. Whether you’re just beginning your herbal journey or deepening an existing practice\, this course offers a simple\, grounding way to grow your herbal knowledge—one plant at a time.
URL:https://littletondda.org/event/bridgets-botanicals-botanical-beverages-tea-circle-first-thursday-of-every-month/
LOCATION:Bridget’s Botanicals\, 5733 S Prince St\, Littleton\, CO\, 80120\, United States
CATEGORIES:Classes,Food & Drink,Wellness & Exercise
ATTACH;FMTTYPE=image/avif:https://littletondda.org/wp-content/uploads/2025/09/TEA-CIRCLE.avif
END:VEVENT
BEGIN:VEVENT
DTSTART;TZID=America/Denver:20250831T090000
DTEND;TZID=America/Denver:20250831T140000
DTSTAMP:20260423T163147
CREATED:20250328T193918Z
LAST-MODIFIED:20250328T193918Z
UID:11298-1756630800-1756648800@littletondda.org
SUMMARY:Downtown Littleton Farmers Market
DESCRIPTION:Support local and get your fill of fruits and veggies at the Downtown Littleton Farmers Market on Nevada St. north of Main St. every Sunday from May 25 – September 28.
URL:https://littletondda.org/event/downtown-littleton-farmers-market-25/
LOCATION:Downtown Littleton\, 2516 Main St\, Littleton\, CO\, 80120\, United States
CATEGORIES:Families,Food & Drink,Shopping
ATTACH;FMTTYPE=image/jpeg:https://littletondda.org/wp-content/uploads/2025/03/FarmersMarket.jpg
END:VEVENT
BEGIN:VEVENT
DTSTART;TZID=America/Denver:20250824T090000
DTEND;TZID=America/Denver:20250824T140000
DTSTAMP:20260423T163147
CREATED:20250328T193857Z
LAST-MODIFIED:20250328T193857Z
UID:11296-1756026000-1756044000@littletondda.org
SUMMARY:Downtown Littleton Farmers Market
DESCRIPTION:Support local and get your fill of fruits and veggies at the Downtown Littleton Farmers Market on Nevada St. north of Main St. every Sunday from May 25 – September 28.
URL:https://littletondda.org/event/downtown-littleton-farmers-market-24/
LOCATION:Downtown Littleton\, 2516 Main St\, Littleton\, CO\, 80120\, United States
CATEGORIES:Families,Food & Drink,Shopping
ATTACH;FMTTYPE=image/jpeg:https://littletondda.org/wp-content/uploads/2025/03/FarmersMarket.jpg
END:VEVENT
BEGIN:VEVENT
DTSTART;TZID=America/Denver:20250817T090000
DTEND;TZID=America/Denver:20250817T140000
DTSTAMP:20260423T163147
CREATED:20250328T193836Z
LAST-MODIFIED:20250328T193836Z
UID:11294-1755421200-1755439200@littletondda.org
SUMMARY:Downtown Littleton Farmers Market
DESCRIPTION:Support local and get your fill of fruits and veggies at the Downtown Littleton Farmers Market on Nevada St. north of Main St. every Sunday from May 25 – September 28.
URL:https://littletondda.org/event/downtown-littleton-farmers-market-23/
LOCATION:Downtown Littleton\, 2516 Main St\, Littleton\, CO\, 80120\, United States
CATEGORIES:Families,Food & Drink,Shopping
ATTACH;FMTTYPE=image/jpeg:https://littletondda.org/wp-content/uploads/2025/03/FarmersMarket.jpg
END:VEVENT
BEGIN:VEVENT
DTSTART;TZID=America/Denver:20250816T100000
DTEND;TZID=America/Denver:20250816T233000
DTSTAMP:20260423T163147
CREATED:20250415T190539Z
LAST-MODIFIED:20250415T190539Z
UID:11611-1755338400-1755387000@littletondda.org
SUMMARY:96th Western Welcome Week Grand Parade
DESCRIPTION:96th Grand Parade – The Spirit of Generosity\nSaturday\, August 16\, 2025\nStart time 10am – parade typically lasts about 90 minutes\nParade Application available\nPublic Parking \nFree parking is available at Arapahoe Community College\, 5900 S. Santa Fe Drive for parade attendees. \nParade Route The Grand Parade begins at Littleton Boulevard and Gallup Street\, heads west on the north side of Littleton Boulevard\, continues through downtown Littleton on Main Street\, turns south at the end of Main Street onto Rapp Street\, and ends at Arapahoe Community College at Rapp and Church Streets. \nWWW Grand Parade Weather Policy\nIt could be a warm day; be sure to bring water or other hydrating fluids\, sunscreen\, and protective eye wear for everyone in your unit. Be advised that Western Welcome Week has specific dates for events which are not canceled due to inclement weather\, and no refunds are made because of weather. However\, if weather creates a safety issue\, Western Welcome Week reserves the right to postpone or end the event. \n  \n 
URL:https://littletondda.org/event/96th-western-welcome-week-grand-parade/
LOCATION:Downtown Littleton\, 2516 Main St\, Littleton\, CO\, 80120\, United States
CATEGORIES:Downtown Littleton Signature Event,Families,Food & Drink,Live Music,Visual & Performing Arts
ATTACH;FMTTYPE=image/jpeg:https://littletondda.org/wp-content/uploads/2024/07/WWW-Parade-Banner-520x261-1.jpg
END:VEVENT
END:VCALENDAR