BEGIN:VCALENDAR
VERSION:2.0
PRODID:-//Downtown Littleton - ECPv6.15.18//NONSGML v1.0//EN
CALSCALE:GREGORIAN
METHOD:PUBLISH
X-ORIGINAL-URL:https://littletondda.org
X-WR-CALDESC:Events for Downtown Littleton
REFRESH-INTERVAL;VALUE=DURATION:PT1H
X-Robots-Tag:noindex
X-PUBLISHED-TTL:PT1H
BEGIN:VTIMEZONE
TZID:America/Denver
BEGIN:DAYLIGHT
TZOFFSETFROM:-0700
TZOFFSETTO:-0600
TZNAME:MDT
DTSTART:20240310T090000
END:DAYLIGHT
BEGIN:STANDARD
TZOFFSETFROM:-0600
TZOFFSETTO:-0700
TZNAME:MST
DTSTART:20241103T080000
END:STANDARD
BEGIN:DAYLIGHT
TZOFFSETFROM:-0700
TZOFFSETTO:-0600
TZNAME:MDT
DTSTART:20250309T090000
END:DAYLIGHT
BEGIN:STANDARD
TZOFFSETFROM:-0600
TZOFFSETTO:-0700
TZNAME:MST
DTSTART:20251102T080000
END:STANDARD
BEGIN:DAYLIGHT
TZOFFSETFROM:-0700
TZOFFSETTO:-0600
TZNAME:MDT
DTSTART:20260308T090000
END:DAYLIGHT
BEGIN:STANDARD
TZOFFSETFROM:-0600
TZOFFSETTO:-0700
TZNAME:MST
DTSTART:20261101T080000
END:STANDARD
END:VTIMEZONE
BEGIN:VEVENT
DTSTART;VALUE=DATE:20251121
DTEND;VALUE=DATE:20251122
DTSTAMP:20260423T202436
CREATED:20251031T131503Z
LAST-MODIFIED:20251031T131503Z
UID:14950-1763683200-1763769599@littletondda.org
SUMMARY:Live Music & Food Drive @ Records on Main
DESCRIPTION:
URL:https://littletondda.org/event/live-music-food-drive-records-on-main/
CATEGORIES:Charity,Families,Live Music,Shopping
ATTACH;FMTTYPE=image/png:https://littletondda.org/wp-content/uploads/2025/10/Screenshot-2025-10-31-at-7.11.51-AM.png
END:VEVENT
BEGIN:VEVENT
DTSTART;TZID=America/Denver:20251129T110000
DTEND;TZID=America/Denver:20251129T140000
DTSTAMP:20260423T202436
CREATED:20250825T163935Z
LAST-MODIFIED:20251203T174207Z
UID:13637-1764414000-1764424800@littletondda.org
SUMMARY:The Original Dickens Carolers and Roaming Santa perform along Main Street in Downtown
DESCRIPTION:Denver’s premier Victorian caroling company\, The Original Dickens Carolers\, will perform along Main Street each Saturday and Sunday from 11am – 2pm\, November 29th through December 21st. This will be a great addition as downtown transforms into a winter wonderland. \nSanta will be strolling down Main Street and passing out little toys for all the children.  Stop and say hello and grab a photo! \nMany stores extend their hours in December for more convenient shopping\, come down to find one-of-a-kind gifts for everyone on your list!
URL:https://littletondda.org/event/roaming-carolers-on-main-street-5/
LOCATION:Downtown Littleton\, 2516 Main St\, Littleton\, CO\, 80120\, United States
CATEGORIES:Downtown Littleton Signature Event,Families,Holidays,Live Music
ATTACH;FMTTYPE=image/jpeg:https://littletondda.org/wp-content/uploads/2025/08/LittletonXmas-39-1-1-scaled.jpg
END:VEVENT
BEGIN:VEVENT
DTSTART;TZID=America/Denver:20251130T110000
DTEND;TZID=America/Denver:20251130T140000
DTSTAMP:20260423T202436
CREATED:20250827T200155Z
LAST-MODIFIED:20251029T200454Z
UID:13680-1764500400-1764511200@littletondda.org
SUMMARY:The Original Dickens Carolers and Roaming Santa perform along Main Street in Downtown
DESCRIPTION:Denver’s premier Victorian caroling company\, The Original Dickens Carolers\, will perform along Main Street each Saturday from November 29th through December 21st. This will be a great addition as downtown transforms into a winter wonderland. \nSanta will be strolling down Main Street and passing out little toys for all the children.  Stop and say hello and grab a photo! \nMany stores extend their hours in December for more convenient shopping\, come down to find one-of-a-kind gifts for everyone on your list!
URL:https://littletondda.org/event/roaming-carolers-on-main-street-6/
LOCATION:Downtown Littleton\, 2516 Main St\, Littleton\, CO\, 80120\, United States
CATEGORIES:Downtown Littleton Signature Event,Families,Holidays,Live Music
ATTACH;FMTTYPE=image/jpeg:https://littletondda.org/wp-content/uploads/2025/08/LittletonXmas-39-1-1-scaled.jpg
END:VEVENT
END:VCALENDAR