BEGIN:VCALENDAR
VERSION:2.0
PRODID:-//Downtown Littleton - ECPv6.15.18//NONSGML v1.0//EN
CALSCALE:GREGORIAN
METHOD:PUBLISH
X-WR-CALNAME:Downtown Littleton
X-ORIGINAL-URL:https://littletondda.org
X-WR-CALDESC:Events for Downtown Littleton
REFRESH-INTERVAL;VALUE=DURATION:PT1H
X-Robots-Tag:noindex
X-PUBLISHED-TTL:PT1H
BEGIN:VTIMEZONE
TZID:America/Denver
BEGIN:DAYLIGHT
TZOFFSETFROM:-0700
TZOFFSETTO:-0600
TZNAME:MDT
DTSTART:20230312T090000
END:DAYLIGHT
BEGIN:STANDARD
TZOFFSETFROM:-0600
TZOFFSETTO:-0700
TZNAME:MST
DTSTART:20231105T080000
END:STANDARD
BEGIN:DAYLIGHT
TZOFFSETFROM:-0700
TZOFFSETTO:-0600
TZNAME:MDT
DTSTART:20240310T090000
END:DAYLIGHT
BEGIN:STANDARD
TZOFFSETFROM:-0600
TZOFFSETTO:-0700
TZNAME:MST
DTSTART:20241103T080000
END:STANDARD
BEGIN:DAYLIGHT
TZOFFSETFROM:-0700
TZOFFSETTO:-0600
TZNAME:MDT
DTSTART:20250309T090000
END:DAYLIGHT
BEGIN:STANDARD
TZOFFSETFROM:-0600
TZOFFSETTO:-0700
TZNAME:MST
DTSTART:20251102T080000
END:STANDARD
END:VTIMEZONE
BEGIN:VEVENT
DTSTART;TZID=America/Denver:20240615T173000
DTEND;TZID=America/Denver:20240615T213000
DTSTAMP:20260424T211008
CREATED:20240529T144322Z
LAST-MODIFIED:20240529T144322Z
UID:8736-1718472600-1718487000@littletondda.org
SUMMARY:Odin's Summer Solstice at Reinke Brothers
DESCRIPTION:Rock concert and masquerade party on Saturday\, June 15th\, 2024 (5:30pm – 9:30pm). Music by Odin’s Other Eye and Barbie’s Mistake\, starting at 6pm. Free to the public – come in costume and receive a free CD. Location: Reinke Brothers\, 5663 S Prince Street\, Littleton.
URL:https://littletondda.org/event/odins-summer-solstice-at-reinke-brothers/
LOCATION:Reinke Bros Inc.\, 5663 South Prince Street\, Littleton\, CO\, 80120\, United States
CATEGORIES:Live Music
ATTACH;FMTTYPE=image/jpeg:https://littletondda.org/wp-content/uploads/2024/05/OdinsSummerSolstice2.jpg
END:VEVENT
END:VCALENDAR