BEGIN:VCALENDAR
VERSION:2.0
PRODID:-//Downtown Littleton - ECPv6.15.18//NONSGML v1.0//EN
CALSCALE:GREGORIAN
METHOD:PUBLISH
X-WR-CALNAME:Downtown Littleton
X-ORIGINAL-URL:https://littletondda.org
X-WR-CALDESC:Events for Downtown Littleton
REFRESH-INTERVAL;VALUE=DURATION:PT1H
X-Robots-Tag:noindex
X-PUBLISHED-TTL:PT1H
BEGIN:VTIMEZONE
TZID:America/Denver
BEGIN:DAYLIGHT
TZOFFSETFROM:-0700
TZOFFSETTO:-0600
TZNAME:MDT
DTSTART:20230312T090000
END:DAYLIGHT
BEGIN:STANDARD
TZOFFSETFROM:-0600
TZOFFSETTO:-0700
TZNAME:MST
DTSTART:20231105T080000
END:STANDARD
BEGIN:DAYLIGHT
TZOFFSETFROM:-0700
TZOFFSETTO:-0600
TZNAME:MDT
DTSTART:20240310T090000
END:DAYLIGHT
BEGIN:STANDARD
TZOFFSETFROM:-0600
TZOFFSETTO:-0700
TZNAME:MST
DTSTART:20241103T080000
END:STANDARD
BEGIN:DAYLIGHT
TZOFFSETFROM:-0700
TZOFFSETTO:-0600
TZNAME:MDT
DTSTART:20250309T090000
END:DAYLIGHT
BEGIN:STANDARD
TZOFFSETFROM:-0600
TZOFFSETTO:-0700
TZNAME:MST
DTSTART:20251102T080000
END:STANDARD
END:VTIMEZONE
BEGIN:VEVENT
DTSTART;VALUE=DATE:20240914
DTEND;VALUE=DATE:20240915
DTSTAMP:20260424T150916
CREATED:20240611T031152Z
LAST-MODIFIED:20240611T031152Z
UID:8742-1726272000-1726358399@littletondda.org
SUMMARY:Second Saturday Sidewalk Sale
DESCRIPTION:Join Downtown Littleton merchants host house specials on the Second Saturdays of each month from June-October!  Each participating merchant will have their own specials on the Second Saturday of each month!  Follow your favorite shops for special details.
URL:https://littletondda.org/event/second-saturday-sidewalk-sale-3/
LOCATION:Downtown Littleton\, 2516 Main St\, Littleton\, CO\, 80120\, United States
CATEGORIES:Shopping
ATTACH;FMTTYPE=image/png:https://littletondda.org/wp-content/uploads/2024/06/IMG_4846.png
END:VEVENT
BEGIN:VEVENT
DTSTART;TZID=America/Denver:20240915T090000
DTEND;TZID=America/Denver:20240915T130000
DTSTAMP:20260424T150916
CREATED:20240723T172536Z
LAST-MODIFIED:20240723T172536Z
UID:8772-1726390800-1726405200@littletondda.org
SUMMARY:Downtown Littleton Farmers Market
DESCRIPTION:Support local and get your fill of fruits and veggies at the Downtown Littleton Farmers Market on Nevada St. north of Main St. every first and third Sunday from May – October.
URL:https://littletondda.org/event/downtown-littleton-farmers-market-9/
LOCATION:Downtown Littleton\, 2516 Main St\, Littleton\, CO\, 80120\, United States
CATEGORIES:Families,Food & Drink,Shopping
ATTACH;FMTTYPE=image/png:https://littletondda.org/wp-content/uploads/2024/03/98D85290-FAC3-4BD0-899E-8BC0C22B0E29.png
END:VEVENT
BEGIN:VEVENT
DTSTART;TZID=America/Denver:20240927T100000
DTEND;TZID=America/Denver:20240927T200000
DTSTAMP:20260424T150916
CREATED:20240715T211617Z
LAST-MODIFIED:20240715T211617Z
UID:8760-1727431200-1727467200@littletondda.org
SUMMARY:Final Fridays in Downtown Littleton
DESCRIPTION:Who: Downtown Littleton Merchants\n\nWhat: An event that adds vitality and engages the Littleton community through extended shopping hours and an enhanced downtown experience.\n\nWhen: Occurs on the last Friday of every month throughout 2024.\n3/29\, 4/26\, 5/31\, 6/28\, 7/26\, 8/30\, 9/27\, 10/25\, 11/29\, 12/27\n\nWhere: Downtown Littleton\n\nFollow us on Instagram for more details: @Final_Fridays_Littleton
URL:https://littletondda.org/event/final-fridays-in-downtown-littleton-8/
LOCATION:Downtown Littleton\, 2516 Main St\, Littleton\, CO\, 80120\, United States
CATEGORIES:Downtown Littleton Signature Event,Shopping
ATTACH;FMTTYPE=application/pdf:https://littletondda.org/wp-content/uploads/2024/02/FINAL-FRIDAYS-PDF.pdf
END:VEVENT
END:VCALENDAR