BEGIN:VCALENDAR
VERSION:2.0
PRODID:-//Downtown Littleton - ECPv6.15.18//NONSGML v1.0//EN
CALSCALE:GREGORIAN
METHOD:PUBLISH
X-WR-CALNAME:Downtown Littleton
X-ORIGINAL-URL:https://littletondda.org
X-WR-CALDESC:Events for Downtown Littleton
REFRESH-INTERVAL;VALUE=DURATION:PT1H
X-Robots-Tag:noindex
X-PUBLISHED-TTL:PT1H
BEGIN:VTIMEZONE
TZID:America/Denver
BEGIN:DAYLIGHT
TZOFFSETFROM:-0700
TZOFFSETTO:-0600
TZNAME:MDT
DTSTART:20230312T090000
END:DAYLIGHT
BEGIN:STANDARD
TZOFFSETFROM:-0600
TZOFFSETTO:-0700
TZNAME:MST
DTSTART:20231105T080000
END:STANDARD
BEGIN:DAYLIGHT
TZOFFSETFROM:-0700
TZOFFSETTO:-0600
TZNAME:MDT
DTSTART:20240310T090000
END:DAYLIGHT
BEGIN:STANDARD
TZOFFSETFROM:-0600
TZOFFSETTO:-0700
TZNAME:MST
DTSTART:20241103T080000
END:STANDARD
BEGIN:DAYLIGHT
TZOFFSETFROM:-0700
TZOFFSETTO:-0600
TZNAME:MDT
DTSTART:20250309T090000
END:DAYLIGHT
BEGIN:STANDARD
TZOFFSETFROM:-0600
TZOFFSETTO:-0700
TZNAME:MST
DTSTART:20251102T080000
END:STANDARD
END:VTIMEZONE
BEGIN:VEVENT
DTSTART;VALUE=DATE:20241113
DTEND;VALUE=DATE:20241231
DTSTAMP:20260424T110237
CREATED:20241119T182959Z
LAST-MODIFIED:20241119T182959Z
UID:9716-1731456000-1735603199@littletondda.org
SUMMARY:Affordable Art: A Littleton Community Art Show
DESCRIPTION:Looking for a special gift this holiday season? How about a piece of original artwork created by a Colorado Artist! Stop by the Stanton Art Gallery\, located inside Town Hall Arts Center\, to check out the incredible and unique work your neighbors are making! Admission is free every day\, and pieces available for purchase are all priced at $200 or less!\nSee you at the theater!
URL:https://littletondda.org/event/affordable-art-a-littleton-community-art-show/
LOCATION:Town Hall Arts Center\, 2450 Main St\, Littleton\, 80120\, United States
CATEGORIES:Shopping,Visual & Performing Arts
ATTACH;FMTTYPE=image/png:https://littletondda.org/wp-content/uploads/2024/11/Screenshot-2024-11-19-112808.png
END:VEVENT
BEGIN:VEVENT
DTSTART;VALUE=DATE:20241129
DTEND;VALUE=DATE:20241222
DTSTAMP:20260424T110237
CREATED:20241122T184605Z
LAST-MODIFIED:20241122T184605Z
UID:9770-1732838400-1734825599@littletondda.org
SUMMARY:Black+Haus Tavern's Toy Drive
DESCRIPTION:Share the joy\, bring happiness.  Donate new\, unwrapped toys and help make the holiday special for children in need.  Each toy donation earns you one raffle entry for a chance to win a Black+Haus Tavern gift card.
URL:https://littletondda.org/event/blackhaus-taverns-toy-drive/
LOCATION:Black+Haus Tavern Littleton\, 2439 Main Street\, Littleton\, CO\, 80120\, United States
CATEGORIES:Charity,Families,Shopping
ATTACH;FMTTYPE=image/jpeg:https://littletondda.org/wp-content/uploads/2024/11/Toy-Drive-2024.jpg
END:VEVENT
BEGIN:VEVENT
DTSTART;TZID=America/Denver:20241206T180000
DTEND;TZID=America/Denver:20241206T200000
DTSTAMP:20260424T110237
CREATED:20241104T180221Z
LAST-MODIFIED:20241104T184939Z
UID:9302-1733508000-1733515200@littletondda.org
SUMMARY:Night Owl Shopping at Spell Books
DESCRIPTION:Get your holiday shopping done after hours.  Plus drinks and a one-card tarot pulls.
URL:https://littletondda.org/event/night-owl-shopping-at-spell-books/
LOCATION:Spell Books\, 2376 W Main Street\, Littleton\, CO\, 80120\, United States
CATEGORIES:Holidays,Shopping
ATTACH;FMTTYPE=image/png:https://littletondda.org/wp-content/uploads/2024/11/Night-Owl.png
END:VEVENT
BEGIN:VEVENT
DTSTART;TZID=America/Denver:20241207T100000
DTEND;TZID=America/Denver:20241207T170000
DTSTAMP:20260424T110237
CREATED:20241118T161600Z
LAST-MODIFIED:20241118T161600Z
UID:9667-1733565600-1733590800@littletondda.org
SUMMARY:✨ Holiday Haven Pop-Up Shop: Gifts & Decor ✨
DESCRIPTION:Step into a winter wonderland at Creative Spaces Co. on Saturday\, December 7th\, from 10 AM to 5 PM! \nFrom beautifully crafted home and office décor to thoughtful gift items\, we’ve curated a selection that will make your holiday shopping both effortless and inspiring. Stop by our design studio to shop gifts\, elevate your holiday décor\, and enjoy a warm\, inviting shopping experience with light refreshments. \nOur store will be dressed in festive décor and fully stocked with gifts for everyone who loves art\, lighting\, home décor\, or has recently moved into a new home or enjoys entertaining company. Whether you’re shopping for loved ones or ensuring your own home or business is holiday-ready\, you’ll find unique treasures to suit every style. \n✨ Don’t Forget Our Exclusive Raffle!\nEach time you attend one of our six pop-ups this season\, you can enter to win amazing prizes\, including a grand prize of a special event hosted in our stunning event space (valued at $3\,000)! Plus\, two beautifully designed décor centerpieces will be given away. You don’t need to be present to win\, so stop by and increase your chances! Winner will be announced at our final event on 12/21/24. \nLet’s come together to celebrate the season and create lasting connections. ✨ \nIf you can’t attend this event\, join us at one of our upcoming pop-ups. The more you visit\, the more opportunities you have to win! \n✨Holiday Haven Pop-Up: Gifts & Decor Saturday\, December 14 – 10 am-5 pm \n✨Winter’s Glow: Solstice Pop-Up & Raffle Finale Saturday\, December 21 – 10 am- 3 pm
URL:https://littletondda.org/event/%e2%9c%a8-holiday-haven-pop-up-shop-gifts-decor-%e2%9c%a8/
LOCATION:Creative Spaces\, 2595 W Alamo Ave\, Littleton\, CO\, 80120\, United States
CATEGORIES:Holidays,Shopping
ATTACH;FMTTYPE=image/jpeg:https://littletondda.org/wp-content/uploads/2024/11/https___cdn.evbuc_.com_images_900154733_953038876853_1_original.jpg
END:VEVENT
BEGIN:VEVENT
DTSTART;TZID=America/Denver:20241207T160000
DTEND;TZID=America/Denver:20241207T180000
DTSTAMP:20260424T110237
CREATED:20241201T195721Z
LAST-MODIFIED:20241201T195721Z
UID:9883-1733587200-1733594400@littletondda.org
SUMMARY:BIG Spicy Gingerbread Workshop
DESCRIPTION:Come craft your own BIG Spicy Gingerbread for your porch or to set near the tree. How big is big? These gingerbread friends stand at a whopping 2 feet tall! The base will be painted brown and open for you to design your own version of a Gingerbread person. \nOnly 6 slots per class are available due to the size of the Gingerbread – so don’t miss your chance to grab one! \nAll pieces and parts will be provided. \nWorkshop hosted by Kris w/ Eye Design Art Studio \nEach Participant must be 16 or older. \nRELAX & SHOP WITH 15% OFF \nAll workshop participants will receive 15% off their purchases on the day of the event.
URL:https://littletondda.org/event/big-spicy-gingerbread-workshop/
LOCATION:Lollygag Antiques & Boutique\, 2677 W Alamo Ave\, LIttleton\, CO\, 80120\, United States
CATEGORIES:Classes,Shopping
ATTACH;FMTTYPE=image/webp:https://littletondda.org/wp-content/uploads/2024/12/IMG_1198.webp
END:VEVENT
BEGIN:VEVENT
DTSTART;TZID=America/Denver:20241208T160000
DTEND;TZID=America/Denver:20241208T180000
DTSTAMP:20260424T110237
CREATED:20241201T200007Z
LAST-MODIFIED:20241201T200007Z
UID:9889-1733673600-1733680800@littletondda.org
SUMMARY:BIG Spicy Gingerbread Workshop
DESCRIPTION:Come craft your own BIG Spicy Gingerbread for your porch or to set near the tree. How big is big? These gingerbread friends stand at a whopping 2 feet tall! The base will be painted brown and open for you to design your own version of a Gingerbread person. \nOnly 6 slots per class are available due to the size of the Gingerbread – so don’t miss your chance to grab one! \nAll pieces and parts will be provided. \nWorkshop hosted by Kris w/ Eye Design Art Studio \nEach Participant must be 16 or older. \nRELAX & SHOP WITH 15% OFF \nAll workshop participants will receive 15% off their purchases on the day of the event.
URL:https://littletondda.org/event/big-spicy-gingerbread-workshop-2/
LOCATION:Lollygag Antiques & Boutique\, 2677 W Alamo Ave\, LIttleton\, CO\, 80120\, United States
CATEGORIES:Classes,Shopping
ATTACH;FMTTYPE=image/webp:https://littletondda.org/wp-content/uploads/2024/12/IMG_1198.webp
END:VEVENT
BEGIN:VEVENT
DTSTART;TZID=America/Denver:20241214T090000
DTEND;TZID=America/Denver:20241214T100000
DTSTAMP:20260424T110237
CREATED:20241104T182333Z
LAST-MODIFIED:20241104T182333Z
UID:9311-1734166800-1734170400@littletondda.org
SUMMARY:Early Bird Shopping Hours at Spell Books
DESCRIPTION:On select Saturday mornings\, stop by at 9am for free coffee and a holiday-themed story time to entertain the kids.
URL:https://littletondda.org/event/early-bird-shopping-hours-at-spell-books-2/
LOCATION:Spell Books\, 2376 W Main Street\, Littleton\, CO\, 80120\, United States
CATEGORIES:Families,Holidays,Shopping
ATTACH;FMTTYPE=image/png:https://littletondda.org/wp-content/uploads/2024/11/Early-Bird-Shopping-Hours.png
END:VEVENT
BEGIN:VEVENT
DTSTART;TZID=America/Denver:20241214T100000
DTEND;TZID=America/Denver:20241214T170000
DTSTAMP:20260424T110237
CREATED:20241118T161639Z
LAST-MODIFIED:20241118T161713Z
UID:9670-1734170400-1734195600@littletondda.org
SUMMARY:✨ Holiday Haven Pop-Up Shop: Gifts & Decor ✨
DESCRIPTION:Step into a winter wonderland at Creative Spaces Co. on Saturday\, December 7th\, from 10 AM to 5 PM! \nFrom beautifully crafted home and office décor to thoughtful gift items\, we’ve curated a selection that will make your holiday shopping both effortless and inspiring. Stop by our design studio to shop gifts\, elevate your holiday décor\, and enjoy a warm\, inviting shopping experience with light refreshments. \nOur store will be dressed in festive décor and fully stocked with gifts for everyone who loves art\, lighting\, home décor\, or has recently moved into a new home or enjoys entertaining company. Whether you’re shopping for loved ones or ensuring your own home or business is holiday-ready\, you’ll find unique treasures to suit every style. \n✨ Don’t Forget Our Exclusive Raffle!\nEach time you attend one of our six pop-ups this season\, you can enter to win amazing prizes\, including a grand prize of a special event hosted in our stunning event space (valued at $3\,000)! Plus\, two beautifully designed décor centerpieces will be given away. You don’t need to be present to win\, so stop by and increase your chances! Winner will be announced at our final event on 12/21/24. \nLet’s come together to celebrate the season and create lasting connections. ✨ \nIf you can’t attend this event\, join us at one of our upcoming pop-ups. The more you visit\, the more opportunities you have to win! \n✨Winter’s Glow: Solstice Pop-Up & Raffle Finale Saturday\, December 21 – 10 am- 3 pm
URL:https://littletondda.org/event/%e2%9c%a8-holiday-haven-pop-up-shop-gifts-decor-%e2%9c%a8-2/
LOCATION:Creative Spaces\, 2595 W Alamo Ave\, Littleton\, CO\, 80120\, United States
CATEGORIES:Holidays,Shopping
ATTACH;FMTTYPE=image/jpeg:https://littletondda.org/wp-content/uploads/2024/11/https___cdn.evbuc_.com_images_900154733_953038876853_1_original.jpg
END:VEVENT
BEGIN:VEVENT
DTSTART;TZID=America/Denver:20241218T170000
DTEND;TZID=America/Denver:20241218T200000
DTSTAMP:20260424T110237
CREATED:20241217T201904Z
LAST-MODIFIED:20241217T201904Z
UID:10063-1734541200-1734552000@littletondda.org
SUMMARY:Holiday Sales Event
DESCRIPTION:Join a few of Downtown Littleton shops and the Dickens Carolers for an evening of shopping.  Shops include: \nUptown & Country Boutique \nLollygag Antiques & Boutique \nLittleton Flower Shop \nJ Claire Women’s Fashion \n*Food and drinks provided!
URL:https://littletondda.org/event/holiday-sales-event/
LOCATION:Downtown Littleton\, 2516 Main St\, Littleton\, CO\, 80120\, United States
CATEGORIES:Live Music,Shopping
ATTACH;FMTTYPE=image/jpeg:https://littletondda.org/wp-content/uploads/2024/12/462568809_534560846288191_6452191427818237811_n-1.jpg
END:VEVENT
BEGIN:VEVENT
DTSTART;TZID=America/Denver:20241220T180000
DTEND;TZID=America/Denver:20241220T200000
DTSTAMP:20260424T110237
CREATED:20241104T181549Z
LAST-MODIFIED:20241104T181549Z
UID:9306-1734717600-1734724800@littletondda.org
SUMMARY:Night Owl Shopping at Spell Books
DESCRIPTION:Get your holiday shopping done after hours.  Plus drinks and one-card tarot pulls.
URL:https://littletondda.org/event/night-owl-shopping-at-spell-books-2/
LOCATION:Spell Books\, 2376 W Main Street\, Littleton\, CO\, 80120\, United States
CATEGORIES:Holidays,Shopping
ATTACH;FMTTYPE=image/png:https://littletondda.org/wp-content/uploads/2024/11/Night-Owl.png
END:VEVENT
BEGIN:VEVENT
DTSTART;TZID=America/Denver:20241221T090000
DTEND;TZID=America/Denver:20241221T100000
DTSTAMP:20260424T110237
CREATED:20241104T184111Z
LAST-MODIFIED:20241104T184111Z
UID:9314-1734771600-1734775200@littletondda.org
SUMMARY:Early Bird Shopping Hours at Spell Books
DESCRIPTION:On select Saturday mornings\, stop by at 9am for free coffee and holiday-themed story time to entertain the kids.
URL:https://littletondda.org/event/early-bird-shopping-hours-at-spell-books-3/
LOCATION:Spell Books\, 2376 W Main Street\, Littleton\, CO\, 80120\, United States
CATEGORIES:Families,Holidays,Shopping
ATTACH;FMTTYPE=image/png:https://littletondda.org/wp-content/uploads/2024/11/Early-Bird-Shopping-Hours.png
END:VEVENT
BEGIN:VEVENT
DTSTART;TZID=America/Denver:20241221T100000
DTEND;TZID=America/Denver:20241221T150000
DTSTAMP:20260424T110237
CREATED:20241118T161834Z
LAST-MODIFIED:20241118T161834Z
UID:9672-1734775200-1734793200@littletondda.org
SUMMARY:Winter’s Glow: Solstice Pop-Up Shop & Raffle Finale ✨
DESCRIPTION:Join us at Creative Spaces Co. on Saturday\, December 21st\, from 10 AM to 5 PM\, for a special Winter Solstice Celebration\, our last pop-up of the year! \nAs the shortest day of the year\, it’s the perfect time to gather\, reflect\, and wrap up the season with one last shopping experience in our festively decorated store. This is your final weekend before the holidays to find unique décor\, last-minute gifts\, and everything you need to create a memorable celebration at home. \nYou are not going to want to miss this…. \n✨ Solstice Candle-Lighting Ceremony\nAt 2:30 PM\, join us for a meaningful community candle-lighting ceremony\, where we’ll welcome the return of the light with warmth and gratitude. Guests can light a candle\, share a moment of reflection\, and participate in our “gratitude wall” activity\, creating a beautiful and festive atmosphere. \n🎉 Raffle Drawing at 3 PM!\nWe’ll also draw the winners of our exclusive holiday raffle\, featuring a grand prize of a hosted event in our elegant space (a $3\,000 value) and two decorative centerpieces. While you don’t need to be present to win\, it’s the perfect chance to join the celebration and maybe take home a surprise! \nEnd the season with joy\, connection\, and one last opportunity to find beautiful items for your holiday home. We look forward to celebrating the solstice with you!
URL:https://littletondda.org/event/winters-glow-solstice-pop-up-shop-raffle-finale-%e2%9c%a8/
LOCATION:Creative Spaces\, 2595 W Alamo Ave\, Littleton\, CO\, 80120\, United States
CATEGORIES:Holidays,Shopping
ATTACH;FMTTYPE=image/jpeg:https://littletondda.org/wp-content/uploads/2024/11/https___cdn.evbuc_.com_images_900172143_953038876853_1_original.jpg
END:VEVENT
END:VCALENDAR