BEGIN:VCALENDAR
VERSION:2.0
PRODID:-//Downtown Littleton - ECPv6.15.18//NONSGML v1.0//EN
CALSCALE:GREGORIAN
METHOD:PUBLISH
X-WR-CALNAME:Downtown Littleton
X-ORIGINAL-URL:https://littletondda.org
X-WR-CALDESC:Events for Downtown Littleton
REFRESH-INTERVAL;VALUE=DURATION:PT1H
X-Robots-Tag:noindex
X-PUBLISHED-TTL:PT1H
BEGIN:VTIMEZONE
TZID:America/Denver
BEGIN:DAYLIGHT
TZOFFSETFROM:-0700
TZOFFSETTO:-0600
TZNAME:MDT
DTSTART:20240310T090000
END:DAYLIGHT
BEGIN:STANDARD
TZOFFSETFROM:-0600
TZOFFSETTO:-0700
TZNAME:MST
DTSTART:20241103T080000
END:STANDARD
BEGIN:DAYLIGHT
TZOFFSETFROM:-0700
TZOFFSETTO:-0600
TZNAME:MDT
DTSTART:20250309T090000
END:DAYLIGHT
BEGIN:STANDARD
TZOFFSETFROM:-0600
TZOFFSETTO:-0700
TZNAME:MST
DTSTART:20251102T080000
END:STANDARD
BEGIN:DAYLIGHT
TZOFFSETFROM:-0700
TZOFFSETTO:-0600
TZNAME:MDT
DTSTART:20260308T090000
END:DAYLIGHT
BEGIN:STANDARD
TZOFFSETFROM:-0600
TZOFFSETTO:-0700
TZNAME:MST
DTSTART:20261101T080000
END:STANDARD
END:VTIMEZONE
BEGIN:VEVENT
DTSTART;TZID=America/Denver:20251002T210000
DTEND;TZID=America/Denver:20251002T220000
DTSTAMP:20260423T213007
CREATED:20250908T175519Z
LAST-MODIFIED:20250908T175519Z
UID:13938-1759438800-1759442400@littletondda.org
SUMMARY:Records on Main: Taylor Swift Party
DESCRIPTION:More information to come soon!
URL:https://littletondda.org/event/records-on-main-taylor-swift-party/
LOCATION:Records on Main\, 2430 Main St\, Littleton\, CO\, 80120\, United States
CATEGORIES:Shopping
ATTACH;FMTTYPE=image/png:https://littletondda.org/wp-content/uploads/2025/08/unnamed-6.png
END:VEVENT
BEGIN:VEVENT
DTSTART;TZID=America/Denver:20251003T180000
DTEND;TZID=America/Denver:20251003T200000
DTSTAMP:20260423T213007
CREATED:20250930T193815Z
LAST-MODIFIED:20250930T193815Z
UID:14486-1759514400-1759521600@littletondda.org
SUMMARY:Spell Books | Friday Night Read and Write
DESCRIPTION:Friday Night Read & Write\n2 hours @ $10.00 \n\n\n\n\n\n\n\nJoin us for a cozy and mostly quiet two hours of reading and/or writing in-store. We’ll have snacks and drinks available. Pick your favorite spot and start your weekend with books and friends. Attendees are welcome to arrive and leave as needed.
URL:https://littletondda.org/event/spell-books-friday-night-read-and-write/
LOCATION:Spell Books\, 2376 W Main Street\, Littleton\, CO\, 80120\, United States
CATEGORIES:Classes,Shopping
ATTACH;FMTTYPE=image/png:https://littletondda.org/wp-content/uploads/2025/09/Screenshot-2025-09-30-at-1.37.45-PM.png
END:VEVENT
BEGIN:VEVENT
DTSTART;VALUE=DATE:20251004
DTEND;VALUE=DATE:20251005
DTSTAMP:20260423T213007
CREATED:20251001T015532Z
LAST-MODIFIED:20251001T015532Z
UID:14538-1759536000-1759622399@littletondda.org
SUMMARY:Original Hardware | 20th Anniversary In-Store Party
DESCRIPTION:This is a big week as we gear up to celebrate our 20th anniversary. We’re so proud and grateful to be thriving after all these years\, doing what we love and sharing it with our incredible customers. Our celebration starts with early VIP access on Thursday and runs through midnight Sunday. We’ll host a party-in-store all day Saturday Oct. 4 and run a special contest in social media.
URL:https://littletondda.org/event/original-hardware-20th-anniversary-in-store-party/
LOCATION:Original Hardware\, 2550 W Main Street\,\, Littleton\, 80120\, United States
CATEGORIES:Shopping
ATTACH;FMTTYPE=image/png:https://littletondda.org/wp-content/uploads/2025/09/Screenshot-2025-09-30-at-7.53.00-PM.png
END:VEVENT
BEGIN:VEVENT
DTSTART;TZID=America/Denver:20251004T110000
DTEND;TZID=America/Denver:20251004T180000
DTSTAMP:20260423T213007
CREATED:20250930T174617Z
LAST-MODIFIED:20250930T174634Z
UID:14480-1759575600-1759600800@littletondda.org
SUMMARY:PSL Fest (Pumpkin Spice Local) at J Claire Women's Fashion
DESCRIPTION:Join us for the event October 4th 11AM to 6PM\nat the shop | JClaire Women’s Fashion\n-2675 West Alamo Ave\, Littleton CO \nShop amazing small businesses from 11AM to 4PM
URL:https://littletondda.org/event/oct-4-11am-4-pm-j-claire-womens-fashion-psl-fest-pumpkin-spice-local-at-j-claire-womens-fashion/
LOCATION:J Claire Women’s Fashion\, 2675 West Alamo Ave\, Littleton\, 80120\, United States
CATEGORIES:Shopping
ATTACH;FMTTYPE=image/png:https://littletondda.org/wp-content/uploads/2025/09/Screenshot-2025-09-30-at-11.45.15-AM.png
END:VEVENT
BEGIN:VEVENT
DTSTART;TZID=America/Denver:20251008T170000
DTEND;TZID=America/Denver:20251008T200000
DTSTAMP:20260423T213007
CREATED:20250929T172828Z
LAST-MODIFIED:20251003T215125Z
UID:14455-1759942800-1759953600@littletondda.org
SUMMARY:Uptown & Country Boo-Tique Halloween Party
DESCRIPTION:Let’s Get Spooky at Uptown & Country BOO-Tique! 🖤🎃\nWe’re throwing a Halloween Party with new Fall & Halloween arrivals — apparel\, jewelry\, decor\, knickknacks & more! 🕸️✨\n👻 Don’t ghost us… come shop\, snack and sip at our spooktacular bash! 😉\n📅 Wednesday\, October 8th || 5–8 PM\n📍 5738 S. Rapp St. Littleton\, CO 80120
URL:https://littletondda.org/event/uptown-country-boo-tique-halloween-party/
LOCATION:Uptown & Country Boutique\, 5738 S Rapp St\, Littleton\, CO\, 80120\, United States
CATEGORIES:Shopping
ATTACH;FMTTYPE=image/png:https://littletondda.org/wp-content/uploads/2025/09/Screenshot-2025-09-29-112708.png
END:VEVENT
BEGIN:VEVENT
DTSTART;TZID=America/Denver:20251014T183000
DTEND;TZID=America/Denver:20251014T203000
DTSTAMP:20260423T213007
CREATED:20251004T235704Z
LAST-MODIFIED:20251004T235704Z
UID:14576-1760466600-1760473800@littletondda.org
SUMMARY:Spooky Music Trivia @ Records on Main
DESCRIPTION:Come test your spooky music trivia talent!
URL:https://littletondda.org/event/spooky-music-trivia-records-on-main/
LOCATION:Records on Main\, 2430 Main St\, Littleton\, CO\, 80120\, United States
CATEGORIES:Classes,Shopping
ATTACH;FMTTYPE=image/png:https://littletondda.org/wp-content/uploads/2025/10/Screenshot-2025-10-04-at-5.55.03-PM.png
END:VEVENT
BEGIN:VEVENT
DTSTART;TZID=America/Denver:20251026T110000
DTEND;TZID=America/Denver:20251026T130000
DTSTAMP:20260423T213007
CREATED:20251005T001514Z
LAST-MODIFIED:20251005T001514Z
UID:14581-1761476400-1761483600@littletondda.org
SUMMARY:Kids Halloween Party @ Records on Main
DESCRIPTION:
URL:https://littletondda.org/event/kids-halloween-party-records-on-main/
LOCATION:Records on Main\, 2430 Main St\, Littleton\, CO\, 80120\, United States
CATEGORIES:Families,Holidays,Shopping
ATTACH;FMTTYPE=image/png:https://littletondda.org/wp-content/uploads/2025/10/Screenshot-2025-10-04-at-5.55.03-PM.png
END:VEVENT
BEGIN:VEVENT
DTSTART;TZID=America/Denver:20251031T100000
DTEND;TZID=America/Denver:20251031T200000
DTSTAMP:20260423T213007
CREATED:20250103T192338Z
LAST-MODIFIED:20250103T192338Z
UID:10275-1761904800-1761940800@littletondda.org
SUMMARY:Final Fridays in Downtown Littleton
DESCRIPTION:Who: Downtown Littleton Merchants\n\nWhat: An event that adds vitality and engages the Littleton community through extended shopping hours and an enhanced downtown experience.\n\nWhen: Occurs on the last Friday of every month throughout 2025.\n\nWhere: Downtown Littleton\n\nFollow us on Instagram for more details: @Final_Fridays_Littleton
URL:https://littletondda.org/event/final-fridays-in-downtown-littleton-19/
LOCATION:Downtown Littleton\, 2516 Main St\, Littleton\, CO\, 80120\, United States
CATEGORIES:Downtown Littleton Signature Event,Shopping
ATTACH;FMTTYPE=application/pdf:https://littletondda.org/wp-content/uploads/2024/07/FinalFridaysPoster_10.16.24-2.pdf
END:VEVENT
END:VCALENDAR