BEGIN:VCALENDAR
VERSION:2.0
PRODID:-//Downtown Littleton - ECPv6.15.18//NONSGML v1.0//EN
CALSCALE:GREGORIAN
METHOD:PUBLISH
X-ORIGINAL-URL:https://littletondda.org
X-WR-CALDESC:Events for Downtown Littleton
REFRESH-INTERVAL;VALUE=DURATION:PT1H
X-Robots-Tag:noindex
X-PUBLISHED-TTL:PT1H
BEGIN:VTIMEZONE
TZID:America/Denver
BEGIN:DAYLIGHT
TZOFFSETFROM:-0700
TZOFFSETTO:-0600
TZNAME:MDT
DTSTART:20240310T090000
END:DAYLIGHT
BEGIN:STANDARD
TZOFFSETFROM:-0600
TZOFFSETTO:-0700
TZNAME:MST
DTSTART:20241103T080000
END:STANDARD
BEGIN:DAYLIGHT
TZOFFSETFROM:-0700
TZOFFSETTO:-0600
TZNAME:MDT
DTSTART:20250309T090000
END:DAYLIGHT
BEGIN:STANDARD
TZOFFSETFROM:-0600
TZOFFSETTO:-0700
TZNAME:MST
DTSTART:20251102T080000
END:STANDARD
BEGIN:DAYLIGHT
TZOFFSETFROM:-0700
TZOFFSETTO:-0600
TZNAME:MDT
DTSTART:20260308T090000
END:DAYLIGHT
BEGIN:STANDARD
TZOFFSETFROM:-0600
TZOFFSETTO:-0700
TZNAME:MST
DTSTART:20261101T080000
END:STANDARD
END:VTIMEZONE
BEGIN:VEVENT
DTSTART;VALUE=DATE:20251105
DTEND;VALUE=DATE:20251210
DTSTAMP:20260423T190507
CREATED:20251031T120713Z
LAST-MODIFIED:20251031T121728Z
UID:14922-1762300800-1765324799@littletondda.org
SUMMARY:Gratitude Event @ Original Hardware (30% off in-stock items)
DESCRIPTION:
URL:https://littletondda.org/event/gratitude-event-original-hardware-30-off-in-stock-items/
LOCATION:Original Hardware\, 2550 W Main Street\,\, Littleton\, 80120\, United States
CATEGORIES:Shopping
ATTACH;FMTTYPE=image/png:https://littletondda.org/wp-content/uploads/2025/10/Screenshot-2025-10-31-at-6.12.24-AM.png
END:VEVENT
BEGIN:VEVENT
DTSTART;VALUE=DATE:20251114
DTEND;VALUE=DATE:20251217
DTSTAMP:20260423T190507
CREATED:20251031T125433Z
LAST-MODIFIED:20251031T125433Z
UID:14937-1763078400-1765929599@littletondda.org
SUMMARY:In-Store Pre-Release Event for Avatar: The Last Airbender @ Playforge
DESCRIPTION:Join us November 14-16th to participate in our in-store prerelease event for Avatar: The Last Airbender\, the newest set for Magic: The Gathering! \nFriday\, Saturday\, or Sunday from 5:00 – 9:00 PM with a new addition time on Saturday from 12:00 – 4:00 PM. This event takes place at Playforge. \nSign up today using the link in our bio! \nWe pride ourselves on being welcoming to all and a casual play space. Every participant will receive prizes.
URL:https://littletondda.org/event/in-store-pre-release-event-for-avatar-the-last-airbender-playforge/
LOCATION:PlayForge\, 2420 Main St\, Ste 100\, Littleton\, CO\, 80120\, United States
CATEGORIES:Families,Shopping
ATTACH;FMTTYPE=image/png:https://littletondda.org/wp-content/uploads/2025/10/Screenshot-2025-10-31-at-6.52.09-AM.png
END:VEVENT
BEGIN:VEVENT
DTSTART;VALUE=DATE:20251128
DTEND;VALUE=DATE:20251230
DTSTAMP:20260423T190507
CREATED:20251031T132406Z
LAST-MODIFIED:20251031T132406Z
UID:14957-1764288000-1767052799@littletondda.org
SUMMARY:Black Friday & Small Business Saturday Sale @ Giggleblossom Boutique
DESCRIPTION:🌸 A charming boutique for women & littles | clothing\, Jellycat\, vintage gems\, local beauty & unique gifts\n👚 We carry adult sizes S – 3XL!\n\n\n\nwww.giggleblossomboutique.com
URL:https://littletondda.org/event/black-friday-small-business-saturday-sale-giggleblossom-boutique/
LOCATION:giggleblossom\, 5654 S Prince St Unit B\, Littleton\, CO\, 80120
CATEGORIES:Families,Holidays,Shopping
ATTACH;FMTTYPE=image/png:https://littletondda.org/wp-content/uploads/2025/10/Screenshot-2025-10-31-at-7.23.48-AM.png
END:VEVENT
BEGIN:VEVENT
DTSTART;TZID=America/Denver:20251203T170000
DTEND;TZID=America/Denver:20251203T200000
DTSTAMP:20260423T190507
CREATED:20251130T121401Z
LAST-MODIFIED:20251130T121401Z
UID:15442-1764781200-1764792000@littletondda.org
SUMMARY:A Night of Holiday Fashion @ Uptown & Country Boutique
DESCRIPTION:Festive fashion and holiday sparkles! \nHoliday raffle & gift with purchase! \nNibbles and holiday cocktails while you shop!
URL:https://littletondda.org/event/a-night-of-holiday-fashion-uptown-country-boutique/
LOCATION:Uptown & Country Boutique\, 5738 S Rapp St\, Littleton\, CO\, 80120\, United States
CATEGORIES:Holidays,Shopping
ATTACH;FMTTYPE=image/png:https://littletondda.org/wp-content/uploads/2025/11/Screenshot-2025-11-30-at-6.08.07-AM.png
END:VEVENT
BEGIN:VEVENT
DTSTART;VALUE=DATE:20251210
DTEND;VALUE=DATE:20251211
DTSTAMP:20260423T190507
CREATED:20251115T150003Z
LAST-MODIFIED:20251115T150233Z
UID:15229-1765324800-1765411199@littletondda.org
SUMMARY:Magic on Main @ Little Man Ice Cream (carriage rides\, carolers\, movies and more!)
DESCRIPTION:Step into a scene straight out of a holiday painting. ✨ \nMagic on Main arrives at Little Man Littleton on November 21\, bringing classic carolers on opening night\, cozy Merry Movies every Tuesday\, and horse-drawn carriage rides on December 10th. \nTake a holiday photo with our Polaroid cameras\, frame it in one of our holiday ornaments\, and take home a little piece of the magic. ❤️🎁 \nCapture an Instagrammable holiday moment at Magic on Main and tag us for bonus points on your Winter Pass. ❄️ \nA timeless holiday awaits… \n📍 2449 Main St\, Littleton\, CO 80120
URL:https://littletondda.org/event/magic-on-main-little-man-ice-cream-carriage-rides-carolers-movies-and-more/
LOCATION:Little Man Ice Cream\, 2449 Main St\, Littleton\, Littleton\, CO\, 80120
CATEGORIES:Families,Food & Drink,Holidays,Shopping
ATTACH;FMTTYPE=image/png:https://littletondda.org/wp-content/uploads/2025/11/Screenshot-2025-11-15-at-7.55.58-AM.png
END:VEVENT
BEGIN:VEVENT
DTSTART;TZID=America/Denver:20251210T170000
DTEND;TZID=America/Denver:20251210T200000
DTSTAMP:20260423T190507
CREATED:20251130T121911Z
LAST-MODIFIED:20251130T121911Z
UID:15445-1765386000-1765396800@littletondda.org
SUMMARY:Stocking Stuffers Party @ Uptown & Country Boutique
DESCRIPTION:More info coming soon!
URL:https://littletondda.org/event/stocking-stuffers-party-uptown-country-boutique/
LOCATION:Uptown & Country Boutique\, 5738 S Rapp St\, Littleton\, CO\, 80120\, United States
CATEGORIES:Holidays,Shopping
ATTACH;FMTTYPE=image/png:https://littletondda.org/wp-content/uploads/2025/11/Screenshot-2025-11-30-at-6.16.20-AM.png
END:VEVENT
BEGIN:VEVENT
DTSTART;TZID=America/Denver:20251211T090000
DTEND;TZID=America/Denver:20251211T180000
DTSTAMP:20260423T190507
CREATED:20251204T200014Z
LAST-MODIFIED:20251204T200014Z
UID:15492-1765443600-1765476000@littletondda.org
SUMMARY:Arapahoe Ceramics Guild Holiday Pottery Sale
DESCRIPTION:The Arapahoe Ceramics Guild Holiday Pottery Sale offers a variety of handmade pottery pieces for sale\, created by students\, faculty\, and community members. Join us in the Half Moon (M1800 – Littleton Campus) on:  \n\nThursday\, December 11 from 9am – 6pm\nFriday\, December 12 from 9am – 6pm \nSaturday\, December 13 from 9am – 3pm\n\nOpen to the public. \nFor more information or accommodations\, contact jonah.skurky-thomas@arapahoe.edu.
URL:https://littletondda.org/event/arapahoe-ceramics-guild-holiday-pottery-sale/
LOCATION:Arapahoe Community College\, 5900 S. Santa Fe Drive\, Littleton\, CO\, 80120\, United States
CATEGORIES:Holidays,Shopping
ATTACH;FMTTYPE=image/png:https://littletondda.org/wp-content/uploads/2025/12/holiday-pottery-sale-dec2025.png
END:VEVENT
BEGIN:VEVENT
DTSTART;TZID=America/Denver:20251212T090000
DTEND;TZID=America/Denver:20251212T180000
DTSTAMP:20260423T190507
CREATED:20251204T200141Z
LAST-MODIFIED:20251204T200141Z
UID:15495-1765530000-1765562400@littletondda.org
SUMMARY:Arapahoe Ceramics Guild Holiday Pottery Sale
DESCRIPTION:The Arapahoe Ceramics Guild Holiday Pottery Sale offers a variety of handmade pottery pieces for sale\, created by students\, faculty\, and community members. Join us in the Half Moon (M1800 – Littleton Campus) on:  \n\nThursday\, December 11 from 9am – 6pm\nFriday\, December 12 from 9am – 6pm \nSaturday\, December 13 from 9am – 3pm\n\nOpen to the public. \nFor more information or accommodations\, contact jonah.skurky-thomas@arapahoe.edu.
URL:https://littletondda.org/event/arapahoe-ceramics-guild-holiday-pottery-sale-2/
LOCATION:Arapahoe Community College\, 5900 S. Santa Fe Drive\, Littleton\, CO\, 80120\, United States
CATEGORIES:Holidays,Shopping
ATTACH;FMTTYPE=image/png:https://littletondda.org/wp-content/uploads/2025/12/holiday-pottery-sale-dec2025.png
END:VEVENT
BEGIN:VEVENT
DTSTART;TZID=America/Denver:20251213T090000
DTEND;TZID=America/Denver:20251213T150000
DTSTAMP:20260423T190507
CREATED:20251204T200256Z
LAST-MODIFIED:20251204T200256Z
UID:15498-1765616400-1765638000@littletondda.org
SUMMARY:Arapahoe Ceramics Guild Holiday Pottery Sale
DESCRIPTION:The Arapahoe Ceramics Guild Holiday Pottery Sale offers a variety of handmade pottery pieces for sale\, created by students\, faculty\, and community members. Join us in the Half Moon (M1800 – Littleton Campus) on:  \n\nThursday\, December 11 from 9am – 6pm\nFriday\, December 12 from 9am – 6pm \nSaturday\, December 13 from 9am – 3pm\n\nOpen to the public. \nFor more information or accommodations\, contact jonah.skurky-thomas@arapahoe.edu.
URL:https://littletondda.org/event/arapahoe-ceramics-guild-holiday-pottery-sale-3/
LOCATION:Arapahoe Community College\, 5900 S. Santa Fe Drive\, Littleton\, CO\, 80120\, United States
CATEGORIES:Holidays,Shopping
ATTACH;FMTTYPE=image/png:https://littletondda.org/wp-content/uploads/2025/12/holiday-pottery-sale-dec2025.png
END:VEVENT
BEGIN:VEVENT
DTSTART;TZID=America/Denver:20251217T170000
DTEND;TZID=America/Denver:20251217T200000
DTSTAMP:20260423T190507
CREATED:20251130T122054Z
LAST-MODIFIED:20251130T122054Z
UID:15448-1765990800-1766001600@littletondda.org
SUMMARY:Jingle and Mingle Party @ Uptown & Country Boutique
DESCRIPTION:More info coming soon!
URL:https://littletondda.org/event/jingle-and-mingle-party-uptown-country-boutique/
LOCATION:Uptown & Country Boutique\, 5738 S Rapp St\, Littleton\, CO\, 80120\, United States
CATEGORIES:Holidays,Shopping
ATTACH;FMTTYPE=image/png:https://littletondda.org/wp-content/uploads/2025/11/Screenshot-2025-11-30-at-6.16.20-AM.png
END:VEVENT
BEGIN:VEVENT
DTSTART;TZID=America/Denver:20251226T100000
DTEND;TZID=America/Denver:20251226T200000
DTSTAMP:20260423T190507
CREATED:20250103T192425Z
LAST-MODIFIED:20250103T192425Z
UID:10279-1766743200-1766779200@littletondda.org
SUMMARY:Final Fridays in Downtown Littleton
DESCRIPTION:Who: Downtown Littleton Merchants\n\nWhat: An event that adds vitality and engages the Littleton community through extended shopping hours and an enhanced downtown experience.\n\nWhen: Occurs on the last Friday of every month throughout 2025.\n\nWhere: Downtown Littleton\n\nFollow us on Instagram for more details: @Final_Fridays_Littleton
URL:https://littletondda.org/event/final-fridays-in-downtown-littleton-21/
LOCATION:Downtown Littleton\, 2516 Main St\, Littleton\, CO\, 80120\, United States
CATEGORIES:Downtown Littleton Signature Event,Shopping
ATTACH;FMTTYPE=application/pdf:https://littletondda.org/wp-content/uploads/2024/07/FinalFridaysPoster_10.16.24-2.pdf
END:VEVENT
END:VCALENDAR