BEGIN:VCALENDAR
VERSION:2.0
PRODID:-//Downtown Littleton - ECPv6.15.18//NONSGML v1.0//EN
CALSCALE:GREGORIAN
METHOD:PUBLISH
X-WR-CALNAME:Downtown Littleton
X-ORIGINAL-URL:https://littletondda.org
X-WR-CALDESC:Events for Downtown Littleton
REFRESH-INTERVAL;VALUE=DURATION:PT1H
X-Robots-Tag:noindex
X-PUBLISHED-TTL:PT1H
BEGIN:VTIMEZONE
TZID:America/Denver
BEGIN:DAYLIGHT
TZOFFSETFROM:-0700
TZOFFSETTO:-0600
TZNAME:MDT
DTSTART:20250309T090000
END:DAYLIGHT
BEGIN:STANDARD
TZOFFSETFROM:-0600
TZOFFSETTO:-0700
TZNAME:MST
DTSTART:20251102T080000
END:STANDARD
BEGIN:DAYLIGHT
TZOFFSETFROM:-0700
TZOFFSETTO:-0600
TZNAME:MDT
DTSTART:20260308T090000
END:DAYLIGHT
BEGIN:STANDARD
TZOFFSETFROM:-0600
TZOFFSETTO:-0700
TZNAME:MST
DTSTART:20261101T080000
END:STANDARD
BEGIN:DAYLIGHT
TZOFFSETFROM:-0700
TZOFFSETTO:-0600
TZNAME:MDT
DTSTART:20270314T090000
END:DAYLIGHT
BEGIN:STANDARD
TZOFFSETFROM:-0600
TZOFFSETTO:-0700
TZNAME:MST
DTSTART:20271107T080000
END:STANDARD
END:VTIMEZONE
BEGIN:VEVENT
DTSTART;VALUE=DATE:20260201
DTEND;VALUE=DATE:20260202
DTSTAMP:20260423T163528
CREATED:20260130T130353Z
LAST-MODIFIED:20260130T130353Z
UID:16290-1769904000-1769990399@littletondda.org
SUMMARY:Sunday Fund-Aid @ Spell Books
DESCRIPTION:10% of sales goes to Immigrant Freedom Fund
URL:https://littletondda.org/event/sunday-fund-aid-spell-books/
LOCATION:Spell Books\, 2376 W Main Street\, Littleton\, CO\, 80120\, United States
CATEGORIES:Charity,Shopping
ATTACH;FMTTYPE=image/png:https://littletondda.org/wp-content/uploads/2026/01/Screenshot-2026-01-30-at-6.02.37-AM.png
END:VEVENT
BEGIN:VEVENT
DTSTART;TZID=America/Denver:20260203T183000
DTEND;TZID=America/Denver:20260203T200000
DTSTAMP:20260423T163528
CREATED:20260129T161132Z
LAST-MODIFIED:20260129T161132Z
UID:16239-1770143400-1770148800@littletondda.org
SUMMARY:Hook & Book @ Spell Books
DESCRIPTION:February Book = Heart the Lover by Lily King\nRegister @ spellbooks.com \n# # # \nFebruary is for (book) lovers! We’ve got a full calendar of events for you this month: \n💕 Sunday Fund-Aid is back\, and this month we are raising money for the Immigrant Freedom Fund\, which helps pay bail for people held in detention at the ICE facility in Aurora \n💕 We’re listening to Heart The Lover and crafting at Hook & Book next week 🧶 \n💕 Cocktail Book Club is SOLD OUT for February and March already\, but we’ll have spring dates coming soon🍹 \n💕 Our pottery painting night with the amazing @glazeandphase still has seats available somehow?! Snag yours before it’s too late! Your ticket includes the cutest heart mug\, all the paints and instruction you’ll need\, plus drinks and snacks 🎨 \n💕 On February 13\, bring the kids to the shop for a special (free!) Valentine’s Day story time with @caitlinrosewrites 📚 \n💕 Join us for one (or more) of our three amazing in-store book clubs this month 📕
URL:https://littletondda.org/event/hook-book-spell-books/
LOCATION:Spell Books\, 2376 W Main Street\, Littleton\, CO\, 80120\, United States
CATEGORIES:Classes,Shopping
ATTACH;FMTTYPE=image/png:https://littletondda.org/wp-content/uploads/2026/01/Screenshot-2026-01-29-at-9.08.20-AM.png
END:VEVENT
BEGIN:VEVENT
DTSTART;TZID=America/Denver:20260204T170000
DTEND;TZID=America/Denver:20260204T200000
DTSTAMP:20260423T163528
CREATED:20260129T175207Z
LAST-MODIFIED:20260129T175207Z
UID:16263-1770224400-1770235200@littletondda.org
SUMMARY:Valentine's Party @ Uptown & Country Boutique
DESCRIPTION:You’re Invited!💖\nCupid’s calling… and so are new arrivals!✨Join us for our Valentine’s Party — chocolate pairings\, wine & bubbles\, and lots of love-worthy finds. Mark your calendar\, grab your bestie and we’ll see you there!💘🍫🥂
URL:https://littletondda.org/event/valentines-party-uptown-country-boutique/
LOCATION:Uptown & Country Boutique\, 5738 S Rapp St\, Littleton\, CO\, 80120\, United States
CATEGORIES:Food & Drink,Holidays,Shopping
ATTACH;FMTTYPE=image/png:https://littletondda.org/wp-content/uploads/2026/01/Screenshot-2026-01-29-at-10.49.44-AM.png
END:VEVENT
BEGIN:VEVENT
DTSTART;TZID=America/Denver:20260205T160000
DTEND;TZID=America/Denver:20260205T180000
DTSTAMP:20260423T163528
CREATED:20260130T133536Z
LAST-MODIFIED:20260130T133536Z
UID:16296-1770307200-1770314400@littletondda.org
SUMMARY:Intro to Sewing @ ElseWear Collective
DESCRIPTION:$80 \n\n\n\nThis course is tailored for those eager to learn sewing or refine your techniques\, while laying the groundwork for future projects! Participants will have the chance to design and craft their own tote bag perfect for a carry-all or a great gift! \nSkills you will learn: \n– Threading the machine & bobbin winding \n– Tension & troubleshooting basics \n– Fundamental construction and seaming techniques \n– Fabric prep\, pinning\, pressing\, spreading & cutting Additional techniques & skills including applique’\, hand-stitching\, pockets\, lining\, buttonholes\, hemming\, repairing existing garments\, repurposing and more are available to explore! \nLet us know how we can tailor your class to suit you best! Join us to unlock your sewing potential and begin your creative journey in sewing and handmade fashion! \nAll materials and tools will be provided. If you have your own materials\, special requests\, or your own machine\, please contact us prior to the class. * Please feel free to reach out for flexible scheduling * Ages 8+ welcome!
URL:https://littletondda.org/event/intro-to-sewing-elsewear-collective/
LOCATION:CO
CATEGORIES:Classes,Families,Shopping
ATTACH;FMTTYPE=image/png:https://littletondda.org/wp-content/uploads/2026/01/Screenshot-2026-01-30-at-6.34.25-AM.png
END:VEVENT
BEGIN:VEVENT
DTSTART;TZID=America/Denver:20260206T180000
DTEND;TZID=America/Denver:20260206T200000
DTSTAMP:20260423T163528
CREATED:20260201T164846Z
LAST-MODIFIED:20260201T164846Z
UID:16338-1770400800-1770408000@littletondda.org
SUMMARY:Iconic Night Prom Runway @ White Oak Boutique
DESCRIPTION:PRADA called… White Oak Boutique answered.\nStep onto the prom runway February 20th\, 6–8 PM\, and see prom looks that slay! \nMore details coming soon!
URL:https://littletondda.org/event/iconic-night-prom-runway-white-oak-boutique/
LOCATION:White Oak Boutique\, 2565 Main St\, Littleton\, CO\, 80120
CATEGORIES:Shopping
ATTACH;FMTTYPE=image/png:https://littletondda.org/wp-content/uploads/2026/02/Screenshot-2026-02-01-at-9.43.55-AM.png
END:VEVENT
BEGIN:VEVENT
DTSTART;TZID=America/Denver:20260207T170000
DTEND;TZID=America/Denver:20260207T210000
DTSTAMP:20260423T163528
CREATED:20260129T154509Z
LAST-MODIFIED:20260129T154535Z
UID:16205-1770483600-1770498000@littletondda.org
SUMMARY:Pajamas & Prosecco Galentine's Day Party @ True Find Boutique
DESCRIPTION:We can’t wait to see you at the Pajamas & Prosecco Galentine’s Day party on February 7th at @truefindboutique ❤️🎀🥂 \n@wanderingbookco will be hosting blind date with a book🎀 \n@studio_charlene will be giving incredible flash tattoos 🍒 \nSee you there 🥰 \nSaturday\, February 7th\n5pm-9pm\nTrue Find Boutique\n2529 W Main Street\nLittleton\, CO 80120
URL:https://littletondda.org/event/pajamas-prosecco-galentines-day-party-true-find-boutique/
LOCATION:True Find Boutique\, 2529 Main St\, Littleton\, CO\, 80120
CATEGORIES:Holidays,Shopping
ATTACH;FMTTYPE=image/png:https://littletondda.org/wp-content/uploads/2026/01/Screenshot-2026-01-29-at-8.42.39-AM.png
END:VEVENT
BEGIN:VEVENT
DTSTART;TZID=America/Denver:20260208T130000
DTEND;TZID=America/Denver:20260208T150000
DTSTAMP:20260423T163528
CREATED:20260130T133124Z
LAST-MODIFIED:20260130T133124Z
UID:16293-1770555600-1770562800@littletondda.org
SUMMARY:In-Person Beginner Watercolor Workshop\, Floral Themed @ Antiqueria
DESCRIPTION:Discover the beauty of watercolor painting in our Beginner Watercolor Workshop on February 8th\, 1pm-3pm! This in-person class is perfect for beginners and will focus on painting beautiful\, Summer Landscape-inspired designs. You’ll learn essential watercolor techniques\, color blending\, and brush control to create your own landscape masterpiece. \nNo prior experience is needed—just bring your creativity! All materials are provided\, and you’ll leave with a finished painting and the confidence to continue exploring watercolor at home. Perfect for ages 12 and up! \n✨ What’s Included:✔️ All painting supplies (watercolors\, brushes\, and paper)✔️ Step-by-step instruction in a relaxed\, supportive environment \nSpaces are limited—sign up today and bring your creativity to life with watercolor! \nCancellation & Refund Policy:\nThis class is non-refundable. If you are unable to attend\, you may transfer your registration credit to a different workshop or class we offer.
URL:https://littletondda.org/event/in-person-beginner-watercolor-workshop-floral-themed-antiqueria/
LOCATION:antiqueria\, 5654 S Prince St A\,\, Littleton\, CO\, 80120
CATEGORIES:Classes,Shopping
ATTACH;FMTTYPE=image/png:https://littletondda.org/wp-content/uploads/2026/01/Screenshot-2026-01-30-at-6.21.17-AM.png
END:VEVENT
BEGIN:VEVENT
DTSTART;TZID=America/Denver:20260212T180000
DTEND;TZID=America/Denver:20260212T200000
DTSTAMP:20260423T163528
CREATED:20260129T161612Z
LAST-MODIFIED:20260129T161612Z
UID:16242-1770919200-1770926400@littletondda.org
SUMMARY:Heart Mug Painting Night @ Spell Books
DESCRIPTION:Heart Mug Painting Night with Glaze & Phase\, $50\, register at spellbooks.com \nFebruary is for (book) lovers! We’ve got a full calendar of events for you this month:\n💕 Sunday Fund-Aid is back\, and this month we are raising money for the Immigrant Freedom Fund\, which helps pay bail for people held in detention at the ICE facility in Aurora\n💕 We’re listening to Heart The Lover and crafting at Hook & Book next week 🧶\n💕 Cocktail Book Club is SOLD OUT for February and March already\, but we’ll have spring dates coming soon🍹\n💕 Our pottery painting night with the amazing @glazeandphase still has seats available somehow?! Snag yours before it’s too late! Your ticket includes the cutest heart mug\, all the paints and instruction you’ll need\, plus drinks and snacks 🎨\n💕 On February 13\, bring the kids to the shop for a special (free!) Valentine’s Day story time with @caitlinrosewrites 📚\n💕 Join us for one (or more) of our three amazing in-store book clubs this month 📕
URL:https://littletondda.org/event/heart-mug-painting-night-spell-books/
LOCATION:Spell Books\, 2376 W Main Street\, Littleton\, CO\, 80120\, United States
CATEGORIES:Classes,Families,Shopping,Workshop
ATTACH;FMTTYPE=image/png:https://littletondda.org/wp-content/uploads/2026/01/Screenshot-2026-01-29-at-9.13.25-AM.png
END:VEVENT
BEGIN:VEVENT
DTSTART;TZID=America/Denver:20260213T110000
DTEND;TZID=America/Denver:20260213T120000
DTSTAMP:20260423T163528
CREATED:20260129T161844Z
LAST-MODIFIED:20260129T161844Z
UID:16245-1770980400-1770984000@littletondda.org
SUMMARY:Valentine's Story Time @ Spell Books (FREE)
DESCRIPTION:💕 On February 13\, bring the kids to the shop for a special (free!) Valentine’s Day story time with @caitlinrosewrites 📚
URL:https://littletondda.org/event/valentines-story-time-spell-books-free/
LOCATION:Spell Books\, 2376 W Main Street\, Littleton\, CO\, 80120\, United States
CATEGORIES:Families,Shopping
ATTACH;FMTTYPE=image/png:https://littletondda.org/wp-content/uploads/2026/01/Screenshot-2026-01-29-at-9.18.02-AM.png
END:VEVENT
BEGIN:VEVENT
DTSTART;TZID=America/Denver:20260214T160000
DTEND;TZID=America/Denver:20260214T200000
DTSTAMP:20260423T163528
CREATED:20260129T155853Z
LAST-MODIFIED:20260129T155853Z
UID:16218-1771084800-1771099200@littletondda.org
SUMMARY:Galentine's Book Party @ ROCKER Spirits
DESCRIPTION:We will bring all the fictional best book boyfriends and bad exes\, you bring your besties! \nWe will have a blast with books\, make your own bookish wine charms\, flash bookish tattoos\, permanent jewelry and of course delicious cocktails by @rockerspirits. \nAlso blind date giveaways all night! \nTotally free to come\, the more the merrier! \n@lnkdpermanentjewelry_denverco
URL:https://littletondda.org/event/galentines-book-party-rocker-spirits/
LOCATION:Rocker Spirits\, 5587 S Hill Street\, Littleton\, CO\, 80120\, United States
CATEGORIES:Holidays,Shopping
ATTACH;FMTTYPE=image/png:https://littletondda.org/wp-content/uploads/2026/01/Screenshot-2026-01-29-at-8.56.08-AM.png
END:VEVENT
BEGIN:VEVENT
DTSTART;TZID=America/Denver:20260219T190000
DTEND;TZID=America/Denver:20260219T203000
DTSTAMP:20260423T163528
CREATED:20260129T162153Z
LAST-MODIFIED:20260129T162153Z
UID:16248-1771527600-1771533000@littletondda.org
SUMMARY:Random Book Club w/ Corey @ Spell Books
DESCRIPTION:Temporary by Hilary Leichter \n$15 \nRegister at www.spellbooksco.com \n 
URL:https://littletondda.org/event/random-book-club-w-corey-spell-books/
LOCATION:Spell Books\, 2376 W Main Street\, Littleton\, CO\, 80120\, United States
CATEGORIES:Classes,Shopping
ATTACH;FMTTYPE=image/png:https://littletondda.org/wp-content/uploads/2026/01/Screenshot-2026-01-29-at-9.21.30-AM.png
END:VEVENT
BEGIN:VEVENT
DTSTART;TZID=America/Denver:20260225T190000
DTEND;TZID=America/Denver:20260225T203000
DTSTAMP:20260423T163528
CREATED:20260129T162339Z
LAST-MODIFIED:20260129T162339Z
UID:16253-1772046000-1772051400@littletondda.org
SUMMARY:Fantasy Book Club with Emma @ Spell Book
DESCRIPTION:Graceless Heart by Isabel Ibanez \n$15 \nRegister at www.spellbooksco.com
URL:https://littletondda.org/event/fantasy-book-club-with-emma-spell-book/
LOCATION:Spell Books\, 2376 W Main Street\, Littleton\, CO\, 80120\, United States
CATEGORIES:Classes,Shopping
ATTACH;FMTTYPE=image/png:https://littletondda.org/wp-content/uploads/2026/01/Screenshot-2026-01-29-at-9.22.10-AM.png
END:VEVENT
BEGIN:VEVENT
DTSTART;TZID=America/Denver:20260226T180000
DTEND;TZID=America/Denver:20260226T193000
DTSTAMP:20260423T163528
CREATED:20251230T043833Z
LAST-MODIFIED:20251230T043833Z
UID:15799-1772128800-1772134200@littletondda.org
SUMMARY:Craft a Botanical Love Blend @ Bridget's Botanicals
DESCRIPTION:Craft a botanical love elixir or herbal tea blend with herbal aphrodisiacs.\nDuration\n1.5 hours \nAbout\nAphrodisiacs\, known for their ability to enhance relationships\, sexual vitality\, and connection\, have captivated people for centuries. Come join us at Bridget’s Botanicals for a Date Night blending up your own unique botanical love elixir or herbal tea featuring aphrodisiac favorites! We’ll dive into how these delicious herbs can add a spark to your relationship while also enhancing your overall health and well-being. \nThe perfect date night for couples\, double dates\, and beyond! \nMore Info\n\nIncludes a botanical beverage and craft chocolate.\nIncludes a take home choice of an herbal elixir or herbal tea blend per couple.\nYou may bring your own additional beverages (like a bottle of your favorite wine!) and we can provide glasses.\nBring your friend\, a date\, your partner…whomever you’d like to share this fun experience with! Your experience will be catered to who your date is for the night. Multiple couples or people welcome!\nParking is available on the street\, or at the RTD parking lot 1 block away.
URL:https://littletondda.org/event/craft-a-botanical-love-blend-bridgets-botanicals/
LOCATION:Bridget’s Botanicals\, 5733 S Prince St\, Littleton\, CO\, 80120\, United States
CATEGORIES:Classes,Shopping
ATTACH;FMTTYPE=image/png:https://littletondda.org/wp-content/uploads/2025/12/Screenshot-2025-12-29-at-9.37.40-PM.png
END:VEVENT
BEGIN:VEVENT
DTSTART;TZID=America/Denver:20260226T190000
DTEND;TZID=America/Denver:20260226T210000
DTSTAMP:20260423T163528
CREATED:20260130T130032Z
LAST-MODIFIED:20260130T130032Z
UID:16286-1772132400-1772139600@littletondda.org
SUMMARY:Small Press & World Lit Book Club @ Spell Books
DESCRIPTION:$15 \nCome prepared to discuss the text while enjoying time with fellow readers. We’ll have snacks and drinks to share. \nFebruary: Time Shelter by Georgi Gospodinov\nMarch: Woman Running in the Mountains by Yūko Tsushima
URL:https://littletondda.org/event/small-press-world-lit-book-club-spell-books-2/
LOCATION:CO
CATEGORIES:Classes,Shopping
ATTACH;FMTTYPE=image/png:https://littletondda.org/wp-content/uploads/2026/01/Screenshot-2026-01-30-at-5.52.06-AM.png
END:VEVENT
END:VCALENDAR