BEGIN:VCALENDAR
VERSION:2.0
PRODID:-//Downtown Littleton - ECPv6.15.18//NONSGML v1.0//EN
CALSCALE:GREGORIAN
METHOD:PUBLISH
X-WR-CALNAME:Downtown Littleton
X-ORIGINAL-URL:https://littletondda.org
X-WR-CALDESC:Events for Downtown Littleton
REFRESH-INTERVAL;VALUE=DURATION:PT1H
X-Robots-Tag:noindex
X-PUBLISHED-TTL:PT1H
BEGIN:VTIMEZONE
TZID:America/Denver
BEGIN:DAYLIGHT
TZOFFSETFROM:-0700
TZOFFSETTO:-0600
TZNAME:MDT
DTSTART:20250309T090000
END:DAYLIGHT
BEGIN:STANDARD
TZOFFSETFROM:-0600
TZOFFSETTO:-0700
TZNAME:MST
DTSTART:20251102T080000
END:STANDARD
BEGIN:DAYLIGHT
TZOFFSETFROM:-0700
TZOFFSETTO:-0600
TZNAME:MDT
DTSTART:20260308T090000
END:DAYLIGHT
BEGIN:STANDARD
TZOFFSETFROM:-0600
TZOFFSETTO:-0700
TZNAME:MST
DTSTART:20261101T080000
END:STANDARD
BEGIN:DAYLIGHT
TZOFFSETFROM:-0700
TZOFFSETTO:-0600
TZNAME:MDT
DTSTART:20270314T090000
END:DAYLIGHT
BEGIN:STANDARD
TZOFFSETFROM:-0600
TZOFFSETTO:-0700
TZNAME:MST
DTSTART:20271107T080000
END:STANDARD
END:VTIMEZONE
BEGIN:VEVENT
DTSTART;TZID=America/Denver:20260514T160000
DTEND;TZID=America/Denver:20260514T200000
DTSTAMP:20260423T153558
CREATED:20260330T204952Z
LAST-MODIFIED:20260330T204952Z
UID:17296-1778774400-1778788800@littletondda.org
SUMMARY:Ladies Only Sample Tour 2026
DESCRIPTION:Stroll the Original Shopping Districts and “sample” all there is to offer.\nFabulous Freebies await you in dozens of stores when you get “LOST.”\nBring your mother\, sister\, daughter or friends & have a fabulous night out!\n\n\n\n\nLOST HAPPENS IN LITTLETON ON MAY 14\, 2026!\n\nBracelets will go on sale the week of April 27. More information will be posted closer to that date.\n\n\n\n\nThis site will be updated with participating merchants and details.\nYou can also see updates and the latest LOST news on our Facebook page. Like us and get notified right away!\n\n\n\n\n\n\n 
URL:https://littletondda.org/event/ladies-only-sample-tour-2026/
LOCATION:Downtown Littleton\, 2516 Main St\, Littleton\, CO\, 80120\, United States
CATEGORIES:Shopping
ATTACH;FMTTYPE=image/png:https://littletondda.org/wp-content/uploads/2024/02/unnamed-1.png
END:VEVENT
BEGIN:VEVENT
DTSTART;TZID=America/Denver:20260516T110000
DTEND;TZID=America/Denver:20260516T170000
DTSTAMP:20260423T153558
CREATED:20260206T162343Z
LAST-MODIFIED:20260320T181723Z
UID:16376-1778929200-1778950800@littletondda.org
SUMMARY:Littleton Spring Bazaar
DESCRIPTION:Denver BAZAAR returns to the streets of Littleton for its second year. We are bringing 80 plus local makers\, street food\, and the neighborhood’s favorite outdoor bar back to South Nevada Street. Start your morning with a YogaSix flow and stay for the mimosas. Shop for Father’s Day and find gifts that you can’t get online! Live music\, dogs everywhere\, and conversations with people who actually make things. \nOpen both Saturday and Sunday from 11AM-5PM.
URL:https://littletondda.org/event/littleton-spring-bazaar/
LOCATION:Reinke Bros Inc.\, 5663 South Prince Street\, Littleton\, CO\, 80120\, United States
CATEGORIES:Families,Food & Drink,Shopping
ATTACH;FMTTYPE=image/jpeg:https://littletondda.org/wp-content/uploads/2026/02/littleton-flyer-feed.jpg
END:VEVENT
BEGIN:VEVENT
DTSTART;TZID=America/Denver:20260517T110000
DTEND;TZID=America/Denver:20260517T170000
DTSTAMP:20260423T153558
CREATED:20260320T182127Z
LAST-MODIFIED:20260320T182127Z
UID:17191-1779015600-1779037200@littletondda.org
SUMMARY:Littleton Spring Bazaar
DESCRIPTION:Denver BAZAAR returns to the streets of Littleton for its second year. We are bringing 80 plus local makers\, street food\, and the neighborhood’s favorite outdoor bar back to South Nevada Street. Start your morning with a YogaSix flow and stay for the mimosas. Shop for Father’s Day and find gifts that you can’t get online! Live music\, dogs everywhere\, and conversations with people who actually make things. \nOpen both Saturday and Sunday from 11AM-5PM.
URL:https://littletondda.org/event/littleton-spring-bazaar-2/
LOCATION:Reinke Bros Inc.\, 5663 South Prince Street\, Littleton\, CO\, 80120\, United States
CATEGORIES:Families,Food & Drink,Shopping
ATTACH;FMTTYPE=image/jpeg:https://littletondda.org/wp-content/uploads/2026/02/littleton-flyer-feed.jpg
END:VEVENT
END:VCALENDAR